BEGIN:VCALENDAR
VERSION:2.0
PRODID:-//CSUN News &amp; Events - ECPv6.11.2//NONSGML v1.0//EN
CALSCALE:GREGORIAN
METHOD:PUBLISH
X-ORIGINAL-URL:https://news.csun.edu
X-WR-CALDESC:Events for CSUN News &amp; Events
REFRESH-INTERVAL;VALUE=DURATION:PT1H
X-Robots-Tag:noindex
X-PUBLISHED-TTL:PT1H
BEGIN:VTIMEZONE
TZID:America/Los_Angeles
BEGIN:DAYLIGHT
TZOFFSETFROM:-0800
TZOFFSETTO:-0700
TZNAME:PDT
DTSTART:20260308T100000
END:DAYLIGHT
BEGIN:STANDARD
TZOFFSETFROM:-0700
TZOFFSETTO:-0800
TZNAME:PST
DTSTART:20261101T090000
END:STANDARD
END:VTIMEZONE
BEGIN:VEVENT
DTSTART;TZID=America/Los_Angeles:20260520T183000
DTEND;TZID=America/Los_Angeles:20260520T193000
DTSTAMP:20260422T025108
CREATED:20251126T205430Z
LAST-MODIFIED:20251126T205430Z
UID:10009290-1779301800-1779305400@news.csun.edu
SUMMARY:Parents of Adult Consumers
DESCRIPTION:Join us for a monthly support group created specifically for parents and caregivers of adult North Los Angeles County Regional Center consumers. This group offers a space to share experiences\, ask questions\, and connect with others on a similar journey. \n\nMeetings take place on the 3rd Wednesday of each month.\nTo register\, please contact Victoria at victoria.berrey@csun.edu. \nMeeting Time: 6:30PM\nMeeting Dates: \n\n\n\n\nJanuary 21\nFebruary 18\nMarch 18\nApril 15\nMay 20\nJune 17\nJuly – no meeting\nAugust 19\nSeptember 16\nOctober 21\nNovember 18\nDecember- no meeting
URL:https://news.csun.edu/event/parents-of-adult-consumers-3/2026-05-20/
LOCATION:Online via Zoom
CATEGORIES:Family Focus Resource Center,Family Focus Resource Center Parent Support Groups
ATTACH;FMTTYPE=image/png:https://news.csun.edu/wp-content/uploads/2025/11/2026-Parents-of-Adult-Consumers-1000x533-1.png
END:VEVENT
BEGIN:VEVENT
DTSTART;TZID=America/Los_Angeles:20260617T183000
DTEND;TZID=America/Los_Angeles:20260617T193000
DTSTAMP:20260422T025108
CREATED:20251126T205430Z
LAST-MODIFIED:20251126T205430Z
UID:10009291-1781721000-1781724600@news.csun.edu
SUMMARY:Parents of Adult Consumers
DESCRIPTION:Join us for a monthly support group created specifically for parents and caregivers of adult North Los Angeles County Regional Center consumers. This group offers a space to share experiences\, ask questions\, and connect with others on a similar journey. \n\nMeetings take place on the 3rd Wednesday of each month.\nTo register\, please contact Victoria at victoria.berrey@csun.edu. \nMeeting Time: 6:30PM\nMeeting Dates: \n\n\n\n\nJanuary 21\nFebruary 18\nMarch 18\nApril 15\nMay 20\nJune 17\nJuly – no meeting\nAugust 19\nSeptember 16\nOctober 21\nNovember 18\nDecember- no meeting
URL:https://news.csun.edu/event/parents-of-adult-consumers-3/2026-06-17/
LOCATION:Online via Zoom
CATEGORIES:Family Focus Resource Center,Family Focus Resource Center Parent Support Groups
ATTACH;FMTTYPE=image/png:https://news.csun.edu/wp-content/uploads/2025/11/2026-Parents-of-Adult-Consumers-1000x533-1.png
END:VEVENT
BEGIN:VEVENT
DTSTART;TZID=America/Los_Angeles:20260819T183000
DTEND;TZID=America/Los_Angeles:20260819T193000
DTSTAMP:20260422T025108
CREATED:20251126T205430Z
LAST-MODIFIED:20251126T205430Z
UID:10009292-1787164200-1787167800@news.csun.edu
SUMMARY:Parents of Adult Consumers
DESCRIPTION:Join us for a monthly support group created specifically for parents and caregivers of adult North Los Angeles County Regional Center consumers. This group offers a space to share experiences\, ask questions\, and connect with others on a similar journey. \n\nMeetings take place on the 3rd Wednesday of each month.\nTo register\, please contact Victoria at victoria.berrey@csun.edu. \nMeeting Time: 6:30PM\nMeeting Dates: \n\n\n\n\nJanuary 21\nFebruary 18\nMarch 18\nApril 15\nMay 20\nJune 17\nJuly – no meeting\nAugust 19\nSeptember 16\nOctober 21\nNovember 18\nDecember- no meeting
URL:https://news.csun.edu/event/parents-of-adult-consumers-3/2026-08-19/
LOCATION:Online via Zoom
CATEGORIES:Family Focus Resource Center,Family Focus Resource Center Parent Support Groups
ATTACH;FMTTYPE=image/png:https://news.csun.edu/wp-content/uploads/2025/11/2026-Parents-of-Adult-Consumers-1000x533-1.png
END:VEVENT
BEGIN:VEVENT
DTSTART;TZID=America/Los_Angeles:20260916T183000
DTEND;TZID=America/Los_Angeles:20260916T193000
DTSTAMP:20260422T025108
CREATED:20251126T205430Z
LAST-MODIFIED:20251126T205430Z
UID:10009293-1789583400-1789587000@news.csun.edu
SUMMARY:Parents of Adult Consumers
DESCRIPTION:Join us for a monthly support group created specifically for parents and caregivers of adult North Los Angeles County Regional Center consumers. This group offers a space to share experiences\, ask questions\, and connect with others on a similar journey. \n\nMeetings take place on the 3rd Wednesday of each month.\nTo register\, please contact Victoria at victoria.berrey@csun.edu. \nMeeting Time: 6:30PM\nMeeting Dates: \n\n\n\n\nJanuary 21\nFebruary 18\nMarch 18\nApril 15\nMay 20\nJune 17\nJuly – no meeting\nAugust 19\nSeptember 16\nOctober 21\nNovember 18\nDecember- no meeting
URL:https://news.csun.edu/event/parents-of-adult-consumers-3/2026-09-16/
LOCATION:Online via Zoom
CATEGORIES:Family Focus Resource Center,Family Focus Resource Center Parent Support Groups
ATTACH;FMTTYPE=image/png:https://news.csun.edu/wp-content/uploads/2025/11/2026-Parents-of-Adult-Consumers-1000x533-1.png
END:VEVENT
BEGIN:VEVENT
DTSTART;TZID=America/Los_Angeles:20261021T183000
DTEND;TZID=America/Los_Angeles:20261021T193000
DTSTAMP:20260422T025108
CREATED:20251126T205430Z
LAST-MODIFIED:20251126T205430Z
UID:10009294-1792607400-1792611000@news.csun.edu
SUMMARY:Parents of Adult Consumers
DESCRIPTION:Join us for a monthly support group created specifically for parents and caregivers of adult North Los Angeles County Regional Center consumers. This group offers a space to share experiences\, ask questions\, and connect with others on a similar journey. \n\nMeetings take place on the 3rd Wednesday of each month.\nTo register\, please contact Victoria at victoria.berrey@csun.edu. \nMeeting Time: 6:30PM\nMeeting Dates: \n\n\n\n\nJanuary 21\nFebruary 18\nMarch 18\nApril 15\nMay 20\nJune 17\nJuly – no meeting\nAugust 19\nSeptember 16\nOctober 21\nNovember 18\nDecember- no meeting
URL:https://news.csun.edu/event/parents-of-adult-consumers-3/2026-10-21/
LOCATION:Online via Zoom
CATEGORIES:Family Focus Resource Center,Family Focus Resource Center Parent Support Groups
ATTACH;FMTTYPE=image/png:https://news.csun.edu/wp-content/uploads/2025/11/2026-Parents-of-Adult-Consumers-1000x533-1.png
END:VEVENT
BEGIN:VEVENT
DTSTART;TZID=America/Los_Angeles:20261118T183000
DTEND;TZID=America/Los_Angeles:20261118T193000
DTSTAMP:20260422T025108
CREATED:20251126T205430Z
LAST-MODIFIED:20251126T205430Z
UID:10009295-1795026600-1795030200@news.csun.edu
SUMMARY:Parents of Adult Consumers
DESCRIPTION:Join us for a monthly support group created specifically for parents and caregivers of adult North Los Angeles County Regional Center consumers. This group offers a space to share experiences\, ask questions\, and connect with others on a similar journey. \n\nMeetings take place on the 3rd Wednesday of each month.\nTo register\, please contact Victoria at victoria.berrey@csun.edu. \nMeeting Time: 6:30PM\nMeeting Dates: \n\n\n\n\nJanuary 21\nFebruary 18\nMarch 18\nApril 15\nMay 20\nJune 17\nJuly – no meeting\nAugust 19\nSeptember 16\nOctober 21\nNovember 18\nDecember- no meeting
URL:https://news.csun.edu/event/parents-of-adult-consumers-3/2026-11-18/
LOCATION:Online via Zoom
CATEGORIES:Family Focus Resource Center,Family Focus Resource Center Parent Support Groups
ATTACH;FMTTYPE=image/png:https://news.csun.edu/wp-content/uploads/2025/11/2026-Parents-of-Adult-Consumers-1000x533-1.png
END:VEVENT
END:VCALENDAR