BEGIN:VCALENDAR
VERSION:2.0
PRODID:-//CSUN News &amp; Events - ECPv6.11.2//NONSGML v1.0//EN
CALSCALE:GREGORIAN
METHOD:PUBLISH
X-WR-CALNAME:CSUN News &amp; Events
X-ORIGINAL-URL:https://news.csun.edu
X-WR-CALDESC:Events for CSUN News &amp; Events
REFRESH-INTERVAL;VALUE=DURATION:PT1H
X-Robots-Tag:noindex
X-PUBLISHED-TTL:PT1H
BEGIN:VTIMEZONE
TZID:America/Los_Angeles
BEGIN:DAYLIGHT
TZOFFSETFROM:-0800
TZOFFSETTO:-0700
TZNAME:PDT
DTSTART:20230312T100000
END:DAYLIGHT
BEGIN:STANDARD
TZOFFSETFROM:-0700
TZOFFSETTO:-0800
TZNAME:PST
DTSTART:20231105T090000
END:STANDARD
END:VTIMEZONE
BEGIN:VEVENT
DTSTART;VALUE=DATE:20231130
DTEND;VALUE=DATE:20231201
DTSTAMP:20260420T065122
CREATED:20251028T225552Z
LAST-MODIFIED:20251028T225839Z
UID:10008901-1701302400-1701388799@news.csun.edu
SUMMARY:Study abroad in China program promotion
DESCRIPTION:Students who have taken CHIN101 or CHIN 102\, are encouraged to apply for the American Short-term Study in China Initiative (ASSCI) scholarship to study in China. A workshop sponsored by Chinese Consulate in LA was conducted on 11/30/2023. Three education consuls presented the scholarship details\, previous recipients for this scholarship shared their experience in study and live in China\, eight faculty and more than 20 students participated the event.
URL:https://news.csun.edu/event/study-abroad-in-china-program-promotion/
END:VEVENT
END:VCALENDAR