BEGIN:VCALENDAR
VERSION:2.0
PRODID:-//CSUN News &amp; Events - ECPv6.11.2//NONSGML v1.0//EN
CALSCALE:GREGORIAN
METHOD:PUBLISH
X-WR-CALNAME:CSUN News &amp; Events
X-ORIGINAL-URL:https://news.csun.edu
X-WR-CALDESC:Events for CSUN News &amp; Events
REFRESH-INTERVAL;VALUE=DURATION:PT1H
X-Robots-Tag:noindex
X-PUBLISHED-TTL:PT1H
BEGIN:VTIMEZONE
TZID:America/Los_Angeles
BEGIN:DAYLIGHT
TZOFFSETFROM:-0800
TZOFFSETTO:-0700
TZNAME:PDT
DTSTART:20260308T100000
END:DAYLIGHT
BEGIN:STANDARD
TZOFFSETFROM:-0700
TZOFFSETTO:-0800
TZNAME:PST
DTSTART:20261101T090000
END:STANDARD
END:VTIMEZONE
BEGIN:VEVENT
DTSTART;TZID=America/Los_Angeles:20260506T180000
DTEND;TZID=America/Los_Angeles:20260506T190000
DTSTAMP:20260421T142432
CREATED:20260213T193303Z
LAST-MODIFIED:20260407T183700Z
UID:10010706-1778090400-1778094000@news.csun.edu
SUMMARY:Revising with confidence
DESCRIPTION:To revise means to “see again” and this process is exactly what we hope to teach you in our hands on\, how to workshop about the art of revising your work! \nWe will cover how to check for/work on: \n\n Difference between revision and proofreading\nPrompt address and synthesis of information\nBalance between various elements of essay\nFocus consistency\nOrganization and order\nDevelopment and detail\nClosing clearly and correctly\n\nJoin us! \nHow to sign up:\n\nLog in to EAB.\nSelect the blue “Schedule appointment or view drop-in availability” button on the top right.\nOn the next screen\, select “Learning Resource Center (LRC)” from the first drop-down menu.\nUnder “Reason for your appointment\,” select the desired workshop. You must sign up more than one hour prior to the start of the workshop. \nYou may input your desired date. Then\, select “Find Available Time.” You will be taken to a screen which displays all currently available workshop dates and times.\nSelect the “appointment” time (the day and time of the workshop\, usually displayed within an oval). \nThen\, read the appointment details for important information\, such as the Zoom link for online workshops. In the “Would you like to share anything else?” box\, please include the words “proof needed” and your professor’s email address if you’d like us to send proof of attendance\, and any other important information such as whether you will be joined by an interpreter.\nSelect what type of reminders you’d like to receive and then select “Schedule.”\nYou can verify and cancel your workshop registration at any time by clicking “View Appointments.”\n\nIMPORTANT: If you need proof of attendance\, please put “proof needed\,” the course name\, and your instructor’s name and email address in the comments box on EAB. \nPlease call us at (818) 677-2033 or email onlinelrc@csun.edu with any questions or for assistance with registration.
URL:https://news.csun.edu/event/revising-with-confidence/
LOCATION:Zoom
CATEGORIES:Writing Center
END:VEVENT
BEGIN:VEVENT
DTSTART;TZID=America/Los_Angeles:20260507T120000
DTEND;TZID=America/Los_Angeles:20260507T150000
DTSTAMP:20260421T142432
CREATED:20260316T010526Z
LAST-MODIFIED:20260409T231718Z
UID:10010969-1778155200-1778166000@news.csun.edu
SUMMARY:Drop-In Writing and Support Space
DESCRIPTION:Need a focused space on campus to make meaningful progress on your upcoming essay or writing assignment? Join us at the LRC Writing Center for dedicated writing time with quick\, on-the-spot support available from a writing consultant. Bring a friend and get some work done together! NO APPOINTMENT NEEDED—JUST DROP IN! \nLRC proof of attendance is available for those who actively work on a writing project during their visit.
URL:https://news.csun.edu/event/drop-in-writing-support-space/2026-05-07/
LOCATION:LRC Writing Center
CATEGORIES:Writing Center
END:VEVENT
BEGIN:VEVENT
DTSTART;TZID=America/Los_Angeles:20260508T130000
DTEND;TZID=America/Los_Angeles:20260508T140000
DTSTAMP:20260421T142432
CREATED:20260213T193358Z
LAST-MODIFIED:20260406T191435Z
UID:10010707-1778245200-1778248800@news.csun.edu
SUMMARY:Proofread like a professional
DESCRIPTION:Are you looking for strategies to polish and perfect your writing? This one-hour workshop will provide you with techniques for proofing your assignment before you hand it in. \nThis workshop will: \n\nClarify the difference between proofreading and revision\nExplain the importance of carefully and critically re-reading your work\nIntroduce you to proofreading tools and tricks that allow you to find and fix your errors\n\nHow to sign up:\n\nLog in to EAB.\nSelect the blue “Schedule appointment or view drop-in availability” button on the top right.\nOn the next screen\, select “Learning Resource Center (LRC)” from the first drop-down menu.\nUnder “Reason for your appointment\,” select the desired workshop. You must sign up more than one hour prior to the start of the workshop. \nYou may input your desired date. Then\, select “Find Available Time.” You will be taken to a screen which displays all currently available workshop dates and times.\nSelect the “appointment” time (the day and time of the workshop\, usually displayed within an oval). \nThen\, read the appointment details for important information\, such as the Zoom link for online workshops. In the “Would you like to share anything else?” box\, please include the words “proof needed” and your professor’s email address if you’d like us to send proof of attendance\, and any other important information such as whether you will be joined by an interpreter.\nSelect what type of reminders you’d like to receive and then select “Schedule.”\nYou can verify and cancel your workshop registration at any time by clicking “View Appointments.”\n\nIMPORTANT: If you need proof of attendance\, please put “proof needed\,” the course name\, and your instructor’s name and email address in the comments box on EAB. \nPlease call us at (818) 677-2033 or email onlinelrc@csun.edu with any questions or for assistance with registration.
URL:https://news.csun.edu/event/proofread-like-a-professional-2/
LOCATION:Zoom
CATEGORIES:Writing Center
END:VEVENT
END:VCALENDAR