BEGIN:VCALENDAR
VERSION:2.0
PRODID:-//CSUN News &amp; Events - ECPv6.11.2//NONSGML v1.0//EN
CALSCALE:GREGORIAN
METHOD:PUBLISH
X-WR-CALNAME:CSUN News &amp; Events
X-ORIGINAL-URL:https://news.csun.edu
X-WR-CALDESC:Events for CSUN News &amp; Events
REFRESH-INTERVAL;VALUE=DURATION:PT1H
X-Robots-Tag:noindex
X-PUBLISHED-TTL:PT1H
BEGIN:VTIMEZONE
TZID:America/Los_Angeles
BEGIN:DAYLIGHT
TZOFFSETFROM:-0800
TZOFFSETTO:-0700
TZNAME:PDT
DTSTART:20260308T100000
END:DAYLIGHT
BEGIN:STANDARD
TZOFFSETFROM:-0700
TZOFFSETTO:-0800
TZNAME:PST
DTSTART:20261101T090000
END:STANDARD
END:VTIMEZONE
BEGIN:VEVENT
DTSTART;TZID=America/Los_Angeles:20260204T100000
DTEND;TZID=America/Los_Angeles:20260204T140000
DTSTAMP:20260423T091550
CREATED:20260115T004028Z
LAST-MODIFIED:20260402T215032Z
UID:10009745-1770199200-1770213600@news.csun.edu
SUMMARY:The Blend
DESCRIPTION:Learn about valuable veteran resources from external partners at The Blend. Each month will feature a different Veteran Service Organization\, so stop by the VRC for each session.
URL:https://news.csun.edu/event/the-blend-4/2026-02-04/
LOCATION:Veterans Resource Center\, University Student Union\, 18111 Nordhoff St.\, Northridge\, CA\, 91330-8272\, United States
CATEGORIES:University Student Union,Veterans Resource Center
ATTACH;FMTTYPE=image/png:https://news.csun.edu/wp-content/uploads/2026/01/826702342-calendar-vrctheblend_sp26.png
ORGANIZER;CN="USU Veterans Resource Center":MAILTO:vrc@csun.edu
GEO:34.2396586826;-118.525485205
X-APPLE-STRUCTURED-LOCATION;VALUE=URI;X-ADDRESS=Veterans Resource Center University Student Union 18111 Nordhoff St. Northridge CA 91330-8272 United States;X-APPLE-RADIUS=500;X-TITLE=18111 Nordhoff St.:geo:-118.525485205,34.2396586826
END:VEVENT
BEGIN:VEVENT
DTSTART;TZID=America/Los_Angeles:20260204T120000
DTEND;TZID=America/Los_Angeles:20260204T140000
DTSTAMP:20260423T091550
CREATED:20260115T003305Z
LAST-MODIFIED:20260122T191314Z
UID:10009733-1770206400-1770213600@news.csun.edu
SUMMARY:Vets Uncensored
DESCRIPTION:Attention CSUN veterans\, reservists and National Guard members! Come share your experiences\, engage in meaningful conversations and build community at Vets Uncensored.  \nRetired Marine Corps veteran and University Counseling Services member Dr. Abram Milton will help us navigate these conversations and refreshments will be provided\, so come connect with your veteran village.  \n  \nDo you need interpretation for an event? If so\, please fill out the Interpreting Services Request Form at least seven business days prior to the event. 
URL:https://news.csun.edu/event/vets-uncensored/2026-02-04/
LOCATION:Altadena Room\, East Conference Center\, University Student Union\, 18111 Nordhoff St.\, Northridge\, CA\, 91330-8272\, United States
CATEGORIES:University Student Union,Veterans Resource Center
ATTACH;FMTTYPE=image/png:https://news.csun.edu/wp-content/uploads/2026/01/Calendar.png
ORGANIZER;CN="USU Veterans Resource Center":MAILTO:vrc@csun.edu
GEO:34.2400298826;-118.525466625
X-APPLE-STRUCTURED-LOCATION;VALUE=URI;X-ADDRESS=Altadena Room East Conference Center University Student Union 18111 Nordhoff St. Northridge CA 91330-8272 United States;X-APPLE-RADIUS=500;X-TITLE=18111 Nordhoff St.:geo:-118.525466625,34.2400298826
END:VEVENT
END:VCALENDAR