BEGIN:VCALENDAR
VERSION:2.0
PRODID:-//CSUN News &amp; Events - ECPv6.11.2//NONSGML v1.0//EN
CALSCALE:GREGORIAN
METHOD:PUBLISH
X-WR-CALNAME:CSUN News &amp; Events
X-ORIGINAL-URL:https://news.csun.edu
X-WR-CALDESC:Events for CSUN News &amp; Events
REFRESH-INTERVAL;VALUE=DURATION:PT1H
X-Robots-Tag:noindex
X-PUBLISHED-TTL:PT1H
BEGIN:VTIMEZONE
TZID:America/Los_Angeles
BEGIN:DAYLIGHT
TZOFFSETFROM:-0800
TZOFFSETTO:-0700
TZNAME:PDT
DTSTART:20250309T100000
END:DAYLIGHT
BEGIN:STANDARD
TZOFFSETFROM:-0700
TZOFFSETTO:-0800
TZNAME:PST
DTSTART:20251102T090000
END:STANDARD
END:VTIMEZONE
BEGIN:VEVENT
DTSTART;TZID=America/Los_Angeles:20250409T110000
DTEND;TZID=America/Los_Angeles:20250409T150000
DTSTAMP:20260420T104602
CREATED:20250401T212349Z
LAST-MODIFIED:20250401T221225Z
UID:10005587-1744196400-1744210800@news.csun.edu
SUMMARY:Snaps and Caps
DESCRIPTION:Decorate your cap and get your picture snapped at Snaps and Caps! In collaboration with the Pride Center\, the DREAM Center is providing crafting materials to customize your cap for graduation throughout the event\, and on Thursday\, April 10\, you can take a photo in your cap between 11 a.m. and noon. Don’t miss out on this opportunity to commemorate your achievement!  \nRSVP for this event \nDo you need interpretation for this event? If so\, please fill out the Interpreting Services Request Form seven days prior to the event. 
URL:https://news.csun.edu/event/snaps-and-caps-2/
LOCATION:Veterans Resource Center\, University Student Union\, 18111 Nordhoff St.\, Northridge\, CA\, 91330-8272\, United States
CATEGORIES:DREAM Center,Pride Center,University Student Union,Veterans Resource Center
ATTACH;FMTTYPE=image/png:https://news.csun.edu/wp-content/uploads/2025/04/Calendar-1.png
ORGANIZER;CN="USU DREAM Center":MAILTO:dreamcenter@csun.edu
GEO:34.2396586826;-118.525485205
X-APPLE-STRUCTURED-LOCATION;VALUE=URI;X-ADDRESS=Veterans Resource Center University Student Union 18111 Nordhoff St. Northridge CA 91330-8272 United States;X-APPLE-RADIUS=500;X-TITLE=18111 Nordhoff St.:geo:-118.525485205,34.2396586826
END:VEVENT
END:VCALENDAR