BEGIN:VCALENDAR
VERSION:2.0
PRODID:-//CSUN News &amp; Events - ECPv6.11.2//NONSGML v1.0//EN
CALSCALE:GREGORIAN
METHOD:PUBLISH
X-WR-CALNAME:CSUN News &amp; Events
X-ORIGINAL-URL:https://news.csun.edu
X-WR-CALDESC:Events for CSUN News &amp; Events
REFRESH-INTERVAL;VALUE=DURATION:PT1H
X-Robots-Tag:noindex
X-PUBLISHED-TTL:PT1H
BEGIN:VTIMEZONE
TZID:America/Los_Angeles
BEGIN:DAYLIGHT
TZOFFSETFROM:-0800
TZOFFSETTO:-0700
TZNAME:PDT
DTSTART:20260308T100000
END:DAYLIGHT
BEGIN:STANDARD
TZOFFSETFROM:-0700
TZOFFSETTO:-0800
TZNAME:PST
DTSTART:20261101T090000
END:STANDARD
END:VTIMEZONE
BEGIN:VEVENT
DTSTART;TZID=America/Los_Angeles:20260303T130000
DTEND;TZID=America/Los_Angeles:20260303T150000
DTSTAMP:20260423T003249
CREATED:20260115T004449Z
LAST-MODIFIED:20260319T175100Z
UID:10009741-1772542800-1772550000@news.csun.edu
SUMMARY:Career Center Drop Ins
DESCRIPTION:In collaboration with the Career Center\, students can enhance or refine their resumes to effectively highlight their skills and experiences. Additionally\, they will receive expert advice and guidance to improve their interview techniques\, ensuring they are well-prepared for future career opportunities. These sessions aim to provide personalized support to help veterans confidently navigate the transition to civilian employment.
URL:https://news.csun.edu/event/career-center-drop-ins-3/2026-03-03/
LOCATION:Veterans Resource Center\, University Student Union\, 18111 Nordhoff St.\, Northridge\, CA\, 91330-8272\, United States
CATEGORIES:University Student Union,Veterans Resource Center
ATTACH;FMTTYPE=image/png:https://news.csun.edu/wp-content/uploads/2026/01/826702287-calendar-vrcdropins_sp26.png
ORGANIZER;CN="USU Veterans Resource Center":MAILTO:vrc@csun.edu
GEO:34.2396586826;-118.525485205
X-APPLE-STRUCTURED-LOCATION;VALUE=URI;X-ADDRESS=Veterans Resource Center University Student Union 18111 Nordhoff St. Northridge CA 91330-8272 United States;X-APPLE-RADIUS=500;X-TITLE=18111 Nordhoff St.:geo:-118.525485205,34.2396586826
END:VEVENT
BEGIN:VEVENT
DTSTART;TZID=America/Los_Angeles:20260310T120000
DTEND;TZID=America/Los_Angeles:20260310T140000
DTSTAMP:20260423T003249
CREATED:20260128T235426Z
LAST-MODIFIED:20260303T183834Z
UID:10010339-1773144000-1773151200@news.csun.edu
SUMMARY:Women to Women
DESCRIPTION:Calling all female vets! Build community as you relax\, enjoy lunch and refreshments and talk about your unique experiences in the military—all in this restorative outdoor gathering. We’llalso discuss the groundbreaking contributions that servicewomen have made to the armed forces\, while getting connected to resources just for female vets.  \nTake home a self-care goodie-bag and an extended village after you bond with other women who have embarked on similar journeys.     \n  \nDo you need interpretation for an event? If so\, please fill out the Interpreting Services Request Form at least seven business days prior to the event. 
URL:https://news.csun.edu/event/women-to-women-3/
LOCATION:Oasis Wellness Center\, University Student Union\, 18111 Nordhoff St.\, Northridge\, CA\, 91330-8272\, United States
CATEGORIES:Heritage Month,University Student Union,Veterans Resource Center
ATTACH;FMTTYPE=image/png:https://news.csun.edu/wp-content/uploads/2026/01/Calendar-WomentoWomen_SP26-2.png
ORGANIZER;CN="USU Veterans Resource Center":MAILTO:vrc@csun.edu
GEO:34.2394602802;-118.525822337
X-APPLE-STRUCTURED-LOCATION;VALUE=URI;X-ADDRESS=Oasis Wellness Center University Student Union 18111 Nordhoff St. Northridge CA 91330-8272 United States;X-APPLE-RADIUS=500;X-TITLE=18111 Nordhoff St.:geo:-118.525822337,34.2394602802
END:VEVENT
BEGIN:VEVENT
DTSTART;TZID=America/Los_Angeles:20260310T170000
DTEND;TZID=America/Los_Angeles:20260312T200000
DTSTAMP:20260423T003249
CREATED:20260115T191634Z
LAST-MODIFIED:20260402T171103Z
UID:10009743-1773162000-1773345600@news.csun.edu
SUMMARY:Study Jam
DESCRIPTION:Bunker down with everything you need for the perfect midterms and finals study sessions with Study Jam\, from food and energy drinks to study supplies and massage chairs.
URL:https://news.csun.edu/event/study-jam-2/
LOCATION:Veterans Resource Center\, University Student Union\, 18111 Nordhoff St.\, Northridge\, CA\, 91330-8272\, United States
CATEGORIES:University Student Union,Veterans Resource Center
ATTACH;FMTTYPE=image/png:https://news.csun.edu/wp-content/uploads/2025/08/776784331-vrc_studyjam_calendar-121925.png
ORGANIZER;CN="USU Veterans Resource Center":MAILTO:vrc@csun.edu
GEO:34.2396586826;-118.525485205
X-APPLE-STRUCTURED-LOCATION;VALUE=URI;X-ADDRESS=Veterans Resource Center University Student Union 18111 Nordhoff St. Northridge CA 91330-8272 United States;X-APPLE-RADIUS=500;X-TITLE=18111 Nordhoff St.:geo:-118.525485205,34.2396586826
END:VEVENT
BEGIN:VEVENT
DTSTART;TZID=America/Los_Angeles:20260311T120000
DTEND;TZID=America/Los_Angeles:20260311T140000
DTSTAMP:20260423T003249
CREATED:20260115T003305Z
LAST-MODIFIED:20260122T191314Z
UID:10009734-1773230400-1773237600@news.csun.edu
SUMMARY:Vets Uncensored
DESCRIPTION:Attention CSUN veterans\, reservists and National Guard members! Come share your experiences\, engage in meaningful conversations and build community at Vets Uncensored.  \nRetired Marine Corps veteran and University Counseling Services member Dr. Abram Milton will help us navigate these conversations and refreshments will be provided\, so come connect with your veteran village.  \n  \nDo you need interpretation for an event? If so\, please fill out the Interpreting Services Request Form at least seven business days prior to the event. 
URL:https://news.csun.edu/event/vets-uncensored/2026-03-11/
LOCATION:Altadena Room\, East Conference Center\, University Student Union\, 18111 Nordhoff St.\, Northridge\, CA\, 91330-8272\, United States
CATEGORIES:University Student Union,Veterans Resource Center
ATTACH;FMTTYPE=image/png:https://news.csun.edu/wp-content/uploads/2026/01/Calendar.png
ORGANIZER;CN="USU Veterans Resource Center":MAILTO:vrc@csun.edu
GEO:34.2400298826;-118.525466625
X-APPLE-STRUCTURED-LOCATION;VALUE=URI;X-ADDRESS=Altadena Room East Conference Center University Student Union 18111 Nordhoff St. Northridge CA 91330-8272 United States;X-APPLE-RADIUS=500;X-TITLE=18111 Nordhoff St.:geo:-118.525466625,34.2400298826
END:VEVENT
BEGIN:VEVENT
DTSTART;TZID=America/Los_Angeles:20260324T100000
DTEND;TZID=America/Los_Angeles:20260324T120000
DTSTAMP:20260423T003249
CREATED:20251223T185347Z
LAST-MODIFIED:20260129T235430Z
UID:10009513-1774346400-1774353600@news.csun.edu
SUMMARY:Bagel Madness
DESCRIPTION:Unwind and stay connected with the veteran community on campus! Enjoy bagels\, chat and take a moment to enjoy various milestones and themes throughout the semester. Stop by and feed your body and mind with Bagel Bonding! 
URL:https://news.csun.edu/event/bagel-bonding-bagel-madness/
LOCATION:Veterans Resource Center\, University Student Union\, 18111 Nordhoff St.\, Northridge\, CA\, 91330-8272\, United States
CATEGORIES:University Student Union,Veterans Resource Center
ATTACH;FMTTYPE=image/png:https://news.csun.edu/wp-content/uploads/2025/12/829638291-calendar_bagelbonding_sp263.png
ORGANIZER;CN="USU Veterans Resource Center":MAILTO:vrc@csun.edu
GEO:34.2396586826;-118.525485205
X-APPLE-STRUCTURED-LOCATION;VALUE=URI;X-ADDRESS=Veterans Resource Center University Student Union 18111 Nordhoff St. Northridge CA 91330-8272 United States;X-APPLE-RADIUS=500;X-TITLE=18111 Nordhoff St.:geo:-118.525485205,34.2396586826
END:VEVENT
BEGIN:VEVENT
DTSTART;TZID=America/Los_Angeles:20260325T100000
DTEND;TZID=America/Los_Angeles:20260325T140000
DTSTAMP:20260423T003249
CREATED:20260115T004028Z
LAST-MODIFIED:20260402T215032Z
UID:10009738-1774432800-1774447200@news.csun.edu
SUMMARY:The Blend
DESCRIPTION:Learn about valuable veteran resources from external partners at The Blend. Each month will feature a different Veteran Service Organization\, so stop by the VRC for each session.
URL:https://news.csun.edu/event/the-blend-4/2026-03-25/
LOCATION:Veterans Resource Center\, University Student Union\, 18111 Nordhoff St.\, Northridge\, CA\, 91330-8272\, United States
CATEGORIES:University Student Union,Veterans Resource Center
ATTACH;FMTTYPE=image/png:https://news.csun.edu/wp-content/uploads/2026/01/826702342-calendar-vrctheblend_sp26.png
ORGANIZER;CN="USU Veterans Resource Center":MAILTO:vrc@csun.edu
GEO:34.2396586826;-118.525485205
X-APPLE-STRUCTURED-LOCATION;VALUE=URI;X-ADDRESS=Veterans Resource Center University Student Union 18111 Nordhoff St. Northridge CA 91330-8272 United States;X-APPLE-RADIUS=500;X-TITLE=18111 Nordhoff St.:geo:-118.525485205,34.2396586826
END:VEVENT
BEGIN:VEVENT
DTSTART;TZID=America/Los_Angeles:20260326T170000
DTEND;TZID=America/Los_Angeles:20260326T210000
DTSTAMP:20260423T003249
CREATED:20260115T195027Z
LAST-MODIFIED:20260122T213515Z
UID:10009747-1774544400-1774558800@news.csun.edu
SUMMARY:Movie Night
DESCRIPTION:
URL:https://news.csun.edu/event/movie-night-2/2026-03-26/
LOCATION:Veterans Resource Center\, University Student Union\, 18111 Nordhoff St.\, Northridge\, CA\, 91330-8272\, United States
CATEGORIES:University Student Union,Veterans Resource Center
ATTACH;FMTTYPE=image/png:https://news.csun.edu/wp-content/uploads/2026/01/Cal-VRCMovieNight-SP26.png
ORGANIZER;CN="USU Veterans Resource Center":MAILTO:vrc@csun.edu
GEO:34.2396586826;-118.525485205
X-APPLE-STRUCTURED-LOCATION;VALUE=URI;X-ADDRESS=Veterans Resource Center University Student Union 18111 Nordhoff St. Northridge CA 91330-8272 United States;X-APPLE-RADIUS=500;X-TITLE=18111 Nordhoff St.:geo:-118.525485205,34.2396586826
END:VEVENT
END:VCALENDAR