BEGIN:VCALENDAR
VERSION:2.0
PRODID:-//CSUN News &amp; Events - ECPv6.11.2//NONSGML v1.0//EN
CALSCALE:GREGORIAN
METHOD:PUBLISH
X-ORIGINAL-URL:https://news.csun.edu
X-WR-CALDESC:Events for CSUN News &amp; Events
REFRESH-INTERVAL;VALUE=DURATION:PT1H
X-Robots-Tag:noindex
X-PUBLISHED-TTL:PT1H
BEGIN:VTIMEZONE
TZID:America/Los_Angeles
BEGIN:DAYLIGHT
TZOFFSETFROM:-0800
TZOFFSETTO:-0700
TZNAME:PDT
DTSTART:20260308T100000
END:DAYLIGHT
BEGIN:STANDARD
TZOFFSETFROM:-0700
TZOFFSETTO:-0800
TZNAME:PST
DTSTART:20261101T090000
END:STANDARD
END:VTIMEZONE
BEGIN:VEVENT
DTSTART;VALUE=DATE:20260227
DTEND;VALUE=DATE:20260510
DTSTAMP:20260424T062838
CREATED:20260121T225753Z
LAST-MODIFIED:20260122T212618Z
UID:10010243-1772150400-1778371199@news.csun.edu
SUMMARY:American Red Cross CPR/First-Aid/AED Classes
DESCRIPTION:Get certified and equipped with important life-saving skills through American Red Cross Adult and Pediatric CPR/First-Aid/AED training! Learn to respond to cardio-respiratory emergencies calmly and confidently through this hands-on course. Check your email after you register for instructions.   \n  \nRegister on the SRC Portal or at the SRC Front Desk today!   \n  \nDo you need interpretation for an event? If so\, please fill out the Interpreting Services Request Form at least seven business days prior to the event. 
URL:https://news.csun.edu/event/american-red-cross-cpr-first-aid-aed-classes/
LOCATION:Student Recreation Center\, University Student Union\, 18111 Nordhoff St.\, Northridge\, CA\, 91330-8449\, United States
CATEGORIES:Student Recreation Center,University Student Union
ATTACH;FMTTYPE=image/png:https://news.csun.edu/wp-content/uploads/2026/01/Calendar_AmericanRedCrossCPR_SP26.png
ORGANIZER;CN="USU Student Recreation Center":MAILTO:src@csun.edu
GEO:34.2397767274;-118.525089862
X-APPLE-STRUCTURED-LOCATION;VALUE=URI;X-ADDRESS=Student Recreation Center University Student Union 18111 Nordhoff St. Northridge CA 91330-8449 United States;X-APPLE-RADIUS=500;X-TITLE=18111 Nordhoff St.:geo:-118.525089862,34.2397767274
END:VEVENT
BEGIN:VEVENT
DTSTART;VALUE=DATE:20260302
DTEND;VALUE=DATE:20260509
DTSTAMP:20260424T062838
CREATED:20260203T231043Z
LAST-MODIFIED:20260224T220716Z
UID:10010499-1772409600-1778284799@news.csun.edu
SUMMARY:Spring 2026 Intramural Sports Season
DESCRIPTION:Sign up through Fusion Play today and get ready to bring the heat!   \nBasketball March 2 – May 8 Red Ring Courts   \nAll-Rec: Wednesdays\, 6 – 8 p.m.  \nSorority: Wednesdays\, 5 – 6 p.m.  \nMen’s/Fraternity: Thursdays\, 5 – 9 p.m.  \nUltimate Frisbee March 2 – April 10 Turf Field  \nFraternity: Fridays\, 4 – 5 p.m.  \nAll-Rec: Fridays\, 3 – 4 p.m.   \nMen’s: Fridays\, 4 – 5 p.m.  \nSorority: Fridays\, 3 – 4 p.m.  \nVolleyball March 2 – May 8 Red Ring Courts  \nAll-Rec: Fridays\, 3 – 5 p.m.  \nIndoor Soccer March 2 – May 8  MatArena  \nAll Rec: Wednesdays\, 5 – 7 p.m.  \nFraternity: Tuesdays\, 7 – 9 p.m.  \nMen’s: Wednesdays\, 7 – 9 p.m.  \nSorority: Tuesdays\, 5 – 7 p.m.  \nSoftball April 12 – May 8 Turf Field  \nAll Rec: Fridays\, 6 – 8p.m.  \nMen’s: Fridays\, 4 – 6 p.m.  \nFraternity: Fridays\, 4 – 6 p.m.  \nSorority: Fridays\, 3 – 5 p.m.  
URL:https://news.csun.edu/event/spring-2026-intramural-sports-season-registration/
LOCATION:Student Recreation Center\, University Student Union\, 18111 Nordhoff St.\, Northridge\, CA\, 91330-8449\, United States
CATEGORIES:Student Recreation Center,University Student Union
ATTACH;FMTTYPE=image/png:https://news.csun.edu/wp-content/uploads/2026/02/Calendar-IntramuralSports-SP26.png
ORGANIZER;CN="USU Student Recreation Center":MAILTO:src@csun.edu
GEO:34.2397767274;-118.525089862
X-APPLE-STRUCTURED-LOCATION;VALUE=URI;X-ADDRESS=Student Recreation Center University Student Union 18111 Nordhoff St. Northridge CA 91330-8449 United States;X-APPLE-RADIUS=500;X-TITLE=18111 Nordhoff St.:geo:-118.525089862,34.2397767274
END:VEVENT
BEGIN:VEVENT
DTSTART;VALUE=DATE:20260309
DTEND;VALUE=DATE:20260404
DTSTAMP:20260424T062838
CREATED:20260210T235338Z
LAST-MODIFIED:20260217T182221Z
UID:10010581-1773014400-1775260799@news.csun.edu
SUMMARY:Gear up for Round 4 Round
DESCRIPTION:Slip into the Boxing Training Program (BTP)\, collect prizes and even be entered in our drawings for a pair of TITLE boxing gloves and a JBL speaker! Have your hand wraps ready\, grab your pass at the Total Training Zone desk and head to the Determination Studio\, where you’ll learn new techniques and experience all the benefits that boxing has to offer\, including an increase in stamina and confidence. Each visit will advance you through three attendance tiers with rewards including your own BTP drawstring bag and an SRC duffle bag. Get moving with the BTP today and gear up for the upcoming Round 4 Round Challenge\, where you can show off your new skills!  \n  \nAll are welcome to come and get hooked on boxing!   \n  \nAll first-timers must complete a 45-minute orientation\, regardless of experience. Hand wraps are available for purchase at the SRC Front Desk.   \n  \n   \nTier 1: 1 – 7 visits   \nPrizes: Boxing Training Program (BTP) sticker and one entry into grand prize drawing  \n  \nTier 2: 8 – 12 visits   \nPrizes: BTP sticker\, BTP drawstring bag and 2 entries into grand prize drawing   \n  \nTier 3: 13 – 20 visits   \nPrizes: BTP sticker\, BTP drawstring bag\, SRC duffle bag and 5 entries into grand prize drawing  
URL:https://news.csun.edu/event/gear-up-for-round-4-round/
LOCATION:Determination Studio\, Student Recreation Center\, University Student Union\, 18111 Nordhoff Street\, Northridge\, 91330-8449\, United States
CATEGORIES:Student Recreation Center,University Student Union
ATTACH;FMTTYPE=image/png:https://news.csun.edu/wp-content/uploads/2026/02/Cal-BTP-R4R-SP26.png
ORGANIZER;CN="USU Student Recreation Center":MAILTO:src@csun.edu
END:VEVENT
BEGIN:VEVENT
DTSTART;VALUE=DATE:20260309
DTEND;VALUE=DATE:20260420
DTSTAMP:20260424T062838
CREATED:20260210T182318Z
LAST-MODIFIED:20260217T182836Z
UID:10010570-1773014400-1776643199@news.csun.edu
SUMMARY:Strong 5
DESCRIPTION:Build strength\, muscle and confidence with the Strong 5 training program! Over six weeks\, you’ll work weekly with a personal trainer to improve your lifting technique in movements such as squat\, hinge\, press\, pull and gait. You can also request to work on specific movements that more closely align with your fitness goals. Don’t miss out on this chance to get the one-on-one coaching you need to achieve the results and consistency you’ve always wanted.   \n  \nRegister at the SRC Front Desk today and get pumped to enhance your performance!   \n  \nRegistration is open from Monday\, Feb. 23 – Friday\, March 6.  \nProgram costs $140 for students\, $295 for non-students. 
URL:https://news.csun.edu/event/strong-5/
LOCATION:Student Recreation Center\, University Student Union\, 18111 Nordhoff St.\, Northridge\, CA\, 91330-8449\, United States
CATEGORIES:Student Recreation Center,University Student Union
ATTACH;FMTTYPE=image/png:https://news.csun.edu/wp-content/uploads/2026/02/Calendar-Strong5-SP26.png
ORGANIZER;CN="USU Student Recreation Center":MAILTO:src@csun.edu
GEO:34.2397767274;-118.525089862
X-APPLE-STRUCTURED-LOCATION;VALUE=URI;X-ADDRESS=Student Recreation Center University Student Union 18111 Nordhoff St. Northridge CA 91330-8449 United States;X-APPLE-RADIUS=500;X-TITLE=18111 Nordhoff St.:geo:-118.525089862,34.2397767274
END:VEVENT
BEGIN:VEVENT
DTSTART;TZID=America/Los_Angeles:20260402T170000
DTEND;TZID=America/Los_Angeles:20260402T210000
DTSTAMP:20260424T062838
CREATED:20251209T183559Z
LAST-MODIFIED:20260402T222858Z
UID:10009381-1775149200-1775163600@news.csun.edu
SUMMARY:Smash Bros
DESCRIPTION:Game on\, Matadors! The Student Recreation Center is hosting a series of tournaments in the Games Room for you to show off your skills and win amazing prizes. Whether you dominate Smash Bros\, are the master of hat tricks on FIFA or keep it cool with a billiards cue\, you’re guaranteed to have fun as you go head-to-head with worthy competitors.   \nSign up for any event of your choosing and let the games begin!   \nDo you need interpretation for an event? If so\, please fill out the Interpreting Services Request Form at least seven business days prior to the event. 
URL:https://news.csun.edu/event/smash-bros-2/
LOCATION:Games Room\, University Student Union\, 18111 Nordhoff St.\, Northridge\, CA\, 91330-8272\, United States
CATEGORIES:Student Recreation Center,University Student Union
ATTACH;FMTTYPE=image/png:https://news.csun.edu/wp-content/uploads/2025/12/812064168-calendar-grtournaments_smashbros2_sp26.png
GEO:34.2398927513;-118.525370529
X-APPLE-STRUCTURED-LOCATION;VALUE=URI;X-ADDRESS=Games Room University Student Union 18111 Nordhoff St. Northridge CA 91330-8272 United States;X-APPLE-RADIUS=500;X-TITLE=18111 Nordhoff St.:geo:-118.525370529,34.2398927513
END:VEVENT
BEGIN:VEVENT
DTSTART;TZID=America/Los_Angeles:20260402T191500
DTEND;TZID=America/Los_Angeles:20260402T220000
DTSTAMP:20260424T062838
CREATED:20260224T213026Z
LAST-MODIFIED:20260305T213316Z
UID:10010799-1775157300-1775167200@news.csun.edu
SUMMARY:Dive-In Move Night
DESCRIPTION:Doors open at 7:15 p.m.   \nMovie starts at 7:45 p.m.  \nThe SRC invites all members\, from eager beavers to laid-back sloths\, for a fun night at the movies! Whether you’re a creature of the land or sea\, you can comfortably enjoy a screening of Zootopia 2\, poolside. Kick back with some delicious snacks\, relax and even float with your friends as you watch the beloved movie on the big screen.   \n  \nHaven’t been to the SRC yet? If you’re a student\, you’re already a member! Just stop by the SRC front desk and register. Once you’re registered\, you’ll just need your Matacard or the SRC app to access the pool.  \n  \n  \nDo you need interpretation for an event? If so\, please fill out the Interpreting Services Request Form at least seven business days prior to the event. 
URL:https://news.csun.edu/event/dive-in-move-night/
LOCATION:Rec Pool\, Student Recreation Center\, University Student Union\, 18111 Nordhoff St.\, Northridge\, CA\, 91330-8449\, United States
CATEGORIES:Student Recreation Center,University Student Union
ATTACH;FMTTYPE=image/png:https://news.csun.edu/wp-content/uploads/2026/02/Calendar-DiveInMovieNight-SP26.png
ORGANIZER;CN="USU Student Recreation Center":MAILTO:src@csun.edu
GEO:34.240676354;-118.525553212
X-APPLE-STRUCTURED-LOCATION;VALUE=URI;X-ADDRESS=Rec Pool Student Recreation Center University Student Union 18111 Nordhoff St. Northridge CA 91330-8449 United States;X-APPLE-RADIUS=500;X-TITLE=18111 Nordhoff St.:geo:-118.525553212,34.240676354
END:VEVENT
END:VCALENDAR