BEGIN:VCALENDAR
VERSION:2.0
PRODID:-//CSUN News &amp; Events - ECPv6.11.2//NONSGML v1.0//EN
CALSCALE:GREGORIAN
METHOD:PUBLISH
X-WR-CALNAME:CSUN News &amp; Events
X-ORIGINAL-URL:https://news.csun.edu
X-WR-CALDESC:Events for CSUN News &amp; Events
REFRESH-INTERVAL;VALUE=DURATION:PT1H
X-Robots-Tag:noindex
X-PUBLISHED-TTL:PT1H
BEGIN:VTIMEZONE
TZID:America/Los_Angeles
BEGIN:DAYLIGHT
TZOFFSETFROM:-0800
TZOFFSETTO:-0700
TZNAME:PDT
DTSTART:20260308T100000
END:DAYLIGHT
BEGIN:STANDARD
TZOFFSETFROM:-0700
TZOFFSETTO:-0800
TZNAME:PST
DTSTART:20261101T090000
END:STANDARD
END:VTIMEZONE
BEGIN:VEVENT
DTSTART;TZID=America/Los_Angeles:20260408T143000
DTEND;TZID=America/Los_Angeles:20260408T160000
DTSTAMP:20260420T104551
CREATED:20260303T234707Z
LAST-MODIFIED:20260319T210514Z
UID:10010838-1775658600-1775664000@news.csun.edu
SUMMARY:Pitch Your Path
DESCRIPTION:Join us for a career-building event designed to empower our undocumented\, DACA-mented and mixed status communities. Led by the Career Center\, this workshop will help you move forward on your professional journey\, as you learn how to connect and pitch yourself to potential contractors.   \n  \nYour road to success starts here. Take a step with confidence and let your strengths shine!  \n  \nDo you need interpretation for an event? If so\, please fill out the Interpreting Services Request Form at least seven business days prior to the event. 
URL:https://news.csun.edu/event/pitch-your-path/
LOCATION:Pasadena Room\, East Conference Center\, University Student Union\, 18111 Nordhoff St.\, Northridge\, CA\, 91330-8272\, United States
CATEGORIES:DREAM Center,University Student Union
ATTACH;FMTTYPE=image/png:https://news.csun.edu/wp-content/uploads/2026/03/Calendar_PitchYourPath_SP26.png
ORGANIZER;CN="USU DREAM Center":MAILTO:dreamcenter@csun.edu
GEO:34.239975626;-118.525649811
X-APPLE-STRUCTURED-LOCATION;VALUE=URI;X-ADDRESS=Pasadena Room East Conference Center University Student Union 18111 Nordhoff St. Northridge CA 91330-8272 United States;X-APPLE-RADIUS=500;X-TITLE=18111 Nordhoff St.:geo:-118.525649811,34.239975626
END:VEVENT
END:VCALENDAR