BEGIN:VCALENDAR
VERSION:2.0
PRODID:-//CSUN News &amp; Events - ECPv6.11.2//NONSGML v1.0//EN
CALSCALE:GREGORIAN
METHOD:PUBLISH
X-ORIGINAL-URL:https://news.csun.edu
X-WR-CALDESC:Events for CSUN News &amp; Events
REFRESH-INTERVAL;VALUE=DURATION:PT1H
X-Robots-Tag:noindex
X-PUBLISHED-TTL:PT1H
BEGIN:VTIMEZONE
TZID:America/Los_Angeles
BEGIN:DAYLIGHT
TZOFFSETFROM:-0800
TZOFFSETTO:-0700
TZNAME:PDT
DTSTART:20250309T100000
END:DAYLIGHT
BEGIN:STANDARD
TZOFFSETFROM:-0700
TZOFFSETTO:-0800
TZNAME:PST
DTSTART:20251102T090000
END:STANDARD
END:VTIMEZONE
BEGIN:VEVENT
DTSTART;TZID=America/Los_Angeles:20250521T140000
DTEND;TZID=America/Los_Angeles:20250521T150000
DTSTAMP:20260423T144520
CREATED:20250204T015644Z
LAST-MODIFIED:20250204T015644Z
UID:10005270-1747836000-1747839600@news.csun.edu
SUMMARY:Pathways to Citizenship (English)
DESCRIPTION:Join CARECEN to learn about the forms of immigration relief that can potentially result in U.S. citizenship for those who are undocumented or have DACA! \nRegister for this Event
URL:https://news.csun.edu/event/pathways-to-citizenship-english/
LOCATION:Zoom
CATEGORIES:DREAM Center,University Student Union
ATTACH;FMTTYPE=image/png:https://news.csun.edu/wp-content/uploads/2024/09/Calendar_Placeholder_imgs7.png
ORGANIZER;CN="USU DREAM Center":MAILTO:dreamcenter@csun.edu
END:VEVENT
BEGIN:VEVENT
DTSTART;TZID=America/Los_Angeles:20250521T180000
DTEND;TZID=America/Los_Angeles:20250521T190000
DTSTAMP:20260423T144520
CREATED:20250204T015945Z
LAST-MODIFIED:20250204T015945Z
UID:10005271-1747850400-1747854000@news.csun.edu
SUMMARY:Caminos a la ciudadanía en los EE. UU. (Español)
DESCRIPTION:¡Únase a CARECEN para aprender sobre las formas de alivio migratorio que potencialmente pueden resultar a la ciudadanía estadounidense para aquellos que son indocumentados o tienen DACA! \nRegístrate para este evento
URL:https://news.csun.edu/event/caminos-a-la-ciudadania-en-los-ee-uu-espanol/
LOCATION:Zoom
CATEGORIES:DREAM Center,University Student Union
ATTACH;FMTTYPE=image/png:https://news.csun.edu/wp-content/uploads/2024/09/Calendar_Placeholder_imgs7.png
ORGANIZER;CN="USU DREAM Center":MAILTO:dreamcenter@csun.edu
END:VEVENT
END:VCALENDAR