BEGIN:VCALENDAR
VERSION:2.0
PRODID:-//CSUN News &amp; Events - ECPv6.11.2//NONSGML v1.0//EN
CALSCALE:GREGORIAN
METHOD:PUBLISH
X-ORIGINAL-URL:https://news.csun.edu
X-WR-CALDESC:Events for CSUN News &amp; Events
REFRESH-INTERVAL;VALUE=DURATION:PT1H
X-Robots-Tag:noindex
X-PUBLISHED-TTL:PT1H
BEGIN:VTIMEZONE
TZID:America/Los_Angeles
BEGIN:DAYLIGHT
TZOFFSETFROM:-0800
TZOFFSETTO:-0700
TZNAME:PDT
DTSTART:20250309T100000
END:DAYLIGHT
BEGIN:STANDARD
TZOFFSETFROM:-0700
TZOFFSETTO:-0800
TZNAME:PST
DTSTART:20251102T090000
END:STANDARD
END:VTIMEZONE
BEGIN:VEVENT
DTSTART;TZID=America/Los_Angeles:20250310T140000
DTEND;TZID=America/Los_Angeles:20250310T150000
DTSTAMP:20260422T191617
CREATED:20250204T012618Z
LAST-MODIFIED:20250204T012618Z
UID:10005258-1741615200-1741618800@news.csun.edu
SUMMARY:Special Immigrant Juvenile Status
DESCRIPTION:Join CARECEN to learn about Special Immigrant Juvenile Status and how it may put certain non-citizens under 21 on a pathway to citizenship. \nRegister for this Event
URL:https://news.csun.edu/event/special-immigrant-juvenile-status-5/
LOCATION:Zoom
CATEGORIES:DREAM Center,University Student Union
ATTACH;FMTTYPE=image/png:https://news.csun.edu/wp-content/uploads/2024/09/Calendar_Placeholder_imgs7.png
ORGANIZER;CN="USU DREAM Center":MAILTO:dreamcenter@csun.edu
END:VEVENT
END:VCALENDAR