BEGIN:VCALENDAR
VERSION:2.0
PRODID:-//CSUN News &amp; Events - ECPv6.11.2//NONSGML v1.0//EN
CALSCALE:GREGORIAN
METHOD:PUBLISH
X-WR-CALNAME:CSUN News &amp; Events
X-ORIGINAL-URL:https://news.csun.edu
X-WR-CALDESC:Events for CSUN News &amp; Events
REFRESH-INTERVAL;VALUE=DURATION:PT1H
X-Robots-Tag:noindex
X-PUBLISHED-TTL:PT1H
BEGIN:VTIMEZONE
TZID:America/Los_Angeles
BEGIN:DAYLIGHT
TZOFFSETFROM:-0800
TZOFFSETTO:-0700
TZNAME:PDT
DTSTART:20250309T100000
END:DAYLIGHT
BEGIN:STANDARD
TZOFFSETFROM:-0700
TZOFFSETTO:-0800
TZNAME:PST
DTSTART:20251102T090000
END:STANDARD
END:VTIMEZONE
BEGIN:VEVENT
DTSTART;TZID=America/Los_Angeles:20250905T120000
DTEND;TZID=America/Los_Angeles:20250905T130000
DTSTAMP:20260424T203628
CREATED:20250903T175606Z
LAST-MODIFIED:20250904T222133Z
UID:10008254-1757073600-1757077200@news.csun.edu
SUMMARY:CARECEN Webinars: Safety Planning
DESCRIPTION:It is important for non-citizens to know their rights\, but also to have plans in place in case of an immigration-related emergency\, such as being detained. This webinar will include a variety of planning steps and resources to ensure you and your loved ones are equipped. \nRegistration Link
URL:https://news.csun.edu/event/safety-planning-how-to-plan-ahead-in-case-of-an-immigration-related-emergency/
CATEGORIES:DREAM Center,University Student Union
ORGANIZER;CN="USU DREAM Center":MAILTO:dreamcenter@csun.edu
END:VEVENT
BEGIN:VEVENT
DTSTART;TZID=America/Los_Angeles:20250909T120000
DTEND;TZID=America/Los_Angeles:20250909T130000
DTSTAMP:20260424T203628
CREATED:20250903T182040Z
LAST-MODIFIED:20250904T222145Z
UID:10008255-1757419200-1757422800@news.csun.edu
SUMMARY:CARECEN Webinars: Immigration Legal Updates
DESCRIPTION:It is important for non-citizens to know their rights\, but also to have plans in place in case of an immigration-related emergency\, such as being detained. This webinar will include a variety of planning steps and resources to ensure you and your loved ones are equipped. \nRegistration Link
URL:https://news.csun.edu/event/carecen-webinars-immigration-legal-updates/
CATEGORIES:DREAM Center,University Student Union
ORGANIZER;CN="USU DREAM Center":MAILTO:dreamcenter@csun.edu
END:VEVENT
BEGIN:VEVENT
DTSTART;TZID=America/Los_Angeles:20250919T130000
DTEND;TZID=America/Los_Angeles:20250919T140000
DTSTAMP:20260424T203628
CREATED:20250903T182949Z
LAST-MODIFIED:20250909T173936Z
UID:10008256-1758286800-1758290400@news.csun.edu
SUMMARY:CARECEN Webinars: Correcting the Misinformation
DESCRIPTION:Not everything you hear about immigration law issues is true! It is important to correctly understand these issues so you are able to make the best decisions for yourself and your families. Join use to learn more and clear up confusion about topics such as self-deportation\, “Project Homecoming\,” generating an income\, and more. \nRegistration Link
URL:https://news.csun.edu/event/correcting-the-misinformation-self-deportation-project-homecoming-registration-income-generation-and-more/
CATEGORIES:DREAM Center,University Student Union
ORGANIZER;CN="USU DREAM Center":MAILTO:dreamcenter@csun.edu
END:VEVENT
BEGIN:VEVENT
DTSTART;TZID=America/Los_Angeles:20250923T160000
DTEND;TZID=America/Los_Angeles:20250923T170000
DTSTAMP:20260424T203628
CREATED:20250904T174411Z
LAST-MODIFIED:20250909T174113Z
UID:10008258-1758643200-1758646800@news.csun.edu
SUMMARY:CARECEN Webinars: Marriage Petitions
DESCRIPTION:Want to learn more about how a US Citizen or Green Card holder can petition for their spouse? Join CARECEN to learn more about the requirements and other important details you should know during this administration. \nRegistration Link
URL:https://news.csun.edu/event/f25-carecen-webinars-marriage-petitions/
CATEGORIES:DREAM Center,University Student Union
ORGANIZER;CN="USU DREAM Center":MAILTO:dreamcenter@csun.edu
END:VEVENT
BEGIN:VEVENT
DTSTART;TZID=America/Los_Angeles:20250929T120000
DTEND;TZID=America/Los_Angeles:20250929T140000
DTSTAMP:20260424T203628
CREATED:20250916T202229Z
LAST-MODIFIED:20250926T182625Z
UID:10008466-1759147200-1759154400@news.csun.edu
SUMMARY:Undocu-Ally Training Tier 1
DESCRIPTION:Become a better ally to our undocumented and mixed-status community at Undocu-Ally Training. All faculty and staff are welcome to join this informational session on methods to best support undocumented Matadors and the DREAM Center’s resources. Don’t miss out on this valuable opportunity!  \nRSVP here!
URL:https://news.csun.edu/event/undocu-ally-training-tier-1/
LOCATION:Thousand Oaks Room\, Southwest Addition\, University Student Union\, 18111 Nordhoff St.\, Northridge\, CA\, 91330-8272\, United States
CATEGORIES:DREAM Center,University Student Union
ATTACH;FMTTYPE=image/png:https://news.csun.edu/wp-content/uploads/2025/09/783826903-dc_undocually_calendar_fa25-20250930.png
ORGANIZER;CN="USU DREAM Center":MAILTO:dreamcenter@csun.edu
GEO:34.239357795;-118.527140941
X-APPLE-STRUCTURED-LOCATION;VALUE=URI;X-ADDRESS=Thousand Oaks Room Southwest Addition University Student Union 18111 Nordhoff St. Northridge CA 91330-8272 United States;X-APPLE-RADIUS=500;X-TITLE=18111 Nordhoff St.:geo:-118.527140941,34.239357795
END:VEVENT
END:VCALENDAR