BEGIN:VCALENDAR
VERSION:2.0
PRODID:-//CSUN News &amp; Events - ECPv6.11.2//NONSGML v1.0//EN
CALSCALE:GREGORIAN
METHOD:PUBLISH
X-ORIGINAL-URL:https://news.csun.edu
X-WR-CALDESC:Events for CSUN News &amp; Events
REFRESH-INTERVAL;VALUE=DURATION:PT1H
X-Robots-Tag:noindex
X-PUBLISHED-TTL:PT1H
BEGIN:VTIMEZONE
TZID:America/Los_Angeles
BEGIN:DAYLIGHT
TZOFFSETFROM:-0800
TZOFFSETTO:-0700
TZNAME:PDT
DTSTART:20250309T100000
END:DAYLIGHT
BEGIN:STANDARD
TZOFFSETFROM:-0700
TZOFFSETTO:-0800
TZNAME:PST
DTSTART:20251102T090000
END:STANDARD
END:VTIMEZONE
BEGIN:VEVENT
DTSTART;TZID=America/Los_Angeles:20250811T100000
DTEND;TZID=America/Los_Angeles:20250811T133000
DTSTAMP:20260424T202230
CREATED:20250715T192944Z
LAST-MODIFIED:20250722T171716Z
UID:10007131-1754906400-1754919000@news.csun.edu
SUMMARY:DREAM Center Welcome: Semester Kick-Off
DESCRIPTION:Find strength in community at the DREAM Center’s annual semester kick–off! New students who identify as part of the mixed-status\, undocumented or DACA-mented community are invited to join us for an introduction to the resources we have to offer. Come meet our team\, connect with other students and discover how the DREAM Center is dedicated to your personal\, academic and professional success!    \nDo you need interpretation for this event? If so\, please fill out the Interpreting Services Request Form seven days prior to the event. 
URL:https://news.csun.edu/event/dream-center-welcome-semester-kick-off/
LOCATION:Grand Salon\, University Student Union\, 18111 Nordhoff St.\, Northridge\, CA\, 91330-8272\, United States
CATEGORIES:DREAM Center,University Student Union
ATTACH;FMTTYPE=image/png:https://news.csun.edu/wp-content/uploads/2025/07/DC_DreamCenterOpenHouse_Calendar_FA25.png
GEO:34.2393874529;-118.526753403
X-APPLE-STRUCTURED-LOCATION;VALUE=URI;X-ADDRESS=Grand Salon University Student Union 18111 Nordhoff St. Northridge CA 91330-8272 United States;X-APPLE-RADIUS=500;X-TITLE=18111 Nordhoff St.:geo:-118.526753403,34.2393874529
END:VEVENT
BEGIN:VEVENT
DTSTART;TZID=America/Los_Angeles:20250826T143000
DTEND;TZID=America/Los_Angeles:20250826T170000
DTSTAMP:20260424T202230
CREATED:20250813T191704Z
LAST-MODIFIED:20250821T193406Z
UID:10007365-1756218600-1756227600@news.csun.edu
SUMMARY:Sprout into the New Semester
DESCRIPTION:Prioritize growth with the DREAM Center at Sprout into the New Semester! Come learn about the services we provide to water your success and meet people in your community\, all while having a blast decorating mini pots and planting seeds. There will even be a giveaway\, so mark your new start and join us!  \nDo you require interpreting services? Please submit an Interpreting Services Request Form at least seven business days prior to the event. 
URL:https://news.csun.edu/event/f25-sprout-into-the-new-semester/
LOCATION:DREAM Center\, University Student Union\, 18111 Nordhoff St.\, Northridge\, CA\, 91330-8453\, United States
CATEGORIES:DREAM Center,University Student Union
ATTACH;FMTTYPE=image/png:https://news.csun.edu/wp-content/uploads/2025/08/Cal-DREAM-Sprout_08262025.png
GEO:34.2399076183;-118.526085346
X-APPLE-STRUCTURED-LOCATION;VALUE=URI;X-ADDRESS=DREAM Center University Student Union 18111 Nordhoff St. Northridge CA 91330-8453 United States;X-APPLE-RADIUS=500;X-TITLE=18111 Nordhoff St.:geo:-118.526085346,34.2399076183
END:VEVENT
END:VCALENDAR