BEGIN:VCALENDAR
VERSION:2.0
PRODID:-//CSUN News &amp; Events - ECPv6.11.2//NONSGML v1.0//EN
CALSCALE:GREGORIAN
METHOD:PUBLISH
X-ORIGINAL-URL:https://news.csun.edu
X-WR-CALDESC:Events for CSUN News &amp; Events
REFRESH-INTERVAL;VALUE=DURATION:PT1H
X-Robots-Tag:noindex
X-PUBLISHED-TTL:PT1H
BEGIN:VTIMEZONE
TZID:America/Los_Angeles
BEGIN:DAYLIGHT
TZOFFSETFROM:-0800
TZOFFSETTO:-0700
TZNAME:PDT
DTSTART:20250309T100000
END:DAYLIGHT
BEGIN:STANDARD
TZOFFSETFROM:-0700
TZOFFSETTO:-0800
TZNAME:PST
DTSTART:20251102T090000
END:STANDARD
END:VTIMEZONE
BEGIN:VEVENT
DTSTART;TZID=America/Los_Angeles:20250602T120000
DTEND;TZID=America/Los_Angeles:20250602T130000
DTSTAMP:20260424T095558
CREATED:20250204T020343Z
LAST-MODIFIED:20250204T020343Z
UID:10005273-1748865600-1748869200@news.csun.edu
SUMMARY:Know Your Rights and Protesting (English)
DESCRIPTION:Join CARECEN to learn more about your immigrant rights\, tips for emergency planning and things to know when protesting. \nRegister for this Event
URL:https://news.csun.edu/event/know-your-rights-and-protesting-english/
LOCATION:Zoom
CATEGORIES:DREAM Center,University Student Union
ATTACH;FMTTYPE=image/png:https://news.csun.edu/wp-content/uploads/2024/09/Calendar_Placeholder_imgs7.png
ORGANIZER;CN="USU DREAM Center":MAILTO:dreamcenter@csun.edu
END:VEVENT
BEGIN:VEVENT
DTSTART;TZID=America/Los_Angeles:20250602T140000
DTEND;TZID=America/Los_Angeles:20250602T150000
DTSTAMP:20260424T095558
CREATED:20250204T020645Z
LAST-MODIFIED:20250204T020645Z
UID:10005274-1748872800-1748876400@news.csun.edu
SUMMARY:Conozca Sus Derechos y Protesta (Español)
DESCRIPTION:Únase a CARECEN para obtener más información sobre sus derechos como inmigrante\, consejos para la planificación de emergencias y cosas que debe saber a la hora de protestar. \nRegístrate para este evento
URL:https://news.csun.edu/event/conozca-sus-derechos-y-protesta-espanol/
LOCATION:Zoom
CATEGORIES:DREAM Center,University Student Union
ATTACH;FMTTYPE=image/png:https://news.csun.edu/wp-content/uploads/2024/09/Calendar_Placeholder_imgs7.png
ORGANIZER;CN="USU DREAM Center":MAILTO:dreamcenter@csun.edu
END:VEVENT
BEGIN:VEVENT
DTSTART;TZID=America/Los_Angeles:20250610T140000
DTEND;TZID=America/Los_Angeles:20250610T150000
DTSTAMP:20260424T095558
CREATED:20250204T020814Z
LAST-MODIFIED:20250204T020814Z
UID:10005275-1749564000-1749567600@news.csun.edu
SUMMARY:Hot Topics and Updates in Immigration Law
DESCRIPTION:Dive into some hot topics in Immigration with CARECEN! We will give an overview of topics such as the California Dream Act\, getting a California ID or drivers license\, immigration do’s and don’ts and recent changes. \nRegister for this Event
URL:https://news.csun.edu/event/hot-topics-and-updates-in-immigration-law-2/
LOCATION:Zoom
CATEGORIES:DREAM Center,University Student Union
ATTACH;FMTTYPE=image/png:https://news.csun.edu/wp-content/uploads/2024/09/Calendar_Placeholder_imgs7.png
ORGANIZER;CN="USU DREAM Center":MAILTO:dreamcenter@csun.edu
END:VEVENT
END:VCALENDAR