BEGIN:VCALENDAR
VERSION:2.0
PRODID:-//CSUN News &amp; Events - ECPv6.11.2//NONSGML v1.0//EN
CALSCALE:GREGORIAN
METHOD:PUBLISH
X-ORIGINAL-URL:https://news.csun.edu
X-WR-CALDESC:Events for CSUN News &amp; Events
REFRESH-INTERVAL;VALUE=DURATION:PT1H
X-Robots-Tag:noindex
X-PUBLISHED-TTL:PT1H
BEGIN:VTIMEZONE
TZID:America/Los_Angeles
BEGIN:DAYLIGHT
TZOFFSETFROM:-0800
TZOFFSETTO:-0700
TZNAME:PDT
DTSTART:20240310T100000
END:DAYLIGHT
BEGIN:STANDARD
TZOFFSETFROM:-0700
TZOFFSETTO:-0800
TZNAME:PST
DTSTART:20241103T090000
END:STANDARD
END:VTIMEZONE
BEGIN:VEVENT
DTSTART;TZID=America/Los_Angeles:20240927T150000
DTEND;TZID=America/Los_Angeles:20240927T160000
DTSTAMP:20260420T030629
CREATED:20240920T003848Z
LAST-MODIFIED:20240927T212725Z
UID:10003861-1727449200-1727452800@news.csun.edu
SUMMARY:USU Tech Tips: Canva
DESCRIPTION:If you want to take your presentations and branding to the next level\, Canva is your tool! Our comprehensive class teaches you everything you need to create stunning presentations\, logos and posters. From navigating the platform to adding content like shapes\, charts and media\, we’ll teach you all the basics. And for those who want to take their skills to the next level\, we’ll cover advanced techniques like group projects\, customizing fonts and templates. By the end of the class\, you’ll have all the tools you need to create professional-quality presentations and branding.
URL:https://news.csun.edu/event/usu-tech-tips-canva/2024-09-27/
LOCATION:Computer Lab\, University Student Union\, 18111 Nordhoff St\, Northridge\, 91330\, United States
CATEGORIES:University Student Union
ATTACH;FMTTYPE=image/png:https://news.csun.edu/wp-content/uploads/2024/09/TechTips_Calendar.png
ORGANIZER;CN="USU Computer Lab":MAILTO:usulab@csun.edu
END:VEVENT
END:VCALENDAR