BEGIN:VCALENDAR
VERSION:2.0
PRODID:-//CSUN News &amp; Events - ECPv6.11.2//NONSGML v1.0//EN
CALSCALE:GREGORIAN
METHOD:PUBLISH
X-WR-CALNAME:CSUN News &amp; Events
X-ORIGINAL-URL:https://news.csun.edu
X-WR-CALDESC:Events for CSUN News &amp; Events
REFRESH-INTERVAL;VALUE=DURATION:PT1H
X-Robots-Tag:noindex
X-PUBLISHED-TTL:PT1H
BEGIN:VTIMEZONE
TZID:America/Los_Angeles
BEGIN:DAYLIGHT
TZOFFSETFROM:-0800
TZOFFSETTO:-0700
TZNAME:PDT
DTSTART:20260308T100000
END:DAYLIGHT
BEGIN:STANDARD
TZOFFSETFROM:-0700
TZOFFSETTO:-0800
TZNAME:PST
DTSTART:20261101T090000
END:STANDARD
END:VTIMEZONE
BEGIN:VEVENT
DTSTART;TZID=America/Los_Angeles:20260224T143000
DTEND;TZID=America/Los_Angeles:20260224T153000
DTSTAMP:20260419T202617
CREATED:20260121T192544Z
LAST-MODIFIED:20260121T192544Z
UID:10010233-1771943400-1771947000@news.csun.edu
SUMMARY:Lockdown Browser (in person)
DESCRIPTION:Hosted by Charlie Mahoney  \nIN PERSON Workshop UL 30   \nThis in-person workshop helps faculty use LockDown Browser to secure quizzes and exams in Canvas\, while also learning how to guide students through downloading\, installing\, and testing the tool. We’ll walk through enabling LockDown in your course\, explore Respondus Monitor options\, and troubleshoot common student issues. You’ll leave with a quiz-ready setup\, student instructions\, and FTC support resources.  \n**If you require an ASL interpreter\, please contact your department.
URL:https://news.csun.edu/event/lockdown-browser-in-person/
LOCATION:University Library Room 30
CATEGORIES:Faculty Development,Information Technology,Lockdown Browser,Technology,Workshops
ATTACH;FMTTYPE=image/jpeg:https://news.csun.edu/wp-content/uploads/2026/01/respondus.jpeg
END:VEVENT
END:VCALENDAR