BEGIN:VCALENDAR
VERSION:2.0
PRODID:-//CSUN News &amp; Events - ECPv6.11.2//NONSGML v1.0//EN
CALSCALE:GREGORIAN
METHOD:PUBLISH
X-WR-CALNAME:CSUN News &amp; Events
X-ORIGINAL-URL:https://news.csun.edu
X-WR-CALDESC:Events for CSUN News &amp; Events
REFRESH-INTERVAL;VALUE=DURATION:PT1H
X-Robots-Tag:noindex
X-PUBLISHED-TTL:PT1H
BEGIN:VTIMEZONE
TZID:America/Los_Angeles
BEGIN:DAYLIGHT
TZOFFSETFROM:-0800
TZOFFSETTO:-0700
TZNAME:PDT
DTSTART:20260308T100000
END:DAYLIGHT
BEGIN:STANDARD
TZOFFSETFROM:-0700
TZOFFSETTO:-0800
TZNAME:PST
DTSTART:20261101T090000
END:STANDARD
END:VTIMEZONE
BEGIN:VEVENT
DTSTART;TZID=America/Los_Angeles:20260313T153000
DTEND;TZID=America/Los_Angeles:20260313T170000
DTSTAMP:20260423T025624
CREATED:20260116T213328Z
LAST-MODIFIED:20260123T213543Z
UID:10009764-1773415800-1773421200@news.csun.edu
SUMMARY:Facility Tours — Andrew J. Anagnost College of Engineering and Computer Science
DESCRIPTION:Go behind the scenes to view lab spaces\, learn about research initiatives\, and explore senior design projects that transform engineering concepts into impactful\, real-world solutions! \nRegister Now! \nFacility Tours Include: \n\nConcrete Lab — Civil Engineering and Construction Management.\nHaas Lab — Mechanical Engineering.\nManufacturing and Automation Lab — Manufacturing Systems Engineering and Management.\nMicrowave Lab and Autonomous Unmanned Aerial Vehicle Lab — Electrical and Computer Science.\n\nYou’ll also visit the recently opened Autodesk Technology Engagement Center\, featuring state-of-the-art research facilities. Fun fact: Autodesk CEO Andrew Anagnost is a CSUN alumnus!
URL:https://news.csun.edu/event/cecs-facility-tour-2/
LOCATION:Student Outreach and Recruitment\, Bayramian Hall 190\, 18111 Nordhoff St.\, Northridge\, 91330-8212\, United States
CATEGORIES:Student Outreach and Recruitment
ORGANIZER;CN="College of Engineering and Computer Science":MAILTO:ecsdean@csun.edu
END:VEVENT
BEGIN:VEVENT
DTSTART;TZID=America/Los_Angeles:20260314T100000
DTEND;TZID=America/Los_Angeles:20260314T120000
DTSTAMP:20260423T025624
CREATED:20260113T210728Z
LAST-MODIFIED:20260113T212045Z
UID:10009718-1773482400-1773489600@news.csun.edu
SUMMARY:Riverside Admitted Matadors Reception
DESCRIPTION:CSUN is heading to Riverside to celebrate newly admitted Matadors from the Inland Empire! \nJoin us for a meet and greet with CSUN staff and alumni. Make connections as you find out about campus housing\, financial aid\, student resources and important next steps. \nLocation:\nRiverside Marriott\n3400 Market St.\nRiverside\, CA 92501 \nRegister Now! \nWe want you to have all the information you need to feel confident in your decision to become part of our Matador community. \nThis event is exclusively for members of our fall 2026 incoming class. Light refreshments will be served. \nQuestions? Call Student Outreach and Recruitment at (818) 677-2967 or email outreach.recruitment@csun.edu. \nGo\, Matadors!
URL:https://news.csun.edu/event/amr-26-riverside/
LOCATION:Marriott Riverside at the Convention Center\, 3400 Market St.\, Riverside\, 92501\, United States
CATEGORIES:Student Outreach and Recruitment
ATTACH;FMTTYPE=image/png:https://news.csun.edu/wp-content/uploads/2025/01/Landing-page-banner-900x450-1.png
ORGANIZER;CN="Student Outreach and Recruitment":MAILTO:outreach.recruitment@csun.edu
END:VEVENT
BEGIN:VEVENT
DTSTART;TZID=America/Los_Angeles:20260321T100000
DTEND;TZID=America/Los_Angeles:20260321T123000
DTSTAMP:20260423T025624
CREATED:20260206T172211Z
LAST-MODIFIED:20260206T172211Z
UID:10010555-1774087200-1774096200@news.csun.edu
SUMMARY:APIDA Matador Family Brunch
DESCRIPTION:Celebrate your admission to CSUN and get to know your Asian Pacific Islander Desi American (APIDA) Matador community!  \nJoin us for a morning of connection as we celebrate our newly admitted APIDA Matadors. You’ll meet future classmates\, mingle with APIDA faculty\, staff and alumni\, learn about resources and more.    \nSave the date and watch your CSUN email for your exclusive invitation! 
URL:https://news.csun.edu/event/apida-family-brunch/
LOCATION:Orchard Conference Center\, 18111 Nordhoff Street\, Northridge\, CA\, 91330\, United States
CATEGORIES:Student Outreach and Recruitment
ATTACH;FMTTYPE=image/png:https://news.csun.edu/wp-content/uploads/2026/02/APIDA_MATADOR_FAMILY_BRUNCH_Event-Calendar-Banner_700x350.png
ORGANIZER;CN="Student Outreach and Recruitment":MAILTO:outreach.recruitment@csun.edu
END:VEVENT
BEGIN:VEVENT
DTSTART;TZID=America/Los_Angeles:20260324T123000
DTEND;TZID=America/Los_Angeles:20260324T133000
DTSTAMP:20260423T025624
CREATED:20260318T234450Z
LAST-MODIFIED:20260318T235523Z
UID:10011088-1774355400-1774359000@news.csun.edu
SUMMARY:Art and Design Center Tour
DESCRIPTION:Go behind the scenes of CSUN’s Art and Design Center in the Mike Curb College of Arts\, Media\, and Communication! Find out about the 11 diverse options available to you as an Art major\, explore studios\, labs and other creative spaces\, meet department faculty and view student work and current gallery exhibitions. \nRegister Now
URL:https://news.csun.edu/event/art-and-design-center-tour/
LOCATION:Art and Design Center\, 18111 Nordhoff Street\, Northridge\, 91325\, United States
CATEGORIES:Student Outreach and Recruitment
ATTACH;FMTTYPE=image/png:https://news.csun.edu/wp-content/uploads/2026/03/College-AMC-Form-Banner.png
ORGANIZER;CN="Student Outreach and Recruitment":MAILTO:outreach.recruitment@csun.edu
END:VEVENT
BEGIN:VEVENT
DTSTART;TZID=America/Los_Angeles:20260325T100000
DTEND;TZID=America/Los_Angeles:20260325T140000
DTSTAMP:20260423T025624
CREATED:20260220T162148Z
LAST-MODIFIED:20260220T162148Z
UID:10010750-1774432800-1774447200@news.csun.edu
SUMMARY:CSUN Is Heading to Oxnard College!
DESCRIPTION:Calling all Condors! \nKeep working toward your bachelor’s degree by applying to CSUN as an upper-division transfer student for fall 2026! \nMeet with an admissions advisor and find out if you’re admissible to CSUN\, get help choosing a major or receive general advisement and transcript review. If you have questions about your Cal State Apply application\, our Student Outreach and Recruitment team can help. \nDon’t miss this great opportunity to finalize your path to CSUN. Register today! \nMake an Appointment
URL:https://news.csun.edu/event/onsite-oxnard-college-2026/
LOCATION:Oxnard College\, 4000 South Rose Avenue\, Oxnard\, CA\, 93033\, United States
CATEGORIES:On-site Admissions Appointments,Preadmission Counseling,Student Outreach and Recruitment
ATTACH;FMTTYPE=image/png:https://news.csun.edu/wp-content/uploads/2026/02/On-Site-Admissions-Day-TargetX-Event-Banner-900x500-.png
ORGANIZER;CN="Student Outreach and Recruitment":MAILTO:outreach.recruitment@csun.edu
END:VEVENT
BEGIN:VEVENT
DTSTART;TZID=America/Los_Angeles:20260330T153000
DTEND;TZID=America/Los_Angeles:20260330T163000
DTSTAMP:20260423T025624
CREATED:20260218T205433Z
LAST-MODIFIED:20260218T205433Z
UID:10010771-1774884600-1774888200@news.csun.edu
SUMMARY:Mock Business Law Class — David Nazarian College of Business and Economics
DESCRIPTION:Experience business law as a CSUN student by participating in a mock class led by department faculty. You’ll analyze a hypothetical lawsuit\, discuss legal arguments and consider the real-world business implications in this interactive preview of college-level learning. \nRegister Now!
URL:https://news.csun.edu/event/mock-business-law-class-david-nazarian-college-of-business-and-economics/
LOCATION:Student Outreach and Recruitment\, Bayramian Hall 190\, 18111 Nordhoff St.\, Northridge\, 91330-8212\, United States
CATEGORIES:Student Outreach and Recruitment
ORGANIZER;CN="David Nazarian College of Business and Economics":MAILTO:nazariancollege@csun.edu
END:VEVENT
BEGIN:VEVENT
DTSTART;TZID=America/Los_Angeles:20260403T153000
DTEND;TZID=America/Los_Angeles:20260403T163000
DTSTAMP:20260423T025624
CREATED:20260326T231514Z
LAST-MODIFIED:20260326T231514Z
UID:10011134-1775230200-1775233800@news.csun.edu
SUMMARY:Mock Biology Class — College of Science and Mathematics
DESCRIPTION:What can crocodile behavior tell us about the diversity of animals on Earth? Find out in a mini lecture and discussion with professor Jeanne Robertson\, Ph.D.\, and see what it’s like to study Biology as a Matador!\nRegister Now!
URL:https://news.csun.edu/event/csm-mock-biology-class/
LOCATION:Student Outreach and Recruitment\, Bayramian Hall 190\, 18111 Nordhoff St.\, Northridge\, 91330-8212\, United States
CATEGORIES:Student Outreach and Recruitment
ATTACH;FMTTYPE=image/png:https://news.csun.edu/wp-content/uploads/2026/03/College_SM_banner.png
ORGANIZER;CN="Student Outreach and Recruitment":MAILTO:outreach.recruitment@csun.edu
END:VEVENT
BEGIN:VEVENT
DTSTART;TZID=America/Los_Angeles:20260411T083000
DTEND;TZID=America/Los_Angeles:20260411T150000
DTSTAMP:20260423T025624
CREATED:20260209T183715Z
LAST-MODIFIED:20260421T185238Z
UID:10010560-1775896200-1775919600@news.csun.edu
SUMMARY:Admitted Matadors Day
DESCRIPTION:Join Us for Admitted Matadors Day!\nSaturday\, April 11\, from 8:30 a.m. to 3 p.m.\nCalling all newly admitted Matadors for fall ’26! Join us for a day of Matador spirit as we celebrate YOU and your admission to CSUN. \nAdmitted Matadors Day is your opportunity to explore CSUN and learn about financial aid\, campus housing\, student resources and why accepting your offer of admission is the right choice to help build your successful future! \nLearn more about Admitted Matadors Day and mark your calendar. Registration is now open. \nWe’ll see you on April 11. Go\, Matadors!
URL:https://news.csun.edu/event/amd-26/
LOCATION:CSUN Campus\, 18111 Nordhoff Street\, Northridge\, CA\, 91324\, United States
CATEGORIES:Admitted Matadors Day,Student Outreach and Recruitment
ATTACH;FMTTYPE=image/png:https://news.csun.edu/wp-content/uploads/2026/02/email-banner-matador-2026-1200x425-1.png
ORGANIZER;CN="Student Outreach and Recruitment":MAILTO:outreach.recruitment@csun.edu
END:VEVENT
BEGIN:VEVENT
DTSTART;TZID=America/Los_Angeles:20260411T083000
DTEND;TZID=America/Los_Angeles:20260411T150000
DTSTAMP:20260423T025624
CREATED:20260406T164357Z
LAST-MODIFIED:20260406T164357Z
UID:10011310-1775896200-1775919600@news.csun.edu
SUMMARY:Join the Nazarian College for Admitted Matadors Day
DESCRIPTION:Welcome all newly admitted Matadors for fall 2026! \nAdmitted Matadors Day is your opportunity to explore the Nazarian College and all that it has to offer. \n  \nAcademic Showcase details:\n10 to 10:45 a.m. | Noon to 12:45 p.m. — Program overview with the dean and associate dean. The 10 a.m. session takes place in Noski Auditorium. The noon presentation is in Bookstein Hall 4117. \n10 a.m. to 2 p.m. — Connect with representatives from the Business Honors program\, the Career Education and Professional Development program\, advisors from Nazarian College’s Student Services Center/Educational Opportunity Program office\, and student clubs and organizations in the Bookstein Hall courtyard. \n10 a.m. to 3 p.m. — Representatives from the college will be at the Resource Fair on the Sierra Quad. \n11 to 11:45 a.m. | 1 to 1:45 p.m. — Academic department presentations \n  \nTo learn more please visit: Academic Showcases | CSUN
URL:https://news.csun.edu/event/join-the-nazarian-college-for-admitted-matadors-day/
LOCATION:Noski Auditorium\, 18111 Nordhoff St\, Northridge\, CA\, 91330\, United States
CATEGORIES:Academic Showcases,Admitted Matadors Day,Newly Admitted Students
ATTACH;FMTTYPE=image/jpeg:https://news.csun.edu/wp-content/uploads/2026/04/IXLA-business-06-1-scaled-e1775493829648.jpg
GEO:34.242312;-118.531312
X-APPLE-STRUCTURED-LOCATION;VALUE=URI;X-ADDRESS=Noski Auditorium 18111 Nordhoff St Northridge CA 91330 United States;X-APPLE-RADIUS=500;X-TITLE=18111 Nordhoff St:geo:-118.531312,34.242312
END:VEVENT
BEGIN:VEVENT
DTSTART;TZID=America/Los_Angeles:20260415T123000
DTEND;TZID=America/Los_Angeles:20260415T133000
DTSTAMP:20260423T025624
CREATED:20260318T234938Z
LAST-MODIFIED:20260318T235242Z
UID:10011089-1776256200-1776259800@news.csun.edu
SUMMARY:Art and Design Center Tour
DESCRIPTION:Go behind the scenes of CSUN’s Art and Design Center in the Mike Curb College of Arts\, Media\, and Communication! Find out about the 11 diverse options available to you as an Art major\, explore studios\, labs and other creative spaces\, meet department faculty and view student work and current gallery exhibitions. \nRegister Now
URL:https://news.csun.edu/event/mccamc-design-center-tour-2/
LOCATION:Art and Design Center\, 18111 Nordhoff Street\, Northridge\, 91325\, United States
CATEGORIES:Student Outreach and Recruitment
ATTACH;FMTTYPE=image/png:https://news.csun.edu/wp-content/uploads/2026/03/College-AMC-Form-Banner.png
ORGANIZER;CN="Student Outreach and Recruitment":MAILTO:outreach.recruitment@csun.edu
END:VEVENT
BEGIN:VEVENT
DTSTART;TZID=America/Los_Angeles:20260422T100000
DTEND;TZID=America/Los_Angeles:20260422T130000
DTSTAMP:20260423T025624
CREATED:20260312T234523Z
LAST-MODIFIED:20260312T234523Z
UID:10010942-1776852000-1776862800@news.csun.edu
SUMMARY:CSUN Day at Valley College
DESCRIPTION:CSUN is heading to Los Angeles Valley College! \nConnect with representatives from admissions\, financial aid\, student housing and more. Chat with faculty and staff from the eight academic colleges that represent our more than 150 majors and programs. Learn about our cultural houses\, student resources\, student life and more.  \nWhether you’re a newly admitted Matador ready for your next steps or you’re interested in transferring to CSUN in the future\, this is a great opportunity to find out more about how becoming a #ProudMatador will help you reach your goals.  \nQuestions about CSUN Day at Valley College? Call our Student Outreach and Recruitment team at (818) 677-2967 or email outreach.recruitment@csun.edu.   \nLocation: Valley College\, Student Services Plaza 
URL:https://news.csun.edu/event/csun-days-valley-college/
LOCATION:LA Valley College\, 5800 Fulton Ave.\, Valley Glen\, CA\, 91401\, United States
CATEGORIES:Student Outreach and Recruitment
ATTACH;FMTTYPE=image/png:https://news.csun.edu/wp-content/uploads/2026/03/CSUN-DAY-Event-Listing-Banner-900x514-1.png
ORGANIZER;CN="Student Outreach and Recruitment":MAILTO:outreach.recruitment@csun.edu
END:VEVENT
BEGIN:VEVENT
DTSTART;TZID=America/Los_Angeles:20260428T100000
DTEND;TZID=America/Los_Angeles:20260428T130000
DTSTAMP:20260423T025624
CREATED:20260312T230917Z
LAST-MODIFIED:20260312T230917Z
UID:10010940-1777370400-1777381200@news.csun.edu
SUMMARY:CSUN Day at Mission College
DESCRIPTION:CSUN is heading to Los Angeles Mission College! \nConnect with representatives from admissions\, financial aid\, student housing and more. Chat with faculty and staff from the eight academic colleges that represent our more than 150 majors and programs. Learn about our cultural houses\, student resources\, student life and more.  \nWhether you’re a newly admitted Matador ready for your next steps or you’re interested in transferring to CSUN in the future\, this is a great opportunity to find out more about how becoming a #ProudMatador will help you reach your goals.  \nQuestions about CSUN Day at Mission College? Call our Student Outreach and Recruitment team at (818) 677-2967 or email outreach.recruitment@csun.edu.   \nLocation: Mission College\, East Campus\, Center for Math & Science patio 
URL:https://news.csun.edu/event/csun-days-mission-college/
LOCATION:Mission College\, 13356 Eldridge Ave.\, Sylmar\, 91342\, United States
CATEGORIES:Student Outreach and Recruitment
ATTACH;FMTTYPE=image/png:https://news.csun.edu/wp-content/uploads/2026/03/CSUN-DAY-Event-Listing-Banner-900x514-1.png
ORGANIZER;CN="Student Outreach and Recruitment":MAILTO:outreach.recruitment@csun.edu
END:VEVENT
BEGIN:VEVENT
DTSTART;TZID=America/Los_Angeles:20260428T123000
DTEND;TZID=America/Los_Angeles:20260428T133000
DTSTAMP:20260423T025624
CREATED:20260318T234818Z
LAST-MODIFIED:20260318T235341Z
UID:10011098-1777379400-1777383000@news.csun.edu
SUMMARY:Art and Design Center Tour
DESCRIPTION:Go behind the scenes of CSUN’s Art and Design Center in the Mike Curb College of Arts\, Media\, and Communication! Find out about the 11 diverse options available to you as an Art major\, explore studios\, labs and other creative spaces\, meet department faculty and view student work and current gallery exhibitions. \nRegister Now
URL:https://news.csun.edu/event/mccamc-design-center-tour-3/
LOCATION:Art and Design Center\, 18111 Nordhoff Street\, Northridge\, 91325\, United States
CATEGORIES:Student Outreach and Recruitment
ATTACH;FMTTYPE=image/png:https://news.csun.edu/wp-content/uploads/2026/03/College-AMC-Form-Banner.png
ORGANIZER;CN="Student Outreach and Recruitment":MAILTO:outreach.recruitment@csun.edu
END:VEVENT
BEGIN:VEVENT
DTSTART;TZID=America/Los_Angeles:20260429T100000
DTEND;TZID=America/Los_Angeles:20260429T130000
DTSTAMP:20260423T025624
CREATED:20260312T231612Z
LAST-MODIFIED:20260316T194750Z
UID:10010941-1777456800-1777467600@news.csun.edu
SUMMARY:CSUN Day at Pierce College
DESCRIPTION:CSUN is heading to Los Angeles Pierce College! \nConnect with representatives from admissions\, financial aid\, student housing and more. Chat with faculty and staff from the eight academic colleges that represent our more than 150 majors and programs. Learn about our cultural houses\, student resources\, student life and more.  \nWhether you’re a newly admitted Matador ready for your next steps or you’re interested in transferring to CSUN in the future\, this is a great opportunity to find out more about how becoming a #ProudMatador will help you reach your goals.  \nQuestions about CSUN Day at Pierce College? Call our Student Outreach and Recruitment team at (818) 677-2967 or email outreach.recruitment@csun.edu.   \nLocation: Pierce College\, Great Hall 
URL:https://news.csun.edu/event/csun-day-at-pierce-college-2/
LOCATION:Pierce College\, 6201 Winnetka Ave.\, Woodland Hills\, CA\, 91367\, United States
CATEGORIES:Student Outreach and Recruitment
ATTACH;FMTTYPE=image/png:https://news.csun.edu/wp-content/uploads/2026/03/CSUN-DAY-Event-Listing-Banner-900x514-1.png
ORGANIZER;CN="Student Outreach and Recruitment":MAILTO:outreach.recruitment@csun.edu
END:VEVENT
BEGIN:VEVENT
DTSTART;TZID=America/Los_Angeles:20260506T123000
DTEND;TZID=America/Los_Angeles:20260506T133000
DTSTAMP:20260423T025624
CREATED:20260318T234641Z
LAST-MODIFIED:20260318T235313Z
UID:10011099-1778070600-1778074200@news.csun.edu
SUMMARY:Art and Design Center Tour
DESCRIPTION:Go behind the scenes of CSUN’s Art and Design Center in the Mike Curb College of Arts\, Media\, and Communication! Find out about the 11 diverse options available to you as an Art major\, explore studios\, labs and other creative spaces\, meet department faculty and view student work and current gallery exhibitions. \nRegister Now
URL:https://news.csun.edu/event/mccamc-design-center-tour-4/
LOCATION:Art and Design Center\, 18111 Nordhoff Street\, Northridge\, 91325\, United States
CATEGORIES:Student Outreach and Recruitment
ATTACH;FMTTYPE=image/png:https://news.csun.edu/wp-content/uploads/2026/03/College-AMC-Form-Banner.png
ORGANIZER;CN="Student Outreach and Recruitment":MAILTO:outreach.recruitment@csun.edu
END:VEVENT
BEGIN:VEVENT
DTSTART;TZID=America/Los_Angeles:20260508T153000
DTEND;TZID=America/Los_Angeles:20260508T170000
DTSTAMP:20260423T025624
CREATED:20260116T214011Z
LAST-MODIFIED:20260123T213528Z
UID:10009765-1778254200-1778259600@news.csun.edu
SUMMARY:Facility Tours — Andrew J. Anagnost College of Engineering and Computer Science
DESCRIPTION:Go behind the scenes to view lab spaces\, learn about research initiatives\, and explore senior design projects that transform engineering concepts into impactful\, real-world solutions! \nRegister Now! \nFacility Tours Include: \n\nConcrete Lab — Civil Engineering and Construction Management.\nHaas Lab — Mechanical Engineering.\nManufacturing and Automation Lab — Manufacturing Systems Engineering and Management.\nMicrowave Lab and Autonomous Unmanned Aerial Vehicle Lab — Electrical and Computer Science.\n\nYou’ll also visit the recently opened Autodesk Technology Engagement Center\, featuring state-of-the-art research facilities. Fun fact: Autodesk CEO Andrew Anagnost is a CSUN alumnus!
URL:https://news.csun.edu/event/cecs-facility-tour-3/
LOCATION:Student Outreach and Recruitment\, Bayramian Hall 190\, 18111 Nordhoff St.\, Northridge\, 91330-8212\, United States
CATEGORIES:Student Outreach and Recruitment
ORGANIZER;CN="College of Engineering and Computer Science":MAILTO:ecsdean@csun.edu
END:VEVENT
END:VCALENDAR