BEGIN:VCALENDAR
VERSION:2.0
PRODID:-//CSUN News &amp; Events - ECPv6.11.2//NONSGML v1.0//EN
CALSCALE:GREGORIAN
METHOD:PUBLISH
X-WR-CALNAME:CSUN News &amp; Events
X-ORIGINAL-URL:https://news.csun.edu
X-WR-CALDESC:Events for CSUN News &amp; Events
REFRESH-INTERVAL;VALUE=DURATION:PT1H
X-Robots-Tag:noindex
X-PUBLISHED-TTL:PT1H
BEGIN:VTIMEZONE
TZID:America/Los_Angeles
BEGIN:DAYLIGHT
TZOFFSETFROM:-0800
TZOFFSETTO:-0700
TZNAME:PDT
DTSTART:20240310T100000
END:DAYLIGHT
BEGIN:STANDARD
TZOFFSETFROM:-0700
TZOFFSETTO:-0800
TZNAME:PST
DTSTART:20241103T090000
END:STANDARD
END:VTIMEZONE
BEGIN:VEVENT
DTSTART;TZID=America/Los_Angeles:20240815T100000
DTEND;TZID=America/Los_Angeles:20240815T140000
DTSTAMP:20260420T171421
CREATED:20240627T162211Z
LAST-MODIFIED:20240719T233737Z
UID:10000569-1723716000-1723730400@news.csun.edu
SUMMARY:CSUN is Heading to Los Angeles Valley College!
DESCRIPTION:Transfer to CSUN This Spring!\nKeep working toward your bachelor’s degree by applying to CSUN as an upper-division transfer student for spring ’25! \nAdmissions Appointments:\nWatch your email for an invitation to schedule an admissions appointment where you can: \n\nFind out on-the-spot if you’re admissible to CSUN.\nGet help choosing a major.\nReceive general advisement and a review of your transcript.\n\nApplication Workshop:\nIf you’re working on your Cal State Apply application for spring ’25 and have questions\, our preadmissions counselors will be available to help. Stop by the workshop anytime between 10 a.m. and 2 p.m. — no appointment necessary! \nYou’ll find us in the Student Services Annex\, Room 245. \nDon’t miss this great opportunity to finalize your path to CSUN. The spring ’25 transfer application is open from Aug. 1 to Aug. 31. \nPlease email or stop by the Career/Transfer Center to make an appointment with a representative. LACCD encourages persons with disabilities to participate in its programs and activities. Please allow 10 days if you anticipate on needing any type of accommodation or have questions about the physical or virtual access provided\, contact the Career/Transfer Center at careertransfercenter@lavc.edu as soon as possible\, but no later than ten (10) business days prior to the event.
URL:https://news.csun.edu/event/csun-is-heading-to-los-angeles-valley-college/
LOCATION:LA Valley College\, 5800 Fulton Ave.\, Valley Glen\, CA\, 91401\, United States
CATEGORIES:Prospective Students,Student Outreach and Recruitment,Transfer Students
ATTACH;FMTTYPE=image/png:https://news.csun.edu/wp-content/uploads/2024/03/admitted-day-matadors-banner-Web2-1536x768-1.png
ORGANIZER;CN="Student Outreach and Recruitment":MAILTO:outreach.recruitment@csun.edu
END:VEVENT
END:VCALENDAR