BEGIN:VCALENDAR
VERSION:2.0
PRODID:-//CSUN News &amp; Events - ECPv6.11.2//NONSGML v1.0//EN
CALSCALE:GREGORIAN
METHOD:PUBLISH
X-WR-CALNAME:CSUN News &amp; Events
X-ORIGINAL-URL:https://news.csun.edu
X-WR-CALDESC:Events for CSUN News &amp; Events
REFRESH-INTERVAL;VALUE=DURATION:PT1H
X-Robots-Tag:noindex
X-PUBLISHED-TTL:PT1H
BEGIN:VTIMEZONE
TZID:America/Los_Angeles
BEGIN:DAYLIGHT
TZOFFSETFROM:-0800
TZOFFSETTO:-0700
TZNAME:PDT
DTSTART:20260308T100000
END:DAYLIGHT
BEGIN:STANDARD
TZOFFSETFROM:-0700
TZOFFSETTO:-0800
TZNAME:PST
DTSTART:20261101T090000
END:STANDARD
END:VTIMEZONE
BEGIN:VEVENT
DTSTART;TZID=America/Los_Angeles:20260220T140000
DTEND;TZID=America/Los_Angeles:20260220T160000
DTSTAMP:20260420T141953
CREATED:20260212T235413Z
LAST-MODIFIED:20260212T235413Z
UID:10010670-1771596000-1771603200@news.csun.edu
SUMMARY:Chinese New Year Coffee Hour
DESCRIPTION:Chinese New Year! Come celebrate the year of the Horse with us! \nThe IESC believes that cross-cultural understanding is an important part of being a citizen of the world. Coffee hour is a time to learn about different cultures from around the world. It is one of the opportunities where international and American students gather to highlight their cultures. Come join us for Coffee Hour!
URL:https://news.csun.edu/event/chinese-new-year-coffee-hour/
LOCATION:International & Exchange Student Center\, USU
CATEGORIES:IESC,International and Exchange Student Center
ATTACH;FMTTYPE=image/jpeg:https://news.csun.edu/wp-content/uploads/2026/02/Chinese-New-Year-2026.jpg
END:VEVENT
END:VCALENDAR