BEGIN:VCALENDAR
VERSION:2.0
PRODID:-//CSUN News &amp; Events - ECPv6.11.2//NONSGML v1.0//EN
CALSCALE:GREGORIAN
METHOD:PUBLISH
X-ORIGINAL-URL:https://news.csun.edu
X-WR-CALDESC:Events for CSUN News &amp; Events
REFRESH-INTERVAL;VALUE=DURATION:PT1H
X-Robots-Tag:noindex
X-PUBLISHED-TTL:PT1H
BEGIN:VTIMEZONE
TZID:America/Los_Angeles
BEGIN:DAYLIGHT
TZOFFSETFROM:-0800
TZOFFSETTO:-0700
TZNAME:PDT
DTSTART:20250309T100000
END:DAYLIGHT
BEGIN:STANDARD
TZOFFSETFROM:-0700
TZOFFSETTO:-0800
TZNAME:PST
DTSTART:20251102T090000
END:STANDARD
END:VTIMEZONE
BEGIN:VEVENT
DTSTART;TZID=America/Los_Angeles:20250308T133000
DTEND;TZID=America/Los_Angeles:20250308T150000
DTSTAMP:20260425T055855
CREATED:20240730T003706Z
LAST-MODIFIED:20250306T233459Z
UID:10002891-1741440600-1741446000@news.csun.edu
SUMMARY:SAI - Scholarship Winners Recital
DESCRIPTION:SAI – 44th Annual Scholarship Winners Recital\nThe SAI Scholarship Winners Concert will feature the \nscholarship winners in the categories of \npiano\, voice\, and instrumental. \n1st Piano:\nDutch Dodge\, CSUN\n\n1st Voice:\nJingyi Han\, CSUN\n\n2nd Voice:\nLeilah Telon\, CSUN\nFREE ADMISSION \nSuggested Parking via Kiosks in Lot B1 \n 
URL:https://news.csun.edu/event/sai-scholarship-winners-recital-44th-annual/
LOCATION:Shigemi Matsumoto Recital Hall (via Cypress Hall Courtyard)\, 18236 Nordhoff St\, Northridge\, CA\, 91325\, United States
CATEGORIES:Arts and Culture,Music,Special Events and Masterclasses
ATTACH;FMTTYPE=image/png:https://news.csun.edu/wp-content/uploads/2024/07/SAIPAC-Scholarship-Flyer-March-2025-e1740702758891.png
ORGANIZER;CN="Music":MAILTO:music@csun.edu
GEO:34.2363889;-118.529444444
X-APPLE-STRUCTURED-LOCATION;VALUE=URI;X-ADDRESS=Shigemi Matsumoto Recital Hall (via Cypress Hall Courtyard) 18236 Nordhoff St Northridge CA 91325 United States;X-APPLE-RADIUS=500;X-TITLE=18236 Nordhoff St:geo:-118.529444444,34.2363889
END:VEVENT
END:VCALENDAR