BEGIN:VCALENDAR
VERSION:2.0
PRODID:-//CSUN News &amp; Events - ECPv6.11.2//NONSGML v1.0//EN
CALSCALE:GREGORIAN
METHOD:PUBLISH
X-ORIGINAL-URL:https://news.csun.edu
X-WR-CALDESC:Events for CSUN News &amp; Events
REFRESH-INTERVAL;VALUE=DURATION:PT1H
X-Robots-Tag:noindex
X-PUBLISHED-TTL:PT1H
BEGIN:VTIMEZONE
TZID:America/Los_Angeles
BEGIN:DAYLIGHT
TZOFFSETFROM:-0800
TZOFFSETTO:-0700
TZNAME:PDT
DTSTART:20240310T100000
END:DAYLIGHT
BEGIN:STANDARD
TZOFFSETFROM:-0700
TZOFFSETTO:-0800
TZNAME:PST
DTSTART:20241103T090000
END:STANDARD
END:VTIMEZONE
BEGIN:VEVENT
DTSTART;TZID=America/Los_Angeles:20241123T150000
DTEND;TZID=America/Los_Angeles:20241123T170000
DTSTAMP:20260423T182530
CREATED:20240725T194310Z
LAST-MODIFIED:20241031T215403Z
UID:10000826-1732374000-1732381200@news.csun.edu
SUMMARY:Chamber Recital and Guitar Ensemble Concert
DESCRIPTION:Chamber Recital and Guitar Ensemble Concert\nFREE Event\, open to the public \nNovember 23 at 3:00 pm Shigemi Matsumoto Recital Hall \n\n  \nSuggested Parking via Kiosks in Lot B1
URL:https://news.csun.edu/event/chamber-recital-and-guitar-ensemble-nov-2024/
LOCATION:Shigemi Matsumoto Recital Hall (via Cypress Hall Courtyard)\, 18236 Nordhoff St\, Northridge\, CA\, 91325\, United States
CATEGORIES:Arts and Culture,Music,Special Events and Masterclasses
ATTACH;FMTTYPE=image/png:https://news.csun.edu/wp-content/uploads/2024/07/MUSIC-16_9-GUITAR.png
ORGANIZER;CN="Music":MAILTO:music@csun.edu
GEO:34.2363889;-118.529444444
X-APPLE-STRUCTURED-LOCATION;VALUE=URI;X-ADDRESS=Shigemi Matsumoto Recital Hall (via Cypress Hall Courtyard) 18236 Nordhoff St Northridge CA 91325 United States;X-APPLE-RADIUS=500;X-TITLE=18236 Nordhoff St:geo:-118.529444444,34.2363889
END:VEVENT
BEGIN:VEVENT
DTSTART;TZID=America/Los_Angeles:20241123T193000
DTEND;TZID=America/Los_Angeles:20241123T213000
DTSTAMP:20260423T182530
CREATED:20240725T194207Z
LAST-MODIFIED:20241115T202323Z
UID:10002537-1732390200-1732397400@news.csun.edu
SUMMARY:CSUN Opera: Poulenc Nov 21-24
DESCRIPTION:CSUN OPERA: Poulenc\nNovember 23 at 7:30 pm Campus Theater (Nordhoff Hall) \n11/21 at 7:30 PM \n11/22 at 7:30 PM \n11/23 at 7:30 PM \n11/24 at 2:30 PM \nSuggested Parking via Kiosks in Lot B1 \nTICKETS: $10 to $22 \nCan’t attend in Person? View LIVESTREAM
URL:https://news.csun.edu/event/csun-opera-poulenc-nov-21-24-2/
LOCATION:Campus Theatre (Nordhoff Hall)\, 18111 Nordhoff St\, Los Angeles\, 91325\, United States
CATEGORIES:Arts and Culture,Music,Theatre,Ticketed Events
ATTACH;FMTTYPE=image/png:https://news.csun.edu/wp-content/uploads/2024/07/169-OPERA-POULENC-NOV-2024.png
ORGANIZER;CN="Music":MAILTO:music@csun.edu
END:VEVENT
END:VCALENDAR