BEGIN:VCALENDAR
VERSION:2.0
PRODID:-//CSUN News &amp; Events - ECPv6.11.2//NONSGML v1.0//EN
CALSCALE:GREGORIAN
METHOD:PUBLISH
X-ORIGINAL-URL:https://news.csun.edu
X-WR-CALDESC:Events for CSUN News &amp; Events
REFRESH-INTERVAL;VALUE=DURATION:PT1H
X-Robots-Tag:noindex
X-PUBLISHED-TTL:PT1H
BEGIN:VTIMEZONE
TZID:America/Los_Angeles
BEGIN:DAYLIGHT
TZOFFSETFROM:-0800
TZOFFSETTO:-0700
TZNAME:PDT
DTSTART:20240310T100000
END:DAYLIGHT
BEGIN:STANDARD
TZOFFSETFROM:-0700
TZOFFSETTO:-0800
TZNAME:PST
DTSTART:20241103T090000
END:STANDARD
END:VTIMEZONE
BEGIN:VEVENT
DTSTART;TZID=America/Los_Angeles:20241104T114500
DTEND;TZID=America/Los_Angeles:20241114T164500
DTSTAMP:20260425T070249
CREATED:20241023T214453Z
LAST-MODIFIED:20241023T214453Z
UID:10004497-1730720700-1731602700@news.csun.edu
SUMMARY:Creative Maker Studio Workshops
DESCRIPTION:This Fall the student assistants and staff from the University Library’s Creative Maker Studio (CMS) are hosting workshops on a variety of creative software and topics between Monday\, November 4th to Thursday\, November 14th. Workshops will be held either in-person for a more hands-on\, interactive experience or held online via Zoom! Workshops are available to current CSUN students\, staff\, and faculty so please sign up if you want to learn a new skill! \nSee the workshop schedule and sign up now!
URL:https://news.csun.edu/event/creative-maker-studio-workshops/
LOCATION:University Library 265A and Online
CATEGORIES:Current Students,Learning Technologies,Michael D. Eisner College of Education,Music,Student Affairs,Student Life,Workshop Subcategories
ATTACH;FMTTYPE=image/png:https://news.csun.edu/wp-content/uploads/2024/10/Fall2024-CMS-workshops-900x600-1.png
ORGANIZER;CN="University Library":MAILTO:library.event@csun.edu
END:VEVENT
END:VCALENDAR