BEGIN:VCALENDAR
VERSION:2.0
PRODID:-//CSUN News &amp; Events - ECPv6.11.2//NONSGML v1.0//EN
CALSCALE:GREGORIAN
METHOD:PUBLISH
X-ORIGINAL-URL:https://news.csun.edu
X-WR-CALDESC:Events for CSUN News &amp; Events
REFRESH-INTERVAL;VALUE=DURATION:PT1H
X-Robots-Tag:noindex
X-PUBLISHED-TTL:PT1H
BEGIN:VTIMEZONE
TZID:America/Los_Angeles
BEGIN:DAYLIGHT
TZOFFSETFROM:-0800
TZOFFSETTO:-0700
TZNAME:PDT
DTSTART:20240310T100000
END:DAYLIGHT
BEGIN:STANDARD
TZOFFSETFROM:-0700
TZOFFSETTO:-0800
TZNAME:PST
DTSTART:20241103T090000
END:STANDARD
END:VTIMEZONE
BEGIN:VEVENT
DTSTART;TZID=America/Los_Angeles:20241009T193000
DTEND;TZID=America/Los_Angeles:20241009T213000
DTSTAMP:20260419T084122
CREATED:20240807T160452Z
LAST-MODIFIED:20241007T173150Z
UID:10002976-1728502200-1728509400@news.csun.edu
SUMMARY:Guest Artist Recital - Anna Fridman\, piano
DESCRIPTION:Guest Artist Recital – Anna Fridman\, piano\n“Infernal Love: Chopin and George Sand”\nOctober 9 at 7:30 pm Shigemi Matsumoto Recital Hall\, $10 – $22 \n  \n\n“What an unpleasant woman she is\, and is she even a woman?” — Chopin \nIt’s hard to imagine two people more different than Chopin and George Sand: a frail and sensitive genius\, and an emancipated\, determined woman dressed in men’s clothing\, never without a cigar in her mouth. Can one of France’s most talented and controversial writers find love with the great Polish romantic? Will their feelings turn into love or hate? \nYou will have the chance to peek into Paris and see Chopin\, who has just met George Sand\, and hear the beloved compositions of the Polish genius. \n  \nPROGRAM:\n\nMusic by Frederic Chopin (1810-1849) \nThe following pieces will be performed as part of the story narrated by the performer. \nChopin: Four waltzes: \nOp. 18 in E-flat Major \nOp. 34 No. 2 in A Minor \nOp. 64 No. 2 in C-sharp Minor \nOp. 64 No. 1 in D-Flat Major (“Minute Waltz”) \nThree mazurkas: \nOp. 67 No. 4 in A Minor \nOp. 67 No. 2 in G Minor \nOp. 17 No. 4 in A Minor \nThree nocturnes: \nOp. 15 No. 2 in F-sharp Major \nOp. 62 No. 2 in E Major \nOp. Posthumous 72 No. 1 in E Minor \nFour Preludes\, Op. 28: \nIn C Minor \nIn A Major \nIn E Minor \nIn D-flat Major \nScherzo No. 2 in B-flat Minor\, Op. 31 \n_______________________________ \n\nLearn More about the Artist: ANNA FRIDMAN\nSuggested Parking via Kiosks in Lot B1 \nTICKETS: $10 to $22
URL:https://news.csun.edu/event/guest-artist-recital-anna-fridman-piano/
LOCATION:Shigemi Matsumoto Recital Hall (via Cypress Hall Courtyard)\, 18236 Nordhoff St\, Northridge\, CA\, 91325\, United States
CATEGORIES:Arts and Culture,Music,Ticketed Events
ATTACH;FMTTYPE=image/png:https://news.csun.edu/wp-content/uploads/2024/08/169-ANNA-FRIDMAN-final.png
ORGANIZER;CN="Music":MAILTO:music@csun.edu
GEO:34.2363889;-118.529444444
X-APPLE-STRUCTURED-LOCATION;VALUE=URI;X-ADDRESS=Shigemi Matsumoto Recital Hall (via Cypress Hall Courtyard) 18236 Nordhoff St Northridge CA 91325 United States;X-APPLE-RADIUS=500;X-TITLE=18236 Nordhoff St:geo:-118.529444444,34.2363889
END:VEVENT
END:VCALENDAR