BEGIN:VCALENDAR
VERSION:2.0
PRODID:-//CSUN News &amp; Events - ECPv6.11.2//NONSGML v1.0//EN
CALSCALE:GREGORIAN
METHOD:PUBLISH
X-ORIGINAL-URL:https://news.csun.edu
X-WR-CALDESC:Events for CSUN News &amp; Events
REFRESH-INTERVAL;VALUE=DURATION:PT1H
X-Robots-Tag:noindex
X-PUBLISHED-TTL:PT1H
BEGIN:VTIMEZONE
TZID:America/Los_Angeles
BEGIN:DAYLIGHT
TZOFFSETFROM:-0800
TZOFFSETTO:-0700
TZNAME:PDT
DTSTART:20260308T100000
END:DAYLIGHT
BEGIN:STANDARD
TZOFFSETFROM:-0700
TZOFFSETTO:-0800
TZNAME:PST
DTSTART:20261101T090000
END:STANDARD
END:VTIMEZONE
BEGIN:VEVENT
DTSTART;TZID=America/Los_Angeles:20260505T170000
DTEND;TZID=America/Los_Angeles:20260505T183000
DTSTAMP:20260423T105828
CREATED:20260128T153943Z
LAST-MODIFIED:20260330T185918Z
UID:10010322-1778000400-1778005800@news.csun.edu
SUMMARY:Virtual Open House
DESCRIPTION:Join us for the Spanish M.A. Virtual Open House on May 5\, 2026 from 5:00pm to 6:30pm to learn about the program. \nTo receive the meeting link\, contact Graduate Program Director\, Dr. Svetlana Tyutina at styutina@csun.edu 
URL:https://news.csun.edu/event/virtual-open-house-spanish-m-a/
CATEGORIES:MCLL
LOCATION:https://news.csun.edu/event/virtual-open-house-spanish-m-a/
END:VEVENT
END:VCALENDAR