BEGIN:VCALENDAR
VERSION:2.0
PRODID:-//CSUN News &amp; Events - ECPv6.11.2//NONSGML v1.0//EN
CALSCALE:GREGORIAN
METHOD:PUBLISH
X-ORIGINAL-URL:https://news.csun.edu
X-WR-CALDESC:Events for CSUN News &amp; Events
REFRESH-INTERVAL;VALUE=DURATION:PT1H
X-Robots-Tag:noindex
X-PUBLISHED-TTL:PT1H
BEGIN:VTIMEZONE
TZID:America/Los_Angeles
BEGIN:DAYLIGHT
TZOFFSETFROM:-0800
TZOFFSETTO:-0700
TZNAME:PDT
DTSTART:20260308T100000
END:DAYLIGHT
BEGIN:STANDARD
TZOFFSETFROM:-0700
TZOFFSETTO:-0800
TZNAME:PST
DTSTART:20261101T090000
END:STANDARD
END:VTIMEZONE
BEGIN:VEVENT
DTSTART;TZID=America/Los_Angeles:20260103T100000
DTEND;TZID=America/Los_Angeles:20260103T130000
DTSTAMP:20260423T003346
CREATED:20251103T173908Z
LAST-MODIFIED:20251210T181756Z
UID:10008944-1767434400-1767445200@news.csun.edu
SUMMARY:El Nido Farmers Market
DESCRIPTION:Visit the Marilyn Magaram Center Booth at the El Nido Farmers Market!\nJoin the Marilyn Magaram Center (MMC) every Saturday from 10 AM to 1 PM at the El Nido Farmers Market in Pacoima for a morning full of fresh flavors and healthy inspiration! \nStop by our booth to learn how to prepare easy\, delicious\, and nutritious recipes using seasonal fruits and vegetables from the market. Our team will be sharing cooking demonstrations\, nutrition tips\, and samples that highlight the benefits of eating fresh\, local produce. \nThe El Nido Farmers Market is part of the El Nido Family Centers\, a community organization dedicated to empowering families through education\, health\, and wellness. Come connect with your local community\, discover new ways to eat well\, and take home ideas you can use in your own kitchen! \nLocation: El Nido Farmers Market\, PacoimaTime: Every Saturday\, 10 AM – 1 PM
URL:https://news.csun.edu/event/el-nido-farmers-market/2026-01-03/
LOCATION:EL Nido Farmers Market\, 11243 Glenoaks Blvd\, Pacoima\, 91331
CATEGORIES:Marilyn Magaram Center
END:VEVENT
BEGIN:VEVENT
DTSTART;TZID=America/Los_Angeles:20260110T100000
DTEND;TZID=America/Los_Angeles:20260110T130000
DTSTAMP:20260423T003346
CREATED:20251103T173908Z
LAST-MODIFIED:20251210T181756Z
UID:10008945-1768039200-1768050000@news.csun.edu
SUMMARY:El Nido Farmers Market
DESCRIPTION:Visit the Marilyn Magaram Center Booth at the El Nido Farmers Market!\nJoin the Marilyn Magaram Center (MMC) every Saturday from 10 AM to 1 PM at the El Nido Farmers Market in Pacoima for a morning full of fresh flavors and healthy inspiration! \nStop by our booth to learn how to prepare easy\, delicious\, and nutritious recipes using seasonal fruits and vegetables from the market. Our team will be sharing cooking demonstrations\, nutrition tips\, and samples that highlight the benefits of eating fresh\, local produce. \nThe El Nido Farmers Market is part of the El Nido Family Centers\, a community organization dedicated to empowering families through education\, health\, and wellness. Come connect with your local community\, discover new ways to eat well\, and take home ideas you can use in your own kitchen! \nLocation: El Nido Farmers Market\, PacoimaTime: Every Saturday\, 10 AM – 1 PM
URL:https://news.csun.edu/event/el-nido-farmers-market/2026-01-10/
LOCATION:EL Nido Farmers Market\, 11243 Glenoaks Blvd\, Pacoima\, 91331
CATEGORIES:Marilyn Magaram Center
END:VEVENT
BEGIN:VEVENT
DTSTART;TZID=America/Los_Angeles:20260117T100000
DTEND;TZID=America/Los_Angeles:20260117T130000
DTSTAMP:20260423T003346
CREATED:20251103T173908Z
LAST-MODIFIED:20251210T181756Z
UID:10008946-1768644000-1768654800@news.csun.edu
SUMMARY:El Nido Farmers Market
DESCRIPTION:Visit the Marilyn Magaram Center Booth at the El Nido Farmers Market!\nJoin the Marilyn Magaram Center (MMC) every Saturday from 10 AM to 1 PM at the El Nido Farmers Market in Pacoima for a morning full of fresh flavors and healthy inspiration! \nStop by our booth to learn how to prepare easy\, delicious\, and nutritious recipes using seasonal fruits and vegetables from the market. Our team will be sharing cooking demonstrations\, nutrition tips\, and samples that highlight the benefits of eating fresh\, local produce. \nThe El Nido Farmers Market is part of the El Nido Family Centers\, a community organization dedicated to empowering families through education\, health\, and wellness. Come connect with your local community\, discover new ways to eat well\, and take home ideas you can use in your own kitchen! \nLocation: El Nido Farmers Market\, PacoimaTime: Every Saturday\, 10 AM – 1 PM
URL:https://news.csun.edu/event/el-nido-farmers-market/2026-01-17/
LOCATION:EL Nido Farmers Market\, 11243 Glenoaks Blvd\, Pacoima\, 91331
CATEGORIES:Marilyn Magaram Center
END:VEVENT
BEGIN:VEVENT
DTSTART;TZID=America/Los_Angeles:20260124T100000
DTEND;TZID=America/Los_Angeles:20260124T130000
DTSTAMP:20260423T003346
CREATED:20251103T173908Z
LAST-MODIFIED:20251210T181756Z
UID:10008947-1769248800-1769259600@news.csun.edu
SUMMARY:El Nido Farmers Market
DESCRIPTION:Visit the Marilyn Magaram Center Booth at the El Nido Farmers Market!\nJoin the Marilyn Magaram Center (MMC) every Saturday from 10 AM to 1 PM at the El Nido Farmers Market in Pacoima for a morning full of fresh flavors and healthy inspiration! \nStop by our booth to learn how to prepare easy\, delicious\, and nutritious recipes using seasonal fruits and vegetables from the market. Our team will be sharing cooking demonstrations\, nutrition tips\, and samples that highlight the benefits of eating fresh\, local produce. \nThe El Nido Farmers Market is part of the El Nido Family Centers\, a community organization dedicated to empowering families through education\, health\, and wellness. Come connect with your local community\, discover new ways to eat well\, and take home ideas you can use in your own kitchen! \nLocation: El Nido Farmers Market\, PacoimaTime: Every Saturday\, 10 AM – 1 PM
URL:https://news.csun.edu/event/el-nido-farmers-market/2026-01-24/
LOCATION:EL Nido Farmers Market\, 11243 Glenoaks Blvd\, Pacoima\, 91331
CATEGORIES:Marilyn Magaram Center
END:VEVENT
BEGIN:VEVENT
DTSTART;TZID=America/Los_Angeles:20260131T100000
DTEND;TZID=America/Los_Angeles:20260131T130000
DTSTAMP:20260423T003346
CREATED:20251103T173908Z
LAST-MODIFIED:20251210T181756Z
UID:10008948-1769853600-1769864400@news.csun.edu
SUMMARY:El Nido Farmers Market
DESCRIPTION:Visit the Marilyn Magaram Center Booth at the El Nido Farmers Market!\nJoin the Marilyn Magaram Center (MMC) every Saturday from 10 AM to 1 PM at the El Nido Farmers Market in Pacoima for a morning full of fresh flavors and healthy inspiration! \nStop by our booth to learn how to prepare easy\, delicious\, and nutritious recipes using seasonal fruits and vegetables from the market. Our team will be sharing cooking demonstrations\, nutrition tips\, and samples that highlight the benefits of eating fresh\, local produce. \nThe El Nido Farmers Market is part of the El Nido Family Centers\, a community organization dedicated to empowering families through education\, health\, and wellness. Come connect with your local community\, discover new ways to eat well\, and take home ideas you can use in your own kitchen! \nLocation: El Nido Farmers Market\, PacoimaTime: Every Saturday\, 10 AM – 1 PM
URL:https://news.csun.edu/event/el-nido-farmers-market/2026-01-31/
LOCATION:EL Nido Farmers Market\, 11243 Glenoaks Blvd\, Pacoima\, 91331
CATEGORIES:Marilyn Magaram Center
END:VEVENT
END:VCALENDAR