BEGIN:VCALENDAR
VERSION:2.0
PRODID:-//CSUN News &amp; Events - ECPv6.11.2//NONSGML v1.0//EN
CALSCALE:GREGORIAN
METHOD:PUBLISH
X-ORIGINAL-URL:https://news.csun.edu
X-WR-CALDESC:Events for CSUN News &amp; Events
REFRESH-INTERVAL;VALUE=DURATION:PT1H
X-Robots-Tag:noindex
X-PUBLISHED-TTL:PT1H
BEGIN:VTIMEZONE
TZID:America/Los_Angeles
BEGIN:DAYLIGHT
TZOFFSETFROM:-0800
TZOFFSETTO:-0700
TZNAME:PDT
DTSTART:20260308T100000
END:DAYLIGHT
BEGIN:STANDARD
TZOFFSETFROM:-0700
TZOFFSETTO:-0800
TZNAME:PST
DTSTART:20261101T090000
END:STANDARD
END:VTIMEZONE
BEGIN:VEVENT
DTSTART;TZID=America/Los_Angeles:20260205T180000
DTEND;TZID=America/Los_Angeles:20260205T200000
DTSTAMP:20260424T180319
CREATED:20260115T004250Z
LAST-MODIFIED:20260131T000504Z
UID:10009728-1770314400-1770321600@news.csun.edu
SUMMARY:Cedric the Entertainer at CSUN!
DESCRIPTION:CSBS Salon Series Welcomes Cedric the Entertainer to CSUN!\nThe CSUN College of Social and Behavioral Sciences (CSBS) invites the campus and community to attend a special installment of the CSBS Salon Series\, featuring an evening conversation with award-winning writer\, actor\, entrepreneur\, and Original King of Comedy\, Cedric the Entertainer. \n📅 Date: February 5\, 2026⏰ Time: 6:00–8:00 PM📍 Location: Orchard Conference and Catering Center | CSUN Map/Event Location (.pdf) | CSUN 3D Interactive Map\n🍽️ Complimentary hors d’oeuvres \n \nModeled after the Harlem Renaissance salons\, the CSBS Salon Series is designed to enlighten\, inspire\, and bring together alumni\, friends\, and community members through meaningful dialogue and cultural exchange. This spring’s salon promises an engaging and memorable evening with one of today’s most influential entertainers. \nProceeds from the event will support the CSBS Community Endowed Professorship in Africana Studies (CEPAS) at California State University\, Northridge\, helping advance scholarship and community engagement within the discipline. \nTicket Options \n\nStudent Ticket – $25: Event admission and pre-reception. Alcohol available for guests 21+ with valid ID (cash bar).\nGeneral Admission – $50: Event admission\, pre-reception. Alcohol available for guests 21+ with valid ID (cash bar).\nPremier Ticket – $100: Priority seating and one complimentary drink. Alcohol available for guests 21+ with valid ID.\nVIP Ticket – $500: Priority seating and two complimentary drinks. Alcohol available for guests 21+ with valid ID.\n\nSponsorship Opportunities \n\nSilver Sponsor – $2\,500: 2 VIP tickets\, preferred seating\, gift bag\, meet-and-greet\, and two complimentary drinks per guest\nGold Sponsor – $5\,000: 4 VIP tickets\, preferred seating\, gift bag\, meet-and-greet\, and two complimentary drinks per guest\nPlatinum Sponsor – $10\,000: 8 VIP tickets\, preferred seating\, gift bag\, meet-and-greet\, and two complimentary drinks per guest\n\n \nRequesting Accommodations\nThe CSUN College of Social and Behavioral Sciences is committed to making its events accessible to everyone. If you require an accommodation or service to fully participate\, please let us know. Note: If you require an ASL interpreter\, please contact us no later than end of business day on Wednesday\, January 28\, 2026. To request accommodations\, please contact Jacqueline Edwards at 818-677-4035 or via email at jacqueline.edwards@csun.edu.
URL:https://news.csun.edu/event/cedric-the-entertainer-at-csun/
LOCATION:Orchard Conference Center\, 18111 Nordhoff Street\, Northridge\, CA\, 91330\, United States
CATEGORIES:Alumni,College of Social and Behavioral Sciences,Community Engagement,Family Friendly,Lectures and Guest Speakers
ATTACH;FMTTYPE=image/png:https://news.csun.edu/wp-content/uploads/2026/01/Cedric_the_Entertainer_SalonSeries_Feature_revised.png
END:VEVENT
BEGIN:VEVENT
DTSTART;TZID=America/Los_Angeles:20260402T120000
DTEND;TZID=America/Los_Angeles:20260402T133000
DTSTAMP:20260424T180319
CREATED:20260305T213616Z
LAST-MODIFIED:20260416T145923Z
UID:10010876-1775131200-1775136600@news.csun.edu
SUMMARY:Staying Human in the Age of AI: CSBS Open Discussion Series
DESCRIPTION:Spring 2026 Open Discussion Series: Staying Human in the Age of AI\nWhen and Where\nThursdays | 12:00–1:30 PM \n\nApril 2  (In Person)\nApril 16 (via Zoom)\nJoin Zoom Meeting\nMeeting ID: 898 5500 6864\nPasscode: 312758\nMay 7 (In Person)\n\nWhitsett Room | Sierra Hall\, Room 451 \nOverview\nThis spring\, the College of Social and Behavioral Sciences (CSBS) continues its college-wide exploration of Artificial Intelligence (AI) and Virtual Extended Reality (VXR) in education and social services. Supported by Dean Searcy and led by Dr. Ellie Kazemi (Department of Psychology)\, this series creates an open space for thoughtful\, critical conversation about how these technologies are shaping our classrooms\, disciplines\, and daily work. \nPurpose\nOur College is creating space for open dialogue about pressing concerns such as academic integrity\, erosion of learning\, bias\, labor\, sustainability\, and the preservation of academic values—alongside honest discussion about how AI is already influencing our professional and personal lives. Faculty and staff bring diverse perspectives\, from active integration to intentional limits. The goal is not consensus\, but shared understanding and meaningful exchange grounded in our shared academic values. \nWhy Consider Attending?\nNew tools\, headlines\, and workshops about AI seem to emerge daily. The rapid pace of change in the corporate world is spilling into higher education\, and many of us are being asked to respond quickly—sometimes without adequate space to think. \nThis gathering offers an opportunity to pause and reflect. To make sense of what’s happening alongside colleagues who may share your excitement\, your hesitation\, or both. Together\, we can support one another in navigating a fast-moving and uncertain moment\, and consider how to move forward in ways that align with our values and our students’ needs. \nJoin us as we examine possibilities\, address limitations\, and learn from one another’s approaches to teaching\, research\, and community work. \nRequesting Accommodations\nThe CSUN College of Social and Behavioral Sciences is committed to making its events accessible to everyone. If you require an accommodation or service to fully participate\, please let us know. Note: If you require an ASL interpreter\, please contact us no later than five working days prior to the event. To request accommodations\, please contact Jacqueline Edwards at 818-677-3317 or via email at ashley.rice@csun.edu.
URL:https://news.csun.edu/event/staying-human-in-the-age-of-ai-csbs-workshops/2026-04-02/
LOCATION:Whitsett Room\, SH 451
CATEGORIES:Artificial Intelligence (AI),College of Social and Behavioral Sciences,Current Students,Faculty Development,Lectures and Guest Speakers
ATTACH;FMTTYPE=image/png:https://news.csun.edu/wp-content/uploads/2026/03/AI_SpringWorkshops_Feature-1.png
END:VEVENT
BEGIN:VEVENT
DTSTART;TZID=America/Los_Angeles:20260415T100000
DTEND;TZID=America/Los_Angeles:20260415T150000
DTSTAMP:20260424T180319
CREATED:20260309T203112Z
LAST-MODIFIED:20260325T144702Z
UID:10010921-1776247200-1776265200@news.csun.edu
SUMMARY:Test Drive the Latest Electric Vehicles at the 5th Annual CSUN EV Car Show!
DESCRIPTION:Test Drive the Latest Electric Vehicles! \nDiscover the future of sustainable transportation at CSUN’s Fifth Annual EV Car Show! Hosted by the Institute for Sustainability and the College of Social and Behavioral Sciences\, this event offers hands-on experiences with cutting-edge electric vehicles from top brands. We’ll be showcasing the latest cars and tech from Galpin Motors\, Lucid Motors\, Rivian\, Chargie and Tesla. \nA panel discussion on the EV industry\, will provide valuable insights into the future of electric mobility. Arrive early for giveaways and music. Explore innovation\, sustainability\, and the excitement of electric vehicles! \nDate:\n\nWednesday\, April 15\, 2026\n\nTime:\n\n10:00AM until 3:00PM\nEV Industry Panel Discussion: from 11:30PM until 1:00PM\n\nLocation:\n\nCars will be located near Matador Square\, near the Matador Statue (site of CSUN Farmer’s Market). (See Map)\nEV Industry Panel Discussion\n\nThe Panel Discussion is by invitation only\, please contact the SBS Dean’s Office at (818) 677-3317 if you would like to attend.\nLocation: Sustainability Conference Center in the Institute for Sustainability (See Map)\n\n\n\nParking available in G3 Lot \nCSUN Visitor Parking Information \nAnd the Winner Is!: How Energy Policy Has Influenced the Auto Industry to Move Toward Hybrids\nJoin the Institute for Sustainability and the College of Social and Behavioral Sciences for an interactive panel discussion exploring how energy policy has shaped the automotive industry’s shift toward hybrid vehicles. Industry professionals will share insights into their roles\, academic backgrounds\, and perspectives on how regulations\, incentives\, and evolving energy priorities are influencing innovation and decision-making in the auto sector. The conversation will feature a moderated panel discussion followed by audience Q&A and closing reflections from the panelists. Lunch will be provided for attendees. \nQuestions about this event?\nPlease contact Martha Savelio-Johnson at (818) 677-3317 or via email at martha.saveliojohnson@csun.edu. \n \n  \n 
URL:https://news.csun.edu/event/test-drive-the-latest-electric-vehicles-at-the-5th-annual-csun-ev-car-show/
LOCATION:CSUN Matador Square\, 18111 Nordhoff St\, Northridge\, CA\, 91330\, United States
CATEGORIES:Anthropology Department,College of Social and Behavioral Sciences,Department of History,Family Friendly,Geography and Environmental Studies (GES),History (CSBS),Lectures and Guest Speakers,Political Science,Political Science,Psychology,Social Work,Sociology,Technology,Urban Studies & Planning
ATTACH;FMTTYPE=image/png:https://news.csun.edu/wp-content/uploads/2026/03/EVCarShow_2026_Feature.png
END:VEVENT
BEGIN:VEVENT
DTSTART;TZID=America/Los_Angeles:20260416T120000
DTEND;TZID=America/Los_Angeles:20260416T133000
DTSTAMP:20260424T180319
CREATED:20260305T213616Z
LAST-MODIFIED:20260416T145923Z
UID:10010879-1776340800-1776346200@news.csun.edu
SUMMARY:Staying Human in the Age of AI: CSBS Open Discussion Series
DESCRIPTION:Spring 2026 Open Discussion Series: Staying Human in the Age of AI\nWhen and Where\nThursdays | 12:00–1:30 PM \n\nApril 2  (In Person)\nApril 16 (via Zoom)\nJoin Zoom Meeting\nMeeting ID: 898 5500 6864\nPasscode: 312758\nMay 7 (In Person)\n\nWhitsett Room | Sierra Hall\, Room 451 \nOverview\nThis spring\, the College of Social and Behavioral Sciences (CSBS) continues its college-wide exploration of Artificial Intelligence (AI) and Virtual Extended Reality (VXR) in education and social services. Supported by Dean Searcy and led by Dr. Ellie Kazemi (Department of Psychology)\, this series creates an open space for thoughtful\, critical conversation about how these technologies are shaping our classrooms\, disciplines\, and daily work. \nPurpose\nOur College is creating space for open dialogue about pressing concerns such as academic integrity\, erosion of learning\, bias\, labor\, sustainability\, and the preservation of academic values—alongside honest discussion about how AI is already influencing our professional and personal lives. Faculty and staff bring diverse perspectives\, from active integration to intentional limits. The goal is not consensus\, but shared understanding and meaningful exchange grounded in our shared academic values. \nWhy Consider Attending?\nNew tools\, headlines\, and workshops about AI seem to emerge daily. The rapid pace of change in the corporate world is spilling into higher education\, and many of us are being asked to respond quickly—sometimes without adequate space to think. \nThis gathering offers an opportunity to pause and reflect. To make sense of what’s happening alongside colleagues who may share your excitement\, your hesitation\, or both. Together\, we can support one another in navigating a fast-moving and uncertain moment\, and consider how to move forward in ways that align with our values and our students’ needs. \nJoin us as we examine possibilities\, address limitations\, and learn from one another’s approaches to teaching\, research\, and community work. \nRequesting Accommodations\nThe CSUN College of Social and Behavioral Sciences is committed to making its events accessible to everyone. If you require an accommodation or service to fully participate\, please let us know. Note: If you require an ASL interpreter\, please contact us no later than five working days prior to the event. To request accommodations\, please contact Jacqueline Edwards at 818-677-3317 or via email at ashley.rice@csun.edu.
URL:https://news.csun.edu/event/staying-human-in-the-age-of-ai-csbs-workshops/2026-04-16/
LOCATION:Whitsett Room\, SH 451
CATEGORIES:Artificial Intelligence (AI),College of Social and Behavioral Sciences,Current Students,Faculty Development,Lectures and Guest Speakers
ATTACH;FMTTYPE=image/png:https://news.csun.edu/wp-content/uploads/2026/03/AI_SpringWorkshops_Feature-1.png
END:VEVENT
BEGIN:VEVENT
DTSTART;TZID=America/Los_Angeles:20260421T160000
DTEND;TZID=America/Los_Angeles:20260421T170000
DTSTAMP:20260424T180319
CREATED:20260413T212618Z
LAST-MODIFIED:20260413T213539Z
UID:10011340-1776787200-1776790800@news.csun.edu
SUMMARY:Jineology The Theory and Practice of Kurdish Womens Liberation
DESCRIPTION:This talk and screening will uplift the theory and practice of Jineology\, the Kurdish Women’s Liberation movement. \nHamoun Dolatshahi is a Kurdish-Iranian filmmaker and founder/CEO of Zagros Film LLC\, a Los Angeles-based studio focused on bold\, socially driven storytelling for film and television. Born in Kermanshah\, Iran\, he came to the U.S. as a refugee in 2010\, and his work explores identity\, migration\, and cultural experience in the diaspora. He holds a BA from UC San Diego and an MFA in Directing and Producing from UCLA. His credits include short films\, music videos\, and work as a producer and assistant director on numerous projects\, including the A24/Netflix series \nBEEF. He will be discussing his latest film JIN (2024)\, which explores Al\, language ethics\, and Kurdish feminist theory. \nFor more information contact: khanum.shaikh@csun.edu
URL:https://news.csun.edu/event/jineology-the-theory-and-practice-of-kurdish-womens-liberation/
LOCATION:Maple Hall 204
CATEGORIES:Community Engagement,Lectures and Guest Speakers
ATTACH;FMTTYPE=image/jpeg:https://news.csun.edu/wp-content/uploads/2026/04/Dolatshahi_Jin.jpg
END:VEVENT
BEGIN:VEVENT
DTSTART;TZID=America/Los_Angeles:20260422T143000
DTEND;TZID=America/Los_Angeles:20260422T153000
DTSTAMP:20260424T180319
CREATED:20260414T221652Z
LAST-MODIFIED:20260414T221658Z
UID:10011347-1776868200-1776871800@news.csun.edu
SUMMARY:Freedom in Chinese Philosophy
DESCRIPTION:College of Humanities brown bag lecture presents: “Freedom in Chinese Philosophy”\n\n\nWith Dr. Weimin Sun\, Professor of Philosophy and former director of China Institute at CSUN\n\nDate:  Wednesday\, April 22nd\, 2026\nTime:  2:30pm-3:30pm\nLocation:  JR 319\n\nDr. Sun will talk about conceptions of freedom in Chinese philosophy\, especially in Confucianism\, Daoism\, and Buddhism.  He argues that the key to understand Chinese freedom is the notion of control (self-control in particular)\, which can be very helpful to understand contemporary debates on freedom in Western philosophy.\n\nSponsored by the Office of Faculty Programs and Initiatives.
URL:https://news.csun.edu/event/freedom-in-chinese-philosophy/
LOCATION:JR-319
CATEGORIES:Lectures and Guest Speakers
ATTACH;FMTTYPE=application/pdf:https://news.csun.edu/wp-content/uploads/2026/04/Freedom-in-Chinese-Philosophy-4-22-Brown-Bag-3.pdf
END:VEVENT
BEGIN:VEVENT
DTSTART;TZID=America/Los_Angeles:20260423T120000
DTEND;TZID=America/Los_Angeles:20260423T160000
DTSTAMP:20260424T180319
CREATED:20260416T165708Z
LAST-MODIFIED:20260416T165805Z
UID:10011351-1776945600-1776960000@news.csun.edu
SUMMARY:C.I.P.H.E.R. Symposium 2026: Best of the Best Battles
DESCRIPTION:About this Event\nCSUN Center for the Interdisciplinary Pursuit of Hip-Hop Elevation and Research (C.I.P.H.E.R.) \nEmcees. DJs. Producers.\nWatch top talent go head-to-head in epic hip-hop battles—beats\, bars\, and cuts that will shake the stage. As part of the 2025 C.I.P.H.E.R. Symposium\, the Best of the Best Battles showcase the art\, intellect\, and intensity of hip-hop’s finest voices and sound architects. This is more than a competition—it’s a celebration of the global power of hip-hop to build\, challenge\, and connect communities. \n\n📍 Location: Northridge Center | University Student Union (USU) | California State University\, Northridge📅 Date: April 23. 2026🕚 Time: Noon – 4:00 PM🎟️ Admission: FREE & Open to the Public \nIncredible prizes and giveaways from AVID Technologies and many more! \n\nThink you’ve got what it takes? \nCLICK HERE to Register to compete in one of the most electrifying hip-hop events on campus. Bring your skills. Bring your sound. Bring your story. \nMore Than Music\nThis symposium isn’t just about showcasing talent—it’s about pushing the culture forward. Through battles and discussions alike\, we’ll explore hip-hop’s capacity to build community across local\, national\, and global lines. From politics and social justice to commerce and art\, hip-hop continues to move the world. \nSpecial Guest Judges\n\nDJ Revolution\nDJ C-Los of Beat Junkies Institute\nTony Baraz\nCiz\nBishop Lamont\nNadirah X\nOther Surprise Guests\n\nBattle Breakdown and Judging Criteria\nDJ Battle – Round by Round\n\nFirst Round: 16 DJs | 3-minute sets | Judged on song selection\, transitions\, scratching\, crowd response\nSemi-Finals: 8 DJs | 4-minute sets\nFinals: 4 DJs | 5-minute head-to-head setsOnly one will rise above the rest.\n\nEmcee Battle – Round by Round\n\nFirst Round: 8 Emcees | 45-second\, 2-round battles | Judged on lyrical ability\, delivery\, stage presence\, crowd response\nSemi-Finals: 4 Emcees | 60-second\, 2-round battles\nFinals: 2 Emcees | 60-second\, 3-round showdownThe mic doesn’t lie—who will claim the crown?\n\nProducer Battle – Round by Round\n\nFirst Round: 8 Producers | 2 beats per battle\, 60 seconds each | Judged on creativity\, sound quality\, originality\, crowd response\nSemi-Finals: 4 Producers | 90-second beats\nFinals: 2 Producers | 3 beats each\, 90 seconds per beatBeats will drop. Legends will rise.\n\n\nAbout C.I.P.H.E.R.\nC.I.P.H.E.R. is an innovative and community collaborative academic center that focuses on the interdisciplinary examination of Hip-Hop with particular emphasis on promoting the elevation of the culture of Hip-Hop. Housed at California State University Northridge (CSUN) in Los Angeles\, C.I.P.H.E.R. fulfills this mission through interactive events that provide critical analysis of the culture of Hip-Hop\, curating the oral and visual history of Hip-Hop\, and documenting the socio-political impact of Hip-Hop regionally\, nationally\, and globally. In addition to examining Hip-Hop linkages to social movements\, C.I.P.H.E.R. explores its impact on industries ranging from sports\, to fashion\, beverages\, to arts\, architecture\, transportation\, and technology. \nSupport CIPHER
URL:https://news.csun.edu/event/c-i-p-h-e-r-symposium-2026-best-of-the-best-battles/
LOCATION:CSUN USU – Northridge Center\, 9346 E University Dr\,\, Northridge\, CA\, 91325\, United States
CATEGORIES:College of Social and Behavioral Sciences,Community Engagement,Diversity and Inclusion,Lectures and Guest Speakers,Music
ATTACH;FMTTYPE=image/png:https://news.csun.edu/wp-content/uploads/2025/04/CIPHER_2025_FeaturedImage.png
END:VEVENT
BEGIN:VEVENT
DTSTART;TZID=America/Los_Angeles:20260507T120000
DTEND;TZID=America/Los_Angeles:20260507T133000
DTSTAMP:20260424T180319
CREATED:20260305T213616Z
LAST-MODIFIED:20260416T145923Z
UID:10010880-1778155200-1778160600@news.csun.edu
SUMMARY:Staying Human in the Age of AI: CSBS Open Discussion Series
DESCRIPTION:Spring 2026 Open Discussion Series: Staying Human in the Age of AI\nWhen and Where\nThursdays | 12:00–1:30 PM \n\nApril 2  (In Person)\nApril 16 (via Zoom)\nJoin Zoom Meeting\nMeeting ID: 898 5500 6864\nPasscode: 312758\nMay 7 (In Person)\n\nWhitsett Room | Sierra Hall\, Room 451 \nOverview\nThis spring\, the College of Social and Behavioral Sciences (CSBS) continues its college-wide exploration of Artificial Intelligence (AI) and Virtual Extended Reality (VXR) in education and social services. Supported by Dean Searcy and led by Dr. Ellie Kazemi (Department of Psychology)\, this series creates an open space for thoughtful\, critical conversation about how these technologies are shaping our classrooms\, disciplines\, and daily work. \nPurpose\nOur College is creating space for open dialogue about pressing concerns such as academic integrity\, erosion of learning\, bias\, labor\, sustainability\, and the preservation of academic values—alongside honest discussion about how AI is already influencing our professional and personal lives. Faculty and staff bring diverse perspectives\, from active integration to intentional limits. The goal is not consensus\, but shared understanding and meaningful exchange grounded in our shared academic values. \nWhy Consider Attending?\nNew tools\, headlines\, and workshops about AI seem to emerge daily. The rapid pace of change in the corporate world is spilling into higher education\, and many of us are being asked to respond quickly—sometimes without adequate space to think. \nThis gathering offers an opportunity to pause and reflect. To make sense of what’s happening alongside colleagues who may share your excitement\, your hesitation\, or both. Together\, we can support one another in navigating a fast-moving and uncertain moment\, and consider how to move forward in ways that align with our values and our students’ needs. \nJoin us as we examine possibilities\, address limitations\, and learn from one another’s approaches to teaching\, research\, and community work. \nRequesting Accommodations\nThe CSUN College of Social and Behavioral Sciences is committed to making its events accessible to everyone. If you require an accommodation or service to fully participate\, please let us know. Note: If you require an ASL interpreter\, please contact us no later than five working days prior to the event. To request accommodations\, please contact Jacqueline Edwards at 818-677-3317 or via email at ashley.rice@csun.edu.
URL:https://news.csun.edu/event/staying-human-in-the-age-of-ai-csbs-workshops/2026-05-07/
LOCATION:Whitsett Room\, SH 451
CATEGORIES:Artificial Intelligence (AI),College of Social and Behavioral Sciences,Current Students,Faculty Development,Lectures and Guest Speakers
ATTACH;FMTTYPE=image/png:https://news.csun.edu/wp-content/uploads/2026/03/AI_SpringWorkshops_Feature-1.png
END:VEVENT
END:VCALENDAR