BEGIN:VCALENDAR
VERSION:2.0
PRODID:-//CSUN News &amp; Events - ECPv6.11.2//NONSGML v1.0//EN
CALSCALE:GREGORIAN
METHOD:PUBLISH
X-ORIGINAL-URL:https://news.csun.edu
X-WR-CALDESC:Events for CSUN News &amp; Events
REFRESH-INTERVAL;VALUE=DURATION:PT1H
X-Robots-Tag:noindex
X-PUBLISHED-TTL:PT1H
BEGIN:VTIMEZONE
TZID:America/Los_Angeles
BEGIN:DAYLIGHT
TZOFFSETFROM:-0800
TZOFFSETTO:-0700
TZNAME:PDT
DTSTART:20260308T100000
END:DAYLIGHT
BEGIN:STANDARD
TZOFFSETFROM:-0700
TZOFFSETTO:-0800
TZNAME:PST
DTSTART:20261101T090000
END:STANDARD
END:VTIMEZONE
BEGIN:VEVENT
DTSTART;TZID=America/Los_Angeles:20260422T193000
DTEND;TZID=America/Los_Angeles:20260422T204500
DTSTAMP:20260421T161637
CREATED:20260112T215812Z
LAST-MODIFIED:20260112T225242Z
UID:10009711-1776886200-1776890700@news.csun.edu
SUMMARY:Kinesis\, Emerging Choreography\, the Annual Spring Dance Concert
DESCRIPTION:Please join us for Kinesis\, Emerging Choreography featuring choreography from our undergraduate students! Our students work closely with faculty and invited professionals to put on an amazing show that you do not want to miss! The annual spring dance concert also provides rich opportunities to integrate the art and science of human movement\, in fact\, psychological data will be gathered during the performances. \nKinesis will take place on Wednesday\, April 22nd at 7:30 pm and Thursday\, April 23rd at 2:00 pm and 7:30 pm in the Plaza Del Sol Performance Hall (located on the east side of the campus off Zelzah Street by the Student Union). Tickets are $10 for students and seniors and $20 for adults. Please reserve your tickets via the box office: 818-677-2488
URL:https://news.csun.edu/event/kinesis-emerging-choreography-the-annual-spring-dance-concert/2026-04-22/
LOCATION:Plaza del Sol Performance Hall\, University Student Union\, 18111 Nordhoff Street\, Northridge\, CA\, 91330\, United States
CATEGORIES:Arts and Culture,Dance - Special Events & Master Classes,Dance Concert,Kinesiology
ATTACH;FMTTYPE=image/jpeg:https://news.csun.edu/wp-content/uploads/2026/01/Kin-2026-scaled.jpg
GEO:34.240316;-118.526413
X-APPLE-STRUCTURED-LOCATION;VALUE=URI;X-ADDRESS=Plaza del Sol Performance Hall University Student Union 18111 Nordhoff Street Northridge CA 91330 United States;X-APPLE-RADIUS=500;X-TITLE=18111 Nordhoff Street:geo:-118.526413,34.240316
END:VEVENT
BEGIN:VEVENT
DTSTART;TZID=America/Los_Angeles:20260423T140000
DTEND;TZID=America/Los_Angeles:20260423T151500
DTSTAMP:20260421T161637
CREATED:20260112T215812Z
LAST-MODIFIED:20260112T225242Z
UID:10009712-1776952800-1776957300@news.csun.edu
SUMMARY:Kinesis\, Emerging Choreography\, the Annual Spring Dance Concert
DESCRIPTION:Please join us for Kinesis\, Emerging Choreography featuring choreography from our undergraduate students! Our students work closely with faculty and invited professionals to put on an amazing show that you do not want to miss! The annual spring dance concert also provides rich opportunities to integrate the art and science of human movement\, in fact\, psychological data will be gathered during the performances. \nKinesis will take place on Wednesday\, April 22nd at 7:30 pm and Thursday\, April 23rd at 2:00 pm and 7:30 pm in the Plaza Del Sol Performance Hall (located on the east side of the campus off Zelzah Street by the Student Union). Tickets are $10 for students and seniors and $20 for adults. Please reserve your tickets via the box office: 818-677-2488
URL:https://news.csun.edu/event/kinesis-emerging-choreography-the-annual-spring-dance-concert/2026-04-23/1/
LOCATION:Plaza del Sol Performance Hall\, University Student Union\, 18111 Nordhoff Street\, Northridge\, CA\, 91330\, United States
CATEGORIES:Arts and Culture,Dance - Special Events & Master Classes,Dance Concert,Kinesiology
ATTACH;FMTTYPE=image/jpeg:https://news.csun.edu/wp-content/uploads/2026/01/Kin-2026-scaled.jpg
GEO:34.240316;-118.526413
X-APPLE-STRUCTURED-LOCATION;VALUE=URI;X-ADDRESS=Plaza del Sol Performance Hall University Student Union 18111 Nordhoff Street Northridge CA 91330 United States;X-APPLE-RADIUS=500;X-TITLE=18111 Nordhoff Street:geo:-118.526413,34.240316
END:VEVENT
BEGIN:VEVENT
DTSTART;TZID=America/Los_Angeles:20260423T193000
DTEND;TZID=America/Los_Angeles:20260423T204500
DTSTAMP:20260421T161637
CREATED:20260112T215812Z
LAST-MODIFIED:20260112T225242Z
UID:10009713-1776972600-1776977100@news.csun.edu
SUMMARY:Kinesis\, Emerging Choreography\, the Annual Spring Dance Concert
DESCRIPTION:Please join us for Kinesis\, Emerging Choreography featuring choreography from our undergraduate students! Our students work closely with faculty and invited professionals to put on an amazing show that you do not want to miss! The annual spring dance concert also provides rich opportunities to integrate the art and science of human movement\, in fact\, psychological data will be gathered during the performances. \nKinesis will take place on Wednesday\, April 22nd at 7:30 pm and Thursday\, April 23rd at 2:00 pm and 7:30 pm in the Plaza Del Sol Performance Hall (located on the east side of the campus off Zelzah Street by the Student Union). Tickets are $10 for students and seniors and $20 for adults. Please reserve your tickets via the box office: 818-677-2488
URL:https://news.csun.edu/event/kinesis-emerging-choreography-the-annual-spring-dance-concert/2026-04-23/2/
LOCATION:Plaza del Sol Performance Hall\, University Student Union\, 18111 Nordhoff Street\, Northridge\, CA\, 91330\, United States
CATEGORIES:Arts and Culture,Dance - Special Events & Master Classes,Dance Concert,Kinesiology
ATTACH;FMTTYPE=image/jpeg:https://news.csun.edu/wp-content/uploads/2026/01/Kin-2026-scaled.jpg
GEO:34.240316;-118.526413
X-APPLE-STRUCTURED-LOCATION;VALUE=URI;X-ADDRESS=Plaza del Sol Performance Hall University Student Union 18111 Nordhoff Street Northridge CA 91330 United States;X-APPLE-RADIUS=500;X-TITLE=18111 Nordhoff Street:geo:-118.526413,34.240316
END:VEVENT
END:VCALENDAR