BEGIN:VCALENDAR
VERSION:2.0
PRODID:-//CSUN News &amp; Events - ECPv6.11.2//NONSGML v1.0//EN
CALSCALE:GREGORIAN
METHOD:PUBLISH
X-ORIGINAL-URL:https://news.csun.edu
X-WR-CALDESC:Events for CSUN News &amp; Events
REFRESH-INTERVAL;VALUE=DURATION:PT1H
X-Robots-Tag:noindex
X-PUBLISHED-TTL:PT1H
BEGIN:VTIMEZONE
TZID:America/Los_Angeles
BEGIN:DAYLIGHT
TZOFFSETFROM:-0800
TZOFFSETTO:-0700
TZNAME:PDT
DTSTART:20260308T100000
END:DAYLIGHT
BEGIN:STANDARD
TZOFFSETFROM:-0700
TZOFFSETTO:-0800
TZNAME:PST
DTSTART:20261101T090000
END:STANDARD
END:VTIMEZONE
BEGIN:VEVENT
DTSTART;TZID=America/Los_Angeles:20260427T113000
DTEND;TZID=America/Los_Angeles:20260427T123000
DTSTAMP:20260424T142552
CREATED:20260128T175522Z
LAST-MODIFIED:20260128T175522Z
UID:10010284-1777289400-1777293000@news.csun.edu
SUMMARY:Get More Done with Microsoft 365
DESCRIPTION:Instructor: Darrin Campbell Hosted with the Faculty Technology Center \nGet More Done with Microsoft 365 is a faculty workshop introducing CSUN’s core Microsoft 365 tools (Word\, Excel\, PowerPoint\, OneDrive\, Outlook\, Teams\, OneNote\, Loop\, and Copilot AI) as a unified collaboration ecosystem. The session demonstrates how these tools enable effective collaboration with colleagues and students through file sharing\, co-creation\, persistent project spaces\, and streamlined communication. Training dates will be announced in upcoming Academic Technology newsletters. \nJoin this event on Zoom
URL:https://news.csun.edu/event/get-more-done-with-microsoft-365-3/
CATEGORIES:Human Resources,Information Technology
ATTACH;FMTTYPE=image/jpeg:https://news.csun.edu/wp-content/uploads/2026/01/office-365-new.jpg
LOCATION:https://news.csun.edu/event/get-more-done-with-microsoft-365-3/
END:VEVENT
BEGIN:VEVENT
DTSTART;TZID=America/Los_Angeles:20260427T120000
DTEND;TZID=America/Los_Angeles:20260427T130000
DTSTAMP:20260424T142552
CREATED:20260120T195242Z
LAST-MODIFIED:20260120T195242Z
UID:10010192-1777291200-1777294800@news.csun.edu
SUMMARY:Lunch and Write Series-Spring 2026
DESCRIPTION:Interested in writing accountability this fall? Join the Office of Faculty Programs and Initiatives Mondays this semester from noon to 1 p.m. For questions email Dr. Anne Choi at achoi@csun.edu. \nRegister Here
URL:https://news.csun.edu/event/lunch-and-write-series-spring-2026/2026-04-27/
CATEGORIES:Events,Faculty Development,Faculty Programs and Initiatives
ATTACH;FMTTYPE=image/png:https://news.csun.edu/wp-content/uploads/2025/08/lunch-and-write-series-e1768938192474.png
END:VEVENT
BEGIN:VEVENT
DTSTART;TZID=America/Los_Angeles:20260427T143000
DTEND;TZID=America/Los_Angeles:20260427T153000
DTSTAMP:20260424T142552
CREATED:20260306T211139Z
LAST-MODIFIED:20260306T211139Z
UID:10010903-1777300200-1777303800@news.csun.edu
SUMMARY:Empower Student Growth with ePortfolios
DESCRIPTION:Hosted by Kiara Gardea  \nDescription: Join us to learn more about ePortfolios and how to incorporate them into your classes. Meet with our ePortfolio Coordinator as they highlight the ways ePortfolios can be used to help your students grow into professionals. \nJoin the event on Zoom\n*If you require an ASL interpreter\, please contact your department. \n**For Zoom captions – please pre-enable automated captions/transcript on the Zoom website (not the app) before the meeting begins as it cannot be turned on while the meeting is running. If you have any questions\, contact ftc@csun.edu
URL:https://news.csun.edu/event/empower-student-growth-with-eportfolios-11/
LOCATION:Online via Zoom; Connection details provided upon registration
CATEGORIES:Canvas,ePortfolios,Information Technology
ATTACH;FMTTYPE=image/png:https://news.csun.edu/wp-content/uploads/2024/10/Empower-Student-Growth-with-ePortfolios-e1736815109894.png
END:VEVENT
END:VCALENDAR