BEGIN:VCALENDAR
VERSION:2.0
PRODID:-//CSUN News &amp; Events - ECPv6.11.2//NONSGML v1.0//EN
CALSCALE:GREGORIAN
METHOD:PUBLISH
X-WR-CALNAME:CSUN News &amp; Events
X-ORIGINAL-URL:https://news.csun.edu
X-WR-CALDESC:Events for CSUN News &amp; Events
REFRESH-INTERVAL;VALUE=DURATION:PT1H
X-Robots-Tag:noindex
X-PUBLISHED-TTL:PT1H
BEGIN:VTIMEZONE
TZID:America/Los_Angeles
BEGIN:DAYLIGHT
TZOFFSETFROM:-0800
TZOFFSETTO:-0700
TZNAME:PDT
DTSTART:20260308T100000
END:DAYLIGHT
BEGIN:STANDARD
TZOFFSETFROM:-0700
TZOFFSETTO:-0800
TZNAME:PST
DTSTART:20261101T090000
END:STANDARD
END:VTIMEZONE
BEGIN:VEVENT
DTSTART;TZID=America/Los_Angeles:20260210T120000
DTEND;TZID=America/Los_Angeles:20260210T130000
DTSTAMP:20260420T104052
CREATED:20260120T195242Z
LAST-MODIFIED:20260120T195242Z
UID:10010171-1770724800-1770728400@news.csun.edu
SUMMARY:Lunch and Write Series-Spring 2026
DESCRIPTION:Interested in writing accountability this fall? Join the Office of Faculty Programs and Initiatives Mondays this semester from noon to 1 p.m. For questions email Dr. Anne Choi at achoi@csun.edu. \nRegister Here
URL:https://news.csun.edu/event/lunch-and-write-series-spring-2026/2026-02-10/
CATEGORIES:Events,Faculty Development,Faculty Programs and Initiatives
ATTACH;FMTTYPE=image/png:https://news.csun.edu/wp-content/uploads/2025/08/lunch-and-write-series-e1768938192474.png
END:VEVENT
BEGIN:VEVENT
DTSTART;TZID=America/Los_Angeles:20260210T143000
DTEND;TZID=America/Los_Angeles:20260210T153000
DTSTAMP:20260420T104052
CREATED:20260121T152403Z
LAST-MODIFIED:20260121T152403Z
UID:10010218-1770733800-1770737400@news.csun.edu
SUMMARY:Save Time with Generative AI
DESCRIPTION:Hosted by Megan Duncan   \nGenerative AI tools such as ChatGPT have revolutionized the teaching and learning process\, offering new possibilities. As educators\, there is no need to fear these advancements; instead\, we can embrace them to enhance our teaching practices. This workshop aims to equip you with various approaches and strategies to leverage these tools effectively\, ultimately saving you valuable time. \n\nJoin the event on Zoom\nYou will need to be signed into Zoom with your csun.edu or my.csun.edu email address to join. \nIf you are signed into the Zoom app with a different account\, log out of Zoom\, and select the Single Sign-On (SSO) button near the bottom. If Zoom asks for a domain enter csun\, and you will be guided to CSUN’s SSO page. \n*If you require an ASL interpreter\, please contact your department. \n**For Zoom captions – please pre-enable automated captions/transcript on the Zoom website (not the app) before the meeting begins as it cannot be turned on while the meeting is running. If you have any questions\, contact ftc@csun.edu
URL:https://news.csun.edu/event/save-time-with-generative-ai-3/
LOCATION:Online via Zoom; Connection details provided upon registration
CATEGORIES:Artificial Intelligence (AI),Information Technology,Learning Technologies
ATTACH;FMTTYPE=image/png:https://news.csun.edu/wp-content/uploads/2025/09/Save-time-with-Gen-AI-400-x-200px.png
END:VEVENT
END:VCALENDAR