BEGIN:VCALENDAR
VERSION:2.0
PRODID:-//CSUN News &amp; Events - ECPv6.11.2//NONSGML v1.0//EN
CALSCALE:GREGORIAN
METHOD:PUBLISH
X-WR-CALNAME:CSUN News &amp; Events
X-ORIGINAL-URL:https://news.csun.edu
X-WR-CALDESC:Events for CSUN News &amp; Events
REFRESH-INTERVAL;VALUE=DURATION:PT1H
X-Robots-Tag:noindex
X-PUBLISHED-TTL:PT1H
BEGIN:VTIMEZONE
TZID:America/Los_Angeles
BEGIN:DAYLIGHT
TZOFFSETFROM:-0800
TZOFFSETTO:-0700
TZNAME:PDT
DTSTART:20250309T100000
END:DAYLIGHT
BEGIN:STANDARD
TZOFFSETFROM:-0700
TZOFFSETTO:-0800
TZNAME:PST
DTSTART:20251102T090000
END:STANDARD
END:VTIMEZONE
BEGIN:VEVENT
DTSTART;TZID=America/Los_Angeles:20251120T100000
DTEND;TZID=America/Los_Angeles:20251120T110000
DTSTAMP:20260422T184534
CREATED:20251110T232521Z
LAST-MODIFIED:20251110T232521Z
UID:10009238-1763632800-1763636400@news.csun.edu
SUMMARY:Discover How AI Can Support Your Success at CSUN
DESCRIPTION:You will need to be signed into Zoom with your csun.edu or my.csun.edu email address to join. \nIf you are signed into the Zoom app with a different account\, log out of Zoom\, and select the Single Sign-On (SSO) button near the bottom. If Zoom asks for a domain enter csun\, and you will be guided to CSUN’s SSO page. \n\nRegister for event\nJoin the Student-led AI workshop to explore tools like ChatGPT and Microsoft Copilot. \n*If you require an ASL interpreter\, please contact your department. \n**For Zoom captions – please pre-enable automated captions/transcript on the Zoom website (not the app) before the meeting begins as it cannot be turned on while the meeting is running. If you have any questions\, contact ftc@csun.edu
URL:https://news.csun.edu/event/discover-how-ai-can-support-your-success-at-csun/
LOCATION:Online via Zoom; Connection details provided upon registration
CATEGORIES:Artificial Intelligence (AI),Information Technology,Learning Technologies
ATTACH;FMTTYPE=image/png:https://news.csun.edu/wp-content/uploads/2025/03/Student-Engagement-with-AI-600x400px.png
END:VEVENT
BEGIN:VEVENT
DTSTART;TZID=America/Los_Angeles:20251120T120000
DTEND;TZID=America/Los_Angeles:20251120T130000
DTSTAMP:20260422T184534
CREATED:20251107T004819Z
LAST-MODIFIED:20251107T004819Z
UID:10009224-1763640000-1763643600@news.csun.edu
SUMMARY:ChatGPT for Teaching and Research
DESCRIPTION:You will need to be signed into Zoom with your csun.edu or my.csun.edu email address to join. \nIf you are signed into the Zoom app with a different account\, log out of Zoom\, and select the Single Sign-On (SSO) button near the bottom. If Zoom asks for a domain enter csun\, and you will be guided to CSUN’s SSO page. \n\nJoin the event on Zoom\nChatGPT is a flexible AI assistant that can act as a teaching partner\, research collaborator\, and productivity tool. This session will demonstrate how to design interactive assignments\, create simulations\, and generate customized study materials for students\, while also supporting literature reviews\, drafting\, and peer review simulations. You’ll also see advanced features like agent mode\, multimodal inputs\, and custom personas\, which allow faculty to automate tasks and tailor ChatGPT to their teaching style. By the end\, participants will know how to integrate ChatGPT responsibly and effectively into both classroom and scholarly work. \n*If you require an ASL interpreter\, please contact your department. \n**For Zoom captions – please pre-enable automated captions/transcript on the Zoom website (not the app) before the meeting begins as it cannot be turned on while the meeting is running. If you have any questions\, contact ftc@csun.edu
URL:https://news.csun.edu/event/chatgpt-for-teaching-and-research-3/
LOCATION:Online via Zoom; Connection details provided upon registration
CATEGORIES:Artificial Intelligence (AI),Information Technology,Learning Technologies
ATTACH;FMTTYPE=image/jpeg:https://news.csun.edu/wp-content/uploads/2025/09/ChatGPT-scaled-e1758751166830.jpeg
END:VEVENT
BEGIN:VEVENT
DTSTART;TZID=America/Los_Angeles:20251120T130000
DTEND;TZID=America/Los_Angeles:20251120T140000
DTSTAMP:20260422T184534
CREATED:20251020T202548Z
LAST-MODIFIED:20251020T202626Z
UID:10008849-1763643600-1763647200@news.csun.edu
SUMMARY:Canvas Gradebook Workshop
DESCRIPTION:You will need to be signed into Zoom with your csun.edu or my.csun.edu email address to join. \nIf you are signed into the Zoom app with a different account\, log out of Zoom\, and select the Single Sign-On (SSO) button near the bottom. If Zoom asks for a domain enter csun\, and you will be guided to CSUN’s SSO page. \nJoin the event on Zoom\nAre you ready to eliminate grading confusion and frustration with just a few clicks? Join us for this workshop where we’ll unveil the secrets to a flawless Gradebook setup in Canvas! What’s in it for you? Navigate the nuances of assignment and quiz point values. Save time and headaches for both you and your students. Step-by-step guidance on setting up your Gradebook with time-saving tips. Expert tips to avoid common pitfalls. \n*If you require an ASL interpreter\, please contact your department. \n**For Zoom captions – please pre-enable automated captions/transcript on the Zoom website (not the app) before the meeting begins as it cannot be turned on while the meeting is running. If you have any questions\, contact ftc@csun.edu
URL:https://news.csun.edu/event/canvas-gradebook-workshop-3/
LOCATION:Online via Zoom; Connection details provided upon registration
CATEGORIES:Canvas,Information Technology
ATTACH;FMTTYPE=image/png:https://news.csun.edu/wp-content/uploads/2024/12/Canvas-Logo-900x600px-e1736813339905.png
END:VEVENT
END:VCALENDAR