BEGIN:VCALENDAR
VERSION:2.0
PRODID:-//CSUN News &amp; Events - ECPv6.11.2//NONSGML v1.0//EN
CALSCALE:GREGORIAN
METHOD:PUBLISH
X-WR-CALNAME:CSUN News &amp; Events
X-ORIGINAL-URL:https://news.csun.edu
X-WR-CALDESC:Events for CSUN News &amp; Events
REFRESH-INTERVAL;VALUE=DURATION:PT1H
X-Robots-Tag:noindex
X-PUBLISHED-TTL:PT1H
BEGIN:VTIMEZONE
TZID:America/Los_Angeles
BEGIN:DAYLIGHT
TZOFFSETFROM:-0800
TZOFFSETTO:-0700
TZNAME:PDT
DTSTART:20250309T100000
END:DAYLIGHT
BEGIN:STANDARD
TZOFFSETFROM:-0700
TZOFFSETTO:-0800
TZNAME:PST
DTSTART:20251102T090000
END:STANDARD
END:VTIMEZONE
BEGIN:VEVENT
DTSTART;TZID=America/Los_Angeles:20251117T120000
DTEND;TZID=America/Los_Angeles:20251117T130000
DTSTAMP:20260422T132421
CREATED:20250905T222050Z
LAST-MODIFIED:20251013T165053Z
UID:10008266-1763380800-1763384400@news.csun.edu
SUMMARY:Lunch Bytes - Get More Done with Microsoft 365
DESCRIPTION:You will need to be signed into Zoom with your csun.edu or my.csun.edu email address to join. \nIf you are signed into the Zoom app with a different account\, log out of Zoom\, and select the Single Sign-On (SSO) button near the bottom. If Zoom asks for a domain enter csun\, and you will be guided to CSUN’s SSO page. \n\nRegister for event\nCo-sponsored by the CSUN Office of Faculty Programs and Initiatives. \nStreamline your workflow with Microsoft 365 to boost productivity and stay organized. \n*If you require an ASL interpreter\, please contact your department. \n**For Zoom captions – please pre-enable automated captions/transcript on the Zoom website (not the app) before the meeting begins as it cannot be turned on while the meeting is running. If you have any questions\, contact ftc@csun.edu
URL:https://news.csun.edu/event/lunch-bytes-get-more-done-with-microsoft-365/
LOCATION:Online via Zoom; Connection details provided upon registration
CATEGORIES:Information Technology,Learning Technologies
ATTACH;FMTTYPE=image/png:https://news.csun.edu/wp-content/uploads/2025/08/Lunch-Bytes-logo-600x400px.png
END:VEVENT
BEGIN:VEVENT
DTSTART;TZID=America/Los_Angeles:20251117T120000
DTEND;TZID=America/Los_Angeles:20251117T130000
DTSTAMP:20260422T132421
CREATED:20251009T212033Z
LAST-MODIFIED:20251009T212034Z
UID:10008808-1763380800-1763384400@news.csun.edu
SUMMARY:Lunch and Write Series
DESCRIPTION:Interested in writing accountability this fall? Join the Office of Faculty Programs and Initiatives Mondays this semester from noon to 1 p.m. For questions email Dr. Anne Choi at achoi@csun.edu. \nRegister Here
URL:https://news.csun.edu/event/lunch-and-write-series-2/2025-11-17/
CATEGORIES:Events,Faculty Development,Faculty Programs and Initiatives
ATTACH;FMTTYPE=image/png:https://news.csun.edu/wp-content/uploads/2025/08/lunch-and-write-series-e1768938192474.png
END:VEVENT
END:VCALENDAR