BEGIN:VCALENDAR
VERSION:2.0
PRODID:-//CSUN News &amp; Events - ECPv6.11.2//NONSGML v1.0//EN
CALSCALE:GREGORIAN
METHOD:PUBLISH
X-WR-CALNAME:CSUN News &amp; Events
X-ORIGINAL-URL:https://news.csun.edu
X-WR-CALDESC:Events for CSUN News &amp; Events
REFRESH-INTERVAL;VALUE=DURATION:PT1H
X-Robots-Tag:noindex
X-PUBLISHED-TTL:PT1H
BEGIN:VTIMEZONE
TZID:America/Los_Angeles
BEGIN:DAYLIGHT
TZOFFSETFROM:-0800
TZOFFSETTO:-0700
TZNAME:PDT
DTSTART:20250309T100000
END:DAYLIGHT
BEGIN:STANDARD
TZOFFSETFROM:-0700
TZOFFSETTO:-0800
TZNAME:PST
DTSTART:20251102T090000
END:STANDARD
END:VTIMEZONE
BEGIN:VEVENT
DTSTART;TZID=America/Los_Angeles:20251114T113000
DTEND;TZID=America/Los_Angeles:20251114T123000
DTSTAMP:20260420T020941
CREATED:20251023T191554Z
LAST-MODIFIED:20251023T191554Z
UID:10008874-1763119800-1763123400@news.csun.edu
SUMMARY:Create GPTs with Your Students
DESCRIPTION:You will need to be signed into Zoom with your csun.edu or my.csun.edu email address to join. \nIf you are signed into the Zoom app with a different account\, log out of Zoom\, and select the Single Sign-On (SSO) button near the bottom. If Zoom asks for a domain enter csun\, and you will be guided to CSUN’s SSO page. \nJoin the event on Zoom\nStep into the future of teaching and learning! Discover how faculty and students can team up to design custom GPTs that enhance learning\, creativity\, and engagement—no coding required. In this hands-on workshop\, you’ll brainstorm\, prototype\, and publish your own AI tool to reimagine what’s possible in the classroom. \n**If you require an ASL interpreter\, please contact your department. \n***For Zoom captions – please pre-enable automated captions/transcript on the Zoom website (not the app) before the meeting begins as it cannot be turned on while the meeting is running. If you have any questions\, contact ftc@csun.edu
URL:https://news.csun.edu/event/create-gpts-with-your-students/
LOCATION:Online via Zoom; Connection details provided upon registration
CATEGORIES:Artificial Intelligence (AI),Information Technology
ATTACH;FMTTYPE=image/png:https://news.csun.edu/wp-content/uploads/2025/03/Build-a-Custom-GPT-in-ChatGPT-600x400-1.png
END:VEVENT
BEGIN:VEVENT
DTSTART;TZID=America/Los_Angeles:20251114T120000
DTEND;TZID=America/Los_Angeles:20251114T130000
DTSTAMP:20260420T020941
CREATED:20251107T004627Z
LAST-MODIFIED:20251107T010404Z
UID:10009223-1763121600-1763125200@news.csun.edu
SUMMARY:ChatGPT for Teaching and Research
DESCRIPTION:You will need to be signed into Zoom with your csun.edu or my.csun.edu email address to join. \nIf you are signed into the Zoom app with a different account\, log out of Zoom\, and select the Single Sign-On (SSO) button near the bottom. If Zoom asks for a domain enter csun\, and you will be guided to CSUN’s SSO page. \n\nJoin the event on Zoom\nChatGPT is a flexible AI assistant that can act as a teaching partner\, research collaborator\, and productivity tool. This session will demonstrate how to design interactive assignments\, create simulations\, and generate customized study materials for students\, while also supporting literature reviews\, drafting\, and peer review simulations. You’ll also see advanced features like agent mode\, multimodal inputs\, and custom personas\, which allow faculty to automate tasks and tailor ChatGPT to their teaching style. By the end\, participants will know how to integrate ChatGPT responsibly and effectively into both classroom and scholarly work. \n*If you require an ASL interpreter\, please contact your department. \n**For Zoom captions – please pre-enable automated captions/transcript on the Zoom website (not the app) before the meeting begins as it cannot be turned on while the meeting is running. If you have any questions\, contact ftc@csun.edu
URL:https://news.csun.edu/event/chatgpt-for-teaching-and-research-2/
LOCATION:Online via Zoom; Connection details provided upon registration
CATEGORIES:Artificial Intelligence (AI),Information Technology,Learning Technologies
ATTACH;FMTTYPE=image/jpeg:https://news.csun.edu/wp-content/uploads/2025/09/ChatGPT-scaled-e1758751166830.jpeg
END:VEVENT
END:VCALENDAR