BEGIN:VCALENDAR
VERSION:2.0
PRODID:-//CSUN News &amp; Events - ECPv6.11.2//NONSGML v1.0//EN
CALSCALE:GREGORIAN
METHOD:PUBLISH
X-WR-CALNAME:CSUN News &amp; Events
X-ORIGINAL-URL:https://news.csun.edu
X-WR-CALDESC:Events for CSUN News &amp; Events
REFRESH-INTERVAL;VALUE=DURATION:PT1H
X-Robots-Tag:noindex
X-PUBLISHED-TTL:PT1H
BEGIN:VTIMEZONE
TZID:America/Los_Angeles
BEGIN:DAYLIGHT
TZOFFSETFROM:-0800
TZOFFSETTO:-0700
TZNAME:PDT
DTSTART:20240310T100000
END:DAYLIGHT
BEGIN:STANDARD
TZOFFSETFROM:-0700
TZOFFSETTO:-0800
TZNAME:PST
DTSTART:20241103T090000
END:STANDARD
END:VTIMEZONE
BEGIN:VEVENT
DTSTART;TZID=America/Los_Angeles:20241030T130000
DTEND;TZID=America/Los_Angeles:20241030T140000
DTSTAMP:20260425T102608
CREATED:20240930T183701Z
LAST-MODIFIED:20240930T183701Z
UID:10004354-1730293200-1730296800@news.csun.edu
SUMMARY:Multimedia Content Creation
DESCRIPTION:Register for this event\nLearn how to use AI to transform lectures and academic content into various formats\, including podcasts. This diversification of learning materials caters to different learning styles and preferences. Presented by Dr. Deone Zell\, DNCOBE. \nIf you require accommodations\, please contact the NCOD on campus at ncod@csun.edu. \n**Your Zoom link will be in the Additional Information section of the confirmation email you receive from Eventbrite when you register\, and in the confirmation email from Eventbrite you will receive one hour prior to the workshop. If you have any questions\, contact ftc@csun.edu**
URL:https://news.csun.edu/event/multimedia-content-creation/
LOCATION:Online via Zoom; Connection details provided upon registration
CATEGORIES:Artificial Intelligence (AI),Information Technology,Learning Technologies
END:VEVENT
BEGIN:VEVENT
DTSTART;TZID=America/Los_Angeles:20241030T140000
DTEND;TZID=America/Los_Angeles:20241030T150000
DTSTAMP:20260425T102608
CREATED:20240919T170850Z
LAST-MODIFIED:20240919T170850Z
UID:10003853-1730296800-1730300400@news.csun.edu
SUMMARY:Video Editing with Ease\, An Intro to Camtasia
DESCRIPTION:Register for this event\n\n\nThis workshop\, offered in person at the Faculty Technology Lab (UL30)\, will bring guidance to faculty with little to no video editing experience up to pace with Camtasia\, a video editing software aimed at instructors\, to enhance their courses’ instructional video content. \nTopics include: \n\nDownloading and installing Camtasia\nUsing the Camtasia recorder for Screen capture\, audio\, and Video\nBasic navigation and editing tools\nImporting and exporting video content
URL:https://news.csun.edu/event/video-editing-with-ease-an-intro-to-camtasia/
LOCATION:University Library Room 30
CATEGORIES:Information Technology,Learning Technologies
END:VEVENT
END:VCALENDAR