BEGIN:VCALENDAR
VERSION:2.0
PRODID:-//CSUN News &amp; Events - ECPv6.11.2//NONSGML v1.0//EN
CALSCALE:GREGORIAN
METHOD:PUBLISH
X-WR-CALNAME:CSUN News &amp; Events
X-ORIGINAL-URL:https://news.csun.edu
X-WR-CALDESC:Events for CSUN News &amp; Events
REFRESH-INTERVAL;VALUE=DURATION:PT1H
X-Robots-Tag:noindex
X-PUBLISHED-TTL:PT1H
BEGIN:VTIMEZONE
TZID:America/Los_Angeles
BEGIN:DAYLIGHT
TZOFFSETFROM:-0800
TZOFFSETTO:-0700
TZNAME:PDT
DTSTART:20240310T100000
END:DAYLIGHT
BEGIN:STANDARD
TZOFFSETFROM:-0700
TZOFFSETTO:-0800
TZNAME:PST
DTSTART:20241103T090000
END:STANDARD
END:VTIMEZONE
BEGIN:VEVENT
DTSTART;TZID=America/Los_Angeles:20241029T100000
DTEND;TZID=America/Los_Angeles:20241029T120000
DTSTAMP:20260420T065458
CREATED:20240516T215848Z
LAST-MODIFIED:20241122T170927Z
UID:10000216-1730196000-1730203200@news.csun.edu
SUMMARY:PowerPoint Accessibility
DESCRIPTION:Description: This training demonstrates how to use the tools in Microsoft PowerPoint 2019 or 365 to add visual interest to presentations without creating accessibility barriers. How to convert your presentation to a tagged PDF or create an alternate format of Braille or large print. Participants will learn key structural elements for creating accessible documents. \nRecommended Attendees: Staff\, Faculty\, IT Specialist\, Web Developers\, Web Content Creators\, Graphic Designers\, Instructional Support\, Business Analysis\, Financial Personnel\, Marketing Specialist\, and Admin Support. \nLearning Objectives \n\n\n\nIdentify the principals of accessibility and universal design\nUsing slide master in PowerPoint to optimize the accessibility of slides.\nExplain key features of accessible PowerPoint documents\n\n\n\nLocation: Zoom session. UDC will send Zoom link information one week and one day before the training begins. \nNote: The accessibility training is for CSUN faculty\, staff\, student employees\, and alumni. \nRegister for PowerPoint Accessibility
URL:https://news.csun.edu/event/powerpoint-accessibility/
CATEGORIES:Accessibility & Universal Design,Information Technology,Workshops
ATTACH;FMTTYPE=image/png:https://news.csun.edu/wp-content/uploads/2024/05/udc_ppt_training.png
ORGANIZER;CN="Universal Design Center":MAILTO:udc@csun.edu
END:VEVENT
END:VCALENDAR