BEGIN:VCALENDAR
VERSION:2.0
PRODID:-//CSUN News &amp; Events - ECPv6.11.2//NONSGML v1.0//EN
CALSCALE:GREGORIAN
METHOD:PUBLISH
X-WR-CALNAME:CSUN News &amp; Events
X-ORIGINAL-URL:https://news.csun.edu
X-WR-CALDESC:Events for CSUN News &amp; Events
REFRESH-INTERVAL;VALUE=DURATION:PT1H
X-Robots-Tag:noindex
X-PUBLISHED-TTL:PT1H
BEGIN:VTIMEZONE
TZID:America/Los_Angeles
BEGIN:DAYLIGHT
TZOFFSETFROM:-0800
TZOFFSETTO:-0700
TZNAME:PDT
DTSTART:20240310T100000
END:DAYLIGHT
BEGIN:STANDARD
TZOFFSETFROM:-0700
TZOFFSETTO:-0800
TZNAME:PST
DTSTART:20241103T090000
END:STANDARD
END:VTIMEZONE
BEGIN:VEVENT
DTSTART;TZID=America/Los_Angeles:20241025T130000
DTEND;TZID=America/Los_Angeles:20241025T140000
DTSTAMP:20260421T015905
CREATED:20240930T182707Z
LAST-MODIFIED:20240930T183336Z
UID:10004353-1729861200-1729864800@news.csun.edu
SUMMARY:AI in the Classroom
DESCRIPTION:Register for this event\nLearn how to use AI in the classroom to engage students and boost their confidence and participation\, especially for non-native speakers and shy students. Presented by Dr. Deone Zell\, DNCOBE. \n**Your Zoom link will be in the Additional Information section of the confirmation email you receive from Eventbrite when you register\, and in the confirmation email from Eventbrite you will receive one hour prior to the workshop. If you have any questions\, contact ftc@csun.edu**
URL:https://news.csun.edu/event/ai-in-the-classroom/
LOCATION:Online via Zoom; Connection details provided upon registration
CATEGORIES:Artificial Intelligence (AI),Information Technology,Learning Technologies
END:VEVENT
END:VCALENDAR