BEGIN:VCALENDAR
VERSION:2.0
PRODID:-//CSUN News &amp; Events - ECPv6.11.2//NONSGML v1.0//EN
CALSCALE:GREGORIAN
METHOD:PUBLISH
X-ORIGINAL-URL:https://news.csun.edu
X-WR-CALDESC:Events for CSUN News &amp; Events
REFRESH-INTERVAL;VALUE=DURATION:PT1H
X-Robots-Tag:noindex
X-PUBLISHED-TTL:PT1H
BEGIN:VTIMEZONE
TZID:America/Los_Angeles
BEGIN:DAYLIGHT
TZOFFSETFROM:-0800
TZOFFSETTO:-0700
TZNAME:PDT
DTSTART:20240310T100000
END:DAYLIGHT
BEGIN:STANDARD
TZOFFSETFROM:-0700
TZOFFSETTO:-0800
TZNAME:PST
DTSTART:20241103T090000
END:STANDARD
END:VTIMEZONE
BEGIN:VEVENT
DTSTART;TZID=America/Los_Angeles:20241002T100000
DTEND;TZID=America/Los_Angeles:20241002T110000
DTSTAMP:20260422T170008
CREATED:20240919T165312Z
LAST-MODIFIED:20240919T165312Z
UID:10003840-1727863200-1727866800@news.csun.edu
SUMMARY:Infographics with Adobe Express
DESCRIPTION:Register for this event\n\n\nAre you looking for new and exciting ways to present complex information in your classroom? In this workshop\, discover how to present research\, data\, and new topics with infographics easily in Adobe Express: \n\nUnderstand the basics of Adobe Express\nCreate remixable infographic templates in any subject area\nAccess free resources to enhance your students’ learning experience\n\n**Your Zoom link will be in the Additional Information section of the confirmation email you receive from Eventbrite when you register\, and in the confirmation email from Eventbrite you will receive one hour prior to the workshop. If you have any questions\, contact ftc@csun.edu**
URL:https://news.csun.edu/event/infographics-with-adobe-express/
LOCATION:Zoom
CATEGORIES:Information Technology,Learning Technologies
END:VEVENT
END:VCALENDAR