BEGIN:VCALENDAR
VERSION:2.0
PRODID:-//CSUN News &amp; Events - ECPv6.11.2//NONSGML v1.0//EN
CALSCALE:GREGORIAN
METHOD:PUBLISH
X-ORIGINAL-URL:https://news.csun.edu
X-WR-CALDESC:Events for CSUN News &amp; Events
REFRESH-INTERVAL;VALUE=DURATION:PT1H
X-Robots-Tag:noindex
X-PUBLISHED-TTL:PT1H
BEGIN:VTIMEZONE
TZID:America/Los_Angeles
BEGIN:DAYLIGHT
TZOFFSETFROM:-0800
TZOFFSETTO:-0700
TZNAME:PDT
DTSTART:20240310T100000
END:DAYLIGHT
BEGIN:STANDARD
TZOFFSETFROM:-0700
TZOFFSETTO:-0800
TZNAME:PST
DTSTART:20241103T090000
END:STANDARD
END:VTIMEZONE
BEGIN:VEVENT
DTSTART;TZID=America/Los_Angeles:20240905T140000
DTEND;TZID=America/Los_Angeles:20240905T150000
DTSTAMP:20260423T091610
CREATED:20240904T001342Z
LAST-MODIFIED:20240904T165734Z
UID:10003143-1725544800-1725548400@news.csun.edu
SUMMARY:What’s New in Canvas
DESCRIPTION:Register for this event\n\n\nGet ready to supercharge your teaching experience this Fall with some fantastic updates to Canvas! Here’s what’s new: \n\nSmart Search: Find what you need in your courses faster than ever!\nDiscussions Redesign: Engage your students with a fresh\, intuitive interface.\nEnhanced Tools: Enjoy improved functionality with Turnitin and NameCoach.\n\nJoin us to learn more about these updates and get ready to elevate your teaching with these awesome new features!
URL:https://news.csun.edu/event/whats-new-in-canvas/
LOCATION:Zoom
CATEGORIES:Canvas,Information Technology
END:VEVENT
END:VCALENDAR