BEGIN:VCALENDAR
VERSION:2.0
PRODID:-//CSUN News &amp; Events - ECPv6.11.2//NONSGML v1.0//EN
CALSCALE:GREGORIAN
METHOD:PUBLISH
X-ORIGINAL-URL:https://news.csun.edu
X-WR-CALDESC:Events for CSUN News &amp; Events
REFRESH-INTERVAL;VALUE=DURATION:PT1H
X-Robots-Tag:noindex
X-PUBLISHED-TTL:PT1H
BEGIN:VTIMEZONE
TZID:America/Los_Angeles
BEGIN:DAYLIGHT
TZOFFSETFROM:-0800
TZOFFSETTO:-0700
TZNAME:PDT
DTSTART:20250309T100000
END:DAYLIGHT
BEGIN:STANDARD
TZOFFSETFROM:-0700
TZOFFSETTO:-0800
TZNAME:PST
DTSTART:20251102T090000
END:STANDARD
END:VTIMEZONE
BEGIN:VEVENT
DTSTART;TZID=America/Los_Angeles:20250219T100000
DTEND;TZID=America/Los_Angeles:20250219T111500
DTSTAMP:20260422T191043
CREATED:20241125T212746Z
LAST-MODIFIED:20241125T215200Z
UID:10004672-1739959200-1739963700@news.csun.edu
SUMMARY:Introduction to Accessibility and Universal Design
DESCRIPTION:Description:  In this introductory session you will learn about the accessibility and universal design strategies and principles necessary to create inclusive learning environments that support all students\, faculty and staff alike. \nRecommended Attendees: Staff\, Faculty\, Executives\, Financial Personnel\, Marketing Specialist\, Business Analyst\, Admin Support\, Graphic Designers\, and Instructional Support. \nLearning Objectives:  \n\nLearn the difference between accessibility and universal design.\nUnderstand the foundation principals for accessibility (4).\nRecognize the benefits of building with accessibility in mind and incorporating universal design principles into learning material.\n\nLocation: Zoom session. UDC will send Zoom link information one week and one day before the training begins. \nNote: The accessibility training is for CSUN faculty\, staff\, student employees\, and alumni. \nRegister for Introduction to Accessibility and Universal Design
URL:https://news.csun.edu/event/introduction-to-accessibility-and-universal-design-3/
CATEGORIES:Accessibility & Universal Design,Human Resources,Information Technology,Workshops
ATTACH;FMTTYPE=image/png:https://news.csun.edu/wp-content/uploads/2024/05/udc_a11y_ud_training_1.png
ORGANIZER;CN="Universal Design Center":MAILTO:udc@csun.edu
END:VEVENT
BEGIN:VEVENT
DTSTART;TZID=America/Los_Angeles:20250226T100000
DTEND;TZID=America/Los_Angeles:20250226T110000
DTSTAMP:20260422T191043
CREATED:20241125T213154Z
LAST-MODIFIED:20241125T213154Z
UID:10004673-1740564000-1740567600@news.csun.edu
SUMMARY:Email Accessibility
DESCRIPTION:Description:  This session is the best practices for making email content that is accessible\, usable and readable so that the email can reach the greatest amount of readers. Participants will learn why accessibility needs to be considered when creating emails step-by-step to ensure they are accessible. \nRecommended Attendees: Staff\, Faculty\, Executives\, Financial Personnel\, Marketing Specialist\, Business Analyst\, Admin Support\, Graphic Designers\, and Instructional Support. \nLearning Objectives: Step-by-Step instructions to create accessible email content. \nLocation: Zoom session. UDC will send Zoom link information one week and one day before the training begins. \nNote: The accessibility training is for CSUN faculty\, staff\, student employees\, and alumni. \nRegister for Email Accessibility
URL:https://news.csun.edu/event/email-accessibility-3/
CATEGORIES:Accessibility & Universal Design,Human Resources,Information Technology,Workshops
ATTACH;FMTTYPE=image/png:https://news.csun.edu/wp-content/uploads/2024/05/udc_email_training.png
ORGANIZER;CN="Universal Design Center":MAILTO:udc@csun.edu
END:VEVENT
END:VCALENDAR