BEGIN:VCALENDAR
VERSION:2.0
PRODID:-//CSUN News &amp; Events - ECPv6.11.2//NONSGML v1.0//EN
CALSCALE:GREGORIAN
METHOD:PUBLISH
X-WR-CALNAME:CSUN News &amp; Events
X-ORIGINAL-URL:https://news.csun.edu
X-WR-CALDESC:Events for CSUN News &amp; Events
REFRESH-INTERVAL;VALUE=DURATION:PT1H
X-Robots-Tag:noindex
X-PUBLISHED-TTL:PT1H
BEGIN:VTIMEZONE
TZID:America/Los_Angeles
BEGIN:DAYLIGHT
TZOFFSETFROM:-0800
TZOFFSETTO:-0700
TZNAME:PDT
DTSTART:20260308T100000
END:DAYLIGHT
BEGIN:STANDARD
TZOFFSETFROM:-0700
TZOFFSETTO:-0800
TZNAME:PST
DTSTART:20261101T090000
END:STANDARD
END:VTIMEZONE
BEGIN:VEVENT
DTSTART;TZID=America/Los_Angeles:20260501T113000
DTEND;TZID=America/Los_Angeles:20260501T123000
DTSTAMP:20260422T193735
CREATED:20260306T213505Z
LAST-MODIFIED:20260310T210222Z
UID:10010908-1777635000-1777638600@news.csun.edu
SUMMARY:Developing an Ethical AI Curriculum Framework
DESCRIPTION:Workshop 3: Developing an Ethical AI Curriculum Framework  \nHosted by Dr. Carmen Saunders-Russell  \nBegin constructing a structured\, scalable framework for integrating AI literacy and ethics into your curriculum. This workshop guides you through aligning student learning outcomes\, assessment strategies\, and ethical reasoning to prepare students for AI Literacy expectations in today’s workforce.  \nJoin the event on Zoom\n*You will need to be signed into Zoom with your csun.edu or my.csun.edu email address to join. \n**If you are signed into the Zoom app with a different account\, log out of Zoom\, and select the Single Sign-On (SSO) button near the bottom. If Zoom asks for a domain enter csun\, and you will be guided to CSUN’s SSO page. \n 
URL:https://news.csun.edu/event/developing-an-ethical-ai-curriculum-framework/
LOCATION:Online via Zoom; Connection details provided upon registration
CATEGORIES:Artificial Intelligence (AI),Artificial Intelligence: Faculty,Information Technology
ATTACH;FMTTYPE=image/png:https://news.csun.edu/wp-content/uploads/2026/03/Ethics-and-AI-e1772832878352.png
END:VEVENT
BEGIN:VEVENT
DTSTART;TZID=America/Los_Angeles:20260504T100000
DTEND;TZID=America/Los_Angeles:20260504T110000
DTSTAMP:20260422T193735
CREATED:20260417T213611Z
LAST-MODIFIED:20260421T211534Z
UID:10011357-1777888800-1777892400@news.csun.edu
SUMMARY:May the Notes Be with You: NotebookLM for Finals Prep
DESCRIPTION:Hosted by By Megan Jones\, Instructional & Media Technologist \nGet ready for finals with NotebookLM\, an AI-powered study partner that can help you work more effectively with your course materials. In this session\, students will learn how to use NotebookLM to organize notes\, summarize readings\, identify key concepts\, generate study guides\, and prepare for exams in a more focused and efficient way. The workshop will highlight practical academic uses that can support studying\, test preparation\, and review while encouraging students to use AI thoughtfully alongside their own critical thinking and learning. \nRegister here\nIf you require accommodations\, please contact the NCOD on campus at ncod@csun.edu.
URL:https://news.csun.edu/event/may-the-notes-be-with-you-notebooklm-for-finals-prep/
LOCATION:Online via Zoom; Connection details provided upon registration
CATEGORIES:Artificial Intelligence (AI),Artificial Intelligence: Students,Information Technology
ATTACH;FMTTYPE=image/png:https://news.csun.edu/wp-content/uploads/2026/04/NotebookLM_StudentBlogHeader_DiscoverSources_.width-1300-1666424547-e1758750643837.png
END:VEVENT
BEGIN:VEVENT
DTSTART;TZID=America/Los_Angeles:20260504T120000
DTEND;TZID=America/Los_Angeles:20260504T130000
DTSTAMP:20260422T193735
CREATED:20260120T195242Z
LAST-MODIFIED:20260120T195242Z
UID:10010194-1777896000-1777899600@news.csun.edu
SUMMARY:Lunch and Write Series-Spring 2026
DESCRIPTION:Interested in writing accountability this fall? Join the Office of Faculty Programs and Initiatives Mondays this semester from noon to 1 p.m. For questions email Dr. Anne Choi at achoi@csun.edu. \nRegister Here
URL:https://news.csun.edu/event/lunch-and-write-series-spring-2026/2026-05-04/
CATEGORIES:Events,Faculty Development,Faculty Programs and Initiatives
ATTACH;FMTTYPE=image/png:https://news.csun.edu/wp-content/uploads/2025/08/lunch-and-write-series-e1768938192474.png
END:VEVENT
BEGIN:VEVENT
DTSTART;TZID=America/Los_Angeles:20260504T140000
DTEND;TZID=America/Los_Angeles:20260504T150000
DTSTAMP:20260422T193735
CREATED:20260417T214540Z
LAST-MODIFIED:20260421T211453Z
UID:10011358-1777903200-1777906800@news.csun.edu
SUMMARY:May the 4th be with you: ChatGPT as Your Study Partner
DESCRIPTION:Hosted by Charlie Mahoney\, Instructional Technologist\, in partnership with AS Vice President\, Álvaro Geminiano Aragón \nPrepare for finals with a quick\, student-focused workshop on using ChatGPT as your study partner. Learn how AI can help you review concepts\, build study guides\, organize assignments\, strengthen your writing\, and support your academic success. This session will share practical examples\, responsible AI tips\, and helpful strategies you can start using right away. \nRegister here\nIf you require accommodations\, please contact the NCOD on campus at ncod@csun.edu.
URL:https://news.csun.edu/event/may-the-4th-be-with-you-chatgpt-as-your-study-partner/
LOCATION:Online via Zoom; Connection details provided upon registration
CATEGORIES:Artificial Intelligence (AI),Artificial Intelligence: Students,Information Technology
ATTACH;FMTTYPE=image/jpeg:https://news.csun.edu/wp-content/uploads/2026/04/ChatGPT-scaled-e1758751166830.jpeg
END:VEVENT
BEGIN:VEVENT
DTSTART;TZID=America/Los_Angeles:20260505T100000
DTEND;TZID=America/Los_Angeles:20260505T110000
DTSTAMP:20260422T193735
CREATED:20260306T213909Z
LAST-MODIFIED:20260306T213909Z
UID:10010909-1777975200-1777978800@news.csun.edu
SUMMARY:AI Syllabus Statements
DESCRIPTION:Hosted by Dr. Joyce Marie Brusasco \nDescription: Address AI in your course syllabi. This workshop provides faculty with practical language\, examples\, and resources for defining permissible and prohibited uses of AI. Participants will explore approaches for guiding responsible student use\, ensuring academic integrity\, and co-creating clear AI statements with their classes. \n\nJoin the event on Zoom\n*You will need to be signed into Zoom with your csun.edu or my.csun.edu email address to join. \n**If you are signed into the Zoom app with a different account\, log out of Zoom\, and select the Single Sign-On (SSO) button near the bottom. If Zoom asks for a domain enter csun\, and you will be guided to CSUN’s SSO page. \n 
URL:https://news.csun.edu/event/ai-syllabus-statements-4/
LOCATION:Online via Zoom; Connection details provided upon registration
CATEGORIES:Artificial Intelligence (AI),Information Technology
ATTACH;FMTTYPE=image/png:https://news.csun.edu/wp-content/uploads/2025/08/AI-Train-the-Trainer-600x400px.png
END:VEVENT
BEGIN:VEVENT
DTSTART;TZID=America/Los_Angeles:20260505T120000
DTEND;TZID=America/Los_Angeles:20260505T130000
DTSTAMP:20260422T193735
CREATED:20260120T195242Z
LAST-MODIFIED:20260120T195242Z
UID:10010195-1777982400-1777986000@news.csun.edu
SUMMARY:Lunch and Write Series-Spring 2026
DESCRIPTION:Interested in writing accountability this fall? Join the Office of Faculty Programs and Initiatives Mondays this semester from noon to 1 p.m. For questions email Dr. Anne Choi at achoi@csun.edu. \nRegister Here
URL:https://news.csun.edu/event/lunch-and-write-series-spring-2026/2026-05-05/
CATEGORIES:Events,Faculty Development,Faculty Programs and Initiatives
ATTACH;FMTTYPE=image/png:https://news.csun.edu/wp-content/uploads/2025/08/lunch-and-write-series-e1768938192474.png
END:VEVENT
BEGIN:VEVENT
DTSTART;TZID=America/Los_Angeles:20260507T110000
DTEND;TZID=America/Los_Angeles:20260507T120000
DTSTAMP:20260422T193735
CREATED:20260319T192034Z
LAST-MODIFIED:20260319T192034Z
UID:10011111-1778151600-1778155200@news.csun.edu
SUMMARY:New CSU Community of Practice for faculty: Accessible Instructional Materials
DESCRIPTION:Description: For faculty\, led by a CSU faculty member. Bring your questions about accessibility; share and learn from your colleagues. Agenda to follow. \nLocation: Zoom meeting link
URL:https://news.csun.edu/event/new-csu-community-of-practice-for-faculty-accessible-instructional-materials-2/
CATEGORIES:Accessibility & Universal Design,Human Resources,Information Technology,Workshops
ATTACH;FMTTYPE=image/png:https://news.csun.edu/wp-content/uploads/2026/03/udc_Instructional_Materials.png
ORGANIZER;CN="Universal Design Center":MAILTO:udc@csun.edu
END:VEVENT
BEGIN:VEVENT
DTSTART;TZID=America/Los_Angeles:20260507T120000
DTEND;TZID=America/Los_Angeles:20260507T133000
DTSTAMP:20260422T193735
CREATED:20260305T213616Z
LAST-MODIFIED:20260416T145923Z
UID:10010880-1778155200-1778160600@news.csun.edu
SUMMARY:Staying Human in the Age of AI: CSBS Open Discussion Series
DESCRIPTION:Spring 2026 Open Discussion Series: Staying Human in the Age of AI\nWhen and Where\nThursdays | 12:00–1:30 PM \n\nApril 2  (In Person)\nApril 16 (via Zoom)\nJoin Zoom Meeting\nMeeting ID: 898 5500 6864\nPasscode: 312758\nMay 7 (In Person)\n\nWhitsett Room | Sierra Hall\, Room 451 \nOverview\nThis spring\, the College of Social and Behavioral Sciences (CSBS) continues its college-wide exploration of Artificial Intelligence (AI) and Virtual Extended Reality (VXR) in education and social services. Supported by Dean Searcy and led by Dr. Ellie Kazemi (Department of Psychology)\, this series creates an open space for thoughtful\, critical conversation about how these technologies are shaping our classrooms\, disciplines\, and daily work. \nPurpose\nOur College is creating space for open dialogue about pressing concerns such as academic integrity\, erosion of learning\, bias\, labor\, sustainability\, and the preservation of academic values—alongside honest discussion about how AI is already influencing our professional and personal lives. Faculty and staff bring diverse perspectives\, from active integration to intentional limits. The goal is not consensus\, but shared understanding and meaningful exchange grounded in our shared academic values. \nWhy Consider Attending?\nNew tools\, headlines\, and workshops about AI seem to emerge daily. The rapid pace of change in the corporate world is spilling into higher education\, and many of us are being asked to respond quickly—sometimes without adequate space to think. \nThis gathering offers an opportunity to pause and reflect. To make sense of what’s happening alongside colleagues who may share your excitement\, your hesitation\, or both. Together\, we can support one another in navigating a fast-moving and uncertain moment\, and consider how to move forward in ways that align with our values and our students’ needs. \nJoin us as we examine possibilities\, address limitations\, and learn from one another’s approaches to teaching\, research\, and community work. \nRequesting Accommodations\nThe CSUN College of Social and Behavioral Sciences is committed to making its events accessible to everyone. If you require an accommodation or service to fully participate\, please let us know. Note: If you require an ASL interpreter\, please contact us no later than five working days prior to the event. To request accommodations\, please contact Jacqueline Edwards at 818-677-3317 or via email at ashley.rice@csun.edu.
URL:https://news.csun.edu/event/staying-human-in-the-age-of-ai-csbs-workshops/2026-05-07/
LOCATION:Whitsett Room\, SH 451
CATEGORIES:Artificial Intelligence (AI),College of Social and Behavioral Sciences,Current Students,Faculty Development,Lectures and Guest Speakers
ATTACH;FMTTYPE=image/png:https://news.csun.edu/wp-content/uploads/2026/03/AI_SpringWorkshops_Feature-1.png
END:VEVENT
BEGIN:VEVENT
DTSTART;TZID=America/Los_Angeles:20260511T120000
DTEND;TZID=America/Los_Angeles:20260511T130000
DTSTAMP:20260422T193736
CREATED:20260120T195242Z
LAST-MODIFIED:20260120T195242Z
UID:10010196-1778500800-1778504400@news.csun.edu
SUMMARY:Lunch and Write Series-Spring 2026
DESCRIPTION:Interested in writing accountability this fall? Join the Office of Faculty Programs and Initiatives Mondays this semester from noon to 1 p.m. For questions email Dr. Anne Choi at achoi@csun.edu. \nRegister Here
URL:https://news.csun.edu/event/lunch-and-write-series-spring-2026/2026-05-11/
CATEGORIES:Events,Faculty Development,Faculty Programs and Initiatives
ATTACH;FMTTYPE=image/png:https://news.csun.edu/wp-content/uploads/2025/08/lunch-and-write-series-e1768938192474.png
END:VEVENT
BEGIN:VEVENT
DTSTART;TZID=America/Los_Angeles:20260512T100000
DTEND;TZID=America/Los_Angeles:20260512T110000
DTSTAMP:20260422T193736
CREATED:20260306T214426Z
LAST-MODIFIED:20260306T214527Z
UID:10010910-1778580000-1778583600@news.csun.edu
SUMMARY:Moving Your Final Grades from Canvas to SOLAR
DESCRIPTION:Hosted by Herbert Serrano  \nDescription: Did you know there is a faster way to record your final grades in the Portal? If you’re grappling with the challenge of managing multiple large classes\, the task of recording final grades might feel like a daunting and time-consuming endeavor.  \nHowever\, there is a method to streamline this process\, offering you a chance to significantly reduce the time invested. Join us to learn how to easily import your final grades into the Portal. \nJoin the event on Zoom\n*If you require an ASL interpreter\, please contact your department. \n**For Zoom captions – please pre-enable automated captions/transcript on the Zoom website (not the app) before the meeting begins as it cannot be turned on while the meeting is running. If you have any questions\, contact ftc@csun.edu
URL:https://news.csun.edu/event/moving-your-final-grades-from-canvas-to-solar/
LOCATION:Online via Zoom; Connection details provided upon registration
CATEGORIES:Canvas,Information Technology,Learning Technologies
ATTACH;FMTTYPE=image/png:https://news.csun.edu/wp-content/uploads/2024/11/Uploading-Grades-to-Portal-900x600-1-e1763682567224.png
END:VEVENT
BEGIN:VEVENT
DTSTART;TZID=America/Los_Angeles:20260512T120000
DTEND;TZID=America/Los_Angeles:20260512T130000
DTSTAMP:20260422T193736
CREATED:20260120T195242Z
LAST-MODIFIED:20260120T195242Z
UID:10010197-1778587200-1778590800@news.csun.edu
SUMMARY:Lunch and Write Series-Spring 2026
DESCRIPTION:Interested in writing accountability this fall? Join the Office of Faculty Programs and Initiatives Mondays this semester from noon to 1 p.m. For questions email Dr. Anne Choi at achoi@csun.edu. \nRegister Here
URL:https://news.csun.edu/event/lunch-and-write-series-spring-2026/2026-05-12/
CATEGORIES:Events,Faculty Development,Faculty Programs and Initiatives
ATTACH;FMTTYPE=image/png:https://news.csun.edu/wp-content/uploads/2025/08/lunch-and-write-series-e1768938192474.png
END:VEVENT
BEGIN:VEVENT
DTSTART;TZID=America/Los_Angeles:20260514T140000
DTEND;TZID=America/Los_Angeles:20260514T150000
DTSTAMP:20260422T193736
CREATED:20260306T214820Z
LAST-MODIFIED:20260306T214820Z
UID:10010911-1778767200-1778770800@news.csun.edu
SUMMARY:Moving Your Final Grades from Canvas to SOLAR
DESCRIPTION:Hosted by Herbert Serrano  \nDescription: Did you know there is a faster way to record your final grades in the Portal? If you’re grappling with the challenge of managing multiple large classes\, the task of recording final grades might feel like a daunting and time-consuming endeavor.  \nHowever\, there is a method to streamline this process\, offering you a chance to significantly reduce the time invested. Join us to learn how to easily import your final grades into the Portal. \nJoin the event on Zoom\n*If you require an ASL interpreter\, please contact your department. \n**For Zoom captions – please pre-enable automated captions/transcript on the Zoom website (not the app) before the meeting begins as it cannot be turned on while the meeting is running. If you have any questions\, contact ftc@csun.edu
URL:https://news.csun.edu/event/moving-your-final-grades-from-canvas-to-solar-2/
LOCATION:Online via Zoom; Connection details provided upon registration
CATEGORIES:Canvas,Information Technology,Learning Technologies
ATTACH;FMTTYPE=image/png:https://news.csun.edu/wp-content/uploads/2024/11/Uploading-Grades-to-Portal-900x600-1-e1763682567224.png
END:VEVENT
BEGIN:VEVENT
DTSTART;TZID=America/Los_Angeles:20260518T120000
DTEND;TZID=America/Los_Angeles:20260518T130000
DTSTAMP:20260422T193736
CREATED:20260120T195242Z
LAST-MODIFIED:20260120T195242Z
UID:10010198-1779105600-1779109200@news.csun.edu
SUMMARY:Lunch and Write Series-Spring 2026
DESCRIPTION:Interested in writing accountability this fall? Join the Office of Faculty Programs and Initiatives Mondays this semester from noon to 1 p.m. For questions email Dr. Anne Choi at achoi@csun.edu. \nRegister Here
URL:https://news.csun.edu/event/lunch-and-write-series-spring-2026/2026-05-18/
CATEGORIES:Events,Faculty Development,Faculty Programs and Initiatives
ATTACH;FMTTYPE=image/png:https://news.csun.edu/wp-content/uploads/2025/08/lunch-and-write-series-e1768938192474.png
END:VEVENT
BEGIN:VEVENT
DTSTART;TZID=America/Los_Angeles:20260519T120000
DTEND;TZID=America/Los_Angeles:20260519T130000
DTSTAMP:20260422T193736
CREATED:20260120T195242Z
LAST-MODIFIED:20260120T195242Z
UID:10010199-1779192000-1779195600@news.csun.edu
SUMMARY:Lunch and Write Series-Spring 2026
DESCRIPTION:Interested in writing accountability this fall? Join the Office of Faculty Programs and Initiatives Mondays this semester from noon to 1 p.m. For questions email Dr. Anne Choi at achoi@csun.edu. \nRegister Here
URL:https://news.csun.edu/event/lunch-and-write-series-spring-2026/2026-05-19/
CATEGORIES:Events,Faculty Development,Faculty Programs and Initiatives
ATTACH;FMTTYPE=image/png:https://news.csun.edu/wp-content/uploads/2025/08/lunch-and-write-series-e1768938192474.png
END:VEVENT
BEGIN:VEVENT
DTSTART;TZID=America/Los_Angeles:20260519T140000
DTEND;TZID=America/Los_Angeles:20260519T150000
DTSTAMP:20260422T193736
CREATED:20260306T215157Z
LAST-MODIFIED:20260306T215157Z
UID:10010913-1779199200-1779202800@news.csun.edu
SUMMARY:Moving Your Final Grades from Canvas to SOLAR
DESCRIPTION:Hosted by Herbert Serrano  \nDescription: Did you know there is a faster way to record your final grades in the Portal? If you’re grappling with the challenge of managing multiple large classes\, the task of recording final grades might feel like a daunting and time-consuming endeavor.  \nHowever\, there is a method to streamline this process\, offering you a chance to significantly reduce the time invested. Join us to learn how to easily import your final grades into the Portal. \nJoin the event on Zoom\n*If you require an ASL interpreter\, please contact your department. \n**For Zoom captions – please pre-enable automated captions/transcript on the Zoom website (not the app) before the meeting begins as it cannot be turned on while the meeting is running. If you have any questions\, contact ftc@csun.edu
URL:https://news.csun.edu/event/moving-your-final-grades-from-canvas-to-solar-3/
LOCATION:Online via Zoom; Connection details provided upon registration
CATEGORIES:Canvas,Information Technology,Learning Technologies
ATTACH;FMTTYPE=image/png:https://news.csun.edu/wp-content/uploads/2024/11/Uploading-Grades-to-Portal-900x600-1-e1763682567224.png
END:VEVENT
END:VCALENDAR