BEGIN:VCALENDAR
VERSION:2.0
PRODID:-//CSUN News &amp; Events - ECPv6.11.2//NONSGML v1.0//EN
CALSCALE:GREGORIAN
METHOD:PUBLISH
X-ORIGINAL-URL:https://news.csun.edu
X-WR-CALDESC:Events for CSUN News &amp; Events
REFRESH-INTERVAL;VALUE=DURATION:PT1H
X-Robots-Tag:noindex
X-PUBLISHED-TTL:PT1H
BEGIN:VTIMEZONE
TZID:America/Los_Angeles
BEGIN:DAYLIGHT
TZOFFSETFROM:-0800
TZOFFSETTO:-0700
TZNAME:PDT
DTSTART:20240310T100000
END:DAYLIGHT
BEGIN:STANDARD
TZOFFSETFROM:-0700
TZOFFSETTO:-0800
TZNAME:PST
DTSTART:20241103T090000
END:STANDARD
END:VTIMEZONE
BEGIN:VEVENT
DTSTART;TZID=America/Los_Angeles:20240904T100000
DTEND;TZID=America/Los_Angeles:20240904T110000
DTSTAMP:20260419T234452
CREATED:20240904T001139Z
LAST-MODIFIED:20240904T165727Z
UID:10003142-1725444000-1725447600@news.csun.edu
SUMMARY:Generative AI with Adobe Express
DESCRIPTION:Register for this event\n\n\nAnyone can explore the generative powers of AI to create eye-catching images. Adobe Express has integrated AI generation in an easy-to-use web application.\nThis workshop covers: \n\nCreating course images\nPertinent presentations\nEngaging imagery using Adobe Express
URL:https://news.csun.edu/event/generative-ai-with-adobe-express/
LOCATION:Zoom
CATEGORIES:Artificial Intelligence (AI),Information Technology
END:VEVENT
BEGIN:VEVENT
DTSTART;TZID=America/Los_Angeles:20240905T140000
DTEND;TZID=America/Los_Angeles:20240905T150000
DTSTAMP:20260419T234452
CREATED:20240904T001342Z
LAST-MODIFIED:20240904T165734Z
UID:10003143-1725544800-1725548400@news.csun.edu
SUMMARY:What’s New in Canvas
DESCRIPTION:Register for this event\n\n\nGet ready to supercharge your teaching experience this Fall with some fantastic updates to Canvas! Here’s what’s new: \n\nSmart Search: Find what you need in your courses faster than ever!\nDiscussions Redesign: Engage your students with a fresh\, intuitive interface.\nEnhanced Tools: Enjoy improved functionality with Turnitin and NameCoach.\n\nJoin us to learn more about these updates and get ready to elevate your teaching with these awesome new features!
URL:https://news.csun.edu/event/whats-new-in-canvas/
LOCATION:Zoom
CATEGORIES:Canvas,Information Technology
END:VEVENT
BEGIN:VEVENT
DTSTART;TZID=America/Los_Angeles:20240909T140000
DTEND;TZID=America/Los_Angeles:20240909T150000
DTSTAMP:20260419T234452
CREATED:20240904T001458Z
LAST-MODIFIED:20240904T165741Z
UID:10003150-1725890400-1725894000@news.csun.edu
SUMMARY:Empower Student Growth with ePortfolios
DESCRIPTION:Register for this event\n\n\nJoin us to learn more about ePortfolios and how to incorporate them into your classes. Meet with our ePortfolio Coordinator as they highlight the ways ePortfolios can be used to help your students grow into professionals. \n\nLearn how to use ePortfolios as a tool to showcase student employability as well as stand out to potential employers\nLearn to use Canvas ePortfolios as a reflective tool for students to highlight their skills\, achievements\, and projects
URL:https://news.csun.edu/event/empower-student-growth-with-eportfolios/
LOCATION:Zoom
CATEGORIES:ePortfolios,Information Technology
END:VEVENT
BEGIN:VEVENT
DTSTART;TZID=America/Los_Angeles:20240910T100000
DTEND;TZID=America/Los_Angeles:20240910T110000
DTSTAMP:20260419T234452
CREATED:20240830T010606Z
LAST-MODIFIED:20240830T010803Z
UID:10003069-1725962400-1725966000@news.csun.edu
SUMMARY:Canvas Basics
DESCRIPTION:Tuesday\, September 10\, 2024 – 10:00am to 11:00am\nLocation: Zoom Only\nCost: Free \nRegister for this event\n\n\nIf you are new to teaching or have never used Canvas\, this course can help you with the fundamentals. Participants will learn the following: \n\nHow to navigate in Canvas\nUploading files\nHow to create pages and modules\nHow to setup Assignments\nHow to setup Discussions\nQuiz Basics\nBasic Gradebook functions
URL:https://news.csun.edu/event/canvas-basics/
CATEGORIES:Canvas,Information Technology
END:VEVENT
BEGIN:VEVENT
DTSTART;TZID=America/Los_Angeles:20240910T100000
DTEND;TZID=America/Los_Angeles:20240910T110000
DTSTAMP:20260419T234452
CREATED:20240904T001633Z
LAST-MODIFIED:20240904T165746Z
UID:10003144-1725962400-1725966000@news.csun.edu
SUMMARY:Canvas Basics
DESCRIPTION:Register for this event\n\n\nIf you are new to teaching or have never used Canvas\, this course can help you with the fundamentals. Participants will learn the following: \n\nHow navigate in Canvas\nUploading files\nHow to create pages and modules\nHow to setup Assignments\nHow to setup Discussions\nQuiz Basics\nBasic Gradebook functions
URL:https://news.csun.edu/event/canvas-basics-2/
LOCATION:Zoom
CATEGORIES:Canvas,Information Technology
END:VEVENT
BEGIN:VEVENT
DTSTART;TZID=America/Los_Angeles:20240911T140000
DTEND;TZID=America/Los_Angeles:20240911T150000
DTSTAMP:20260419T234452
CREATED:20240904T001748Z
LAST-MODIFIED:20240904T165750Z
UID:10003145-1726063200-1726066800@news.csun.edu
SUMMARY:5 Ways to Integrate AI Into Your Assignments
DESCRIPTION:Register for this event\n\n\nJoin us to explore five approaches for integrating generative AI into your assignments. We will discuss a range of strategies that help promote AI literacy and fluency among students while supporting their overall learning experience. Whether you’re looking to allow AI as an optional resource or embed it more deeply into your curriculum\, this session will provide actionable examples to support your teaching goals.
URL:https://news.csun.edu/event/5-ways-to-integrate-ai-into-your-assignments/
LOCATION:Zoom
CATEGORIES:Artificial Intelligence (AI),Information Technology
END:VEVENT
BEGIN:VEVENT
DTSTART;TZID=America/Los_Angeles:20240912T140000
DTEND;TZID=America/Los_Angeles:20240912T150000
DTSTAMP:20260419T234452
CREATED:20240904T001837Z
LAST-MODIFIED:20240904T165755Z
UID:10003146-1726149600-1726153200@news.csun.edu
SUMMARY:Getting Started: Creating Course Videos in Panopto
DESCRIPTION:Register for this event\n\n\nLearn how to start recording your instructional video content for your Canvas courses in Panopto! Whether it’s simply a class recording\, lecture\, lesson\, or demonstration\, our lecture capture team will teach you how to access Panopto as the primary video platform to upload to for your course content. \nOverview of What will be Demonstrated: \n\nSigning in to Panopto with CSUN Credentials\nStart recording right away in browser or on the desktop app\nNavigating Panopto\, the video viewer\, and the “My Folder” file system\nShowing off Panopto’s simple yet versatile video editor and its accessibility functions
URL:https://news.csun.edu/event/getting-started-creating-course-videos-in-panopto/
LOCATION:Zoom
CATEGORIES:Information Technology,Panopto
END:VEVENT
BEGIN:VEVENT
DTSTART;TZID=America/Los_Angeles:20240913T100000
DTEND;TZID=America/Los_Angeles:20240913T110000
DTSTAMP:20260419T234452
CREATED:20240904T002009Z
LAST-MODIFIED:20240904T165800Z
UID:10003147-1726221600-1726225200@news.csun.edu
SUMMARY:Gradebook Setup for New Faculty
DESCRIPTION:Register for this event\n\n\nTransform Your Canvas Experience: Conquer the Gradebook! \nAre you ready to eliminate grading confusion and frustration with just a few clicks? Join us for this workshop where we’ll unveil the secrets to a flawless Gradebook setup in Canvas! \nWhat’s in it for you? \nNavigate the nuances of assignment and quiz point values. \n\nKickstart your semester with a Gradebook that’s configured for success.\nSave time and headaches for both you and your students.\nWorkshop Highlights:\nStep-by-step guidance on setting up your Gradebook with time saving tips.\nExpert tips to avoid common pitfalls.\nMark your calendars! This is the workshop you can’t afford to miss. Secure your spot and start the semester with confidence!\n\nJoin us\, and let’s make this academic year the smoothest one yet!
URL:https://news.csun.edu/event/gradebook-setup-for-new-faculty/
LOCATION:Zoom
CATEGORIES:Information Technology,Learning Technologies
END:VEVENT
BEGIN:VEVENT
DTSTART;TZID=America/Los_Angeles:20240916T100000
DTEND;TZID=America/Los_Angeles:20240916T110000
DTSTAMP:20260419T234452
CREATED:20240904T165356Z
LAST-MODIFIED:20240904T165804Z
UID:10003148-1726480800-1726484400@news.csun.edu
SUMMARY:Canvas Insights
DESCRIPTION:Register for this event\n\n\nThis hands-on workshop shows faculty how to use CSUN’s Canvas Insights for early alerts. Canvas Insights lets faculty provide support to students who need assistance and positive feedback to students who are doing well.
URL:https://news.csun.edu/event/canvas-insights/
LOCATION:Zoom
CATEGORIES:Canvas Analytics,Information Technology
END:VEVENT
BEGIN:VEVENT
DTSTART;TZID=America/Los_Angeles:20240917T110000
DTEND;TZID=America/Los_Angeles:20240917T121500
DTSTAMP:20260419T234452
CREATED:20240516T205704Z
LAST-MODIFIED:20241001T173635Z
UID:10000203-1726570800-1726575300@news.csun.edu
SUMMARY:Introduction to Accessibility and Universal Design
DESCRIPTION:Description:  In this introductory session you will learn about the accessibility and universal design strategies and principles necessary to create inclusive learning environments that support all students\, faculty and staff alike. \nRecommended Attendees: Staff\, Faculty\, Executives\, Financial Personnel\, Marketing Specialist\, Business Analyst\, Admin Support\, Graphic Designers\, and Instructional Support. \nLearning Objectives:  \n\nLearn the difference between accessibility and universal design.\nUnderstand the foundation principals for accessibility (4).\nRecognize the benefits of building with accessibility in mind and incorporating universal design principles into learning material.\n\nLocation: Zoom session. UDC will send Zoom link information one week and one day before the training begins. \nNote: The accessibility training is for CSUN faculty\, staff\, student employees\, and alumni. \nRegister for Introduction to Accessibility and Universal Design
URL:https://news.csun.edu/event/introduction-to-accessibility-and-universal-design/
CATEGORIES:Accessibility & Universal Design,Human Resources,Information Technology,Workshops
ATTACH;FMTTYPE=image/png:https://news.csun.edu/wp-content/uploads/2024/05/udc_a11y_ud_training_1.png
ORGANIZER;CN="Universal Design Center":MAILTO:udc@csun.edu
END:VEVENT
BEGIN:VEVENT
DTSTART;TZID=America/Los_Angeles:20240917T110000
DTEND;TZID=America/Los_Angeles:20240917T121500
DTSTAMP:20260419T234452
CREATED:20240904T165521Z
LAST-MODIFIED:20240904T165809Z
UID:10003149-1726570800-1726575300@news.csun.edu
SUMMARY:Introduction to Accessibility and Universal Design
DESCRIPTION:Register for this event\n\n\nDescription:  In this introductory session you will learn about the accessibility and universal design strategies and principles necessary to create inclusive learning environments that support all students\, faculty and staff alike. \nRecommended Attendees: Staff\, Faculty\, Executives\, Financial Personnel\, Marketing Specialist\, Business Analyst\, Admin Support\, Graphic Designers\, and Instructional Support. \nLearning Objectives:  \n\nLearn the difference between accessibility and universal design.\nUnderstand the foundation principals for accessibility (4).\nRecognize the benefits of building with accessibility in mind and incorporating universal design principles into learning material.\n\nNote: The accessibility training is for CSUN faculty\, staff\, student employees\, and alumni.
URL:https://news.csun.edu/event/introduction-to-accessibility-and-universal-design-2/
LOCATION:Zoom
CATEGORIES:Information Technology,Learning Technologies
END:VEVENT
BEGIN:VEVENT
DTSTART;TZID=America/Los_Angeles:20240918T120000
DTEND;TZID=America/Los_Angeles:20240918T130000
DTSTAMP:20260419T234452
CREATED:20240919T164555Z
LAST-MODIFIED:20240919T164555Z
UID:10003834-1726660800-1726664400@news.csun.edu
SUMMARY:Faculty Coffee Hour - AI & Teaching: A Conversation with Dr. Deone Zell
DESCRIPTION:Register to attend online on our Eventbrite page. \nJoin us for an engaging Faculty Coffee Hour focused on “AI & Teaching: A Conversation with Dr. Deone Zell” from the Department of Management. In this informal session\, Dr. Zell will lead an exciting discussion on the intersection of artificial intelligence and education. This is an opportunity to meet with an expert\, connect with colleagues\, and explore the potential of AI in academia. Don’t miss this chance to be part of a stimulating conversation! \n**Please Note: If you are registering to attend online\, your Zoom link will be in the Additional Information section of the confirmation email you receive from Eventbrite when you register\, and in the confirmation email from Eventbrite you will receive one hour prior to the workshop. If you have any questions\, contact ftc@csun.edu**
URL:https://news.csun.edu/event/faculty-coffee-hour-ai-teaching-a-conversation-with-dr-deone-zell/
LOCATION:Zoom
CATEGORIES:Artificial Intelligence (AI),Information Technology
END:VEVENT
BEGIN:VEVENT
DTSTART;TZID=America/Los_Angeles:20240918T140000
DTEND;TZID=America/Los_Angeles:20240918T150000
DTSTAMP:20260419T234452
CREATED:20240919T164659Z
LAST-MODIFIED:20240919T164659Z
UID:10003835-1726668000-1726671600@news.csun.edu
SUMMARY:Save Time with Gen AI
DESCRIPTION:Register for this event\nGenerative AI tools such as ChatGPT have revolutionized the teaching and learning process\, offering new possibilities. As educators\, there is no need to fear these advancements; instead\, we can embrace them to enhance our teaching practices.  \nThis workshop aims to equip you with various approaches and strategies to leverage these tools effectively\, ultimately saving you valuable time. 
URL:https://news.csun.edu/event/save-time-with-gen-ai/
LOCATION:Zoom
CATEGORIES:Artificial Intelligence (AI),Information Technology
END:VEVENT
BEGIN:VEVENT
DTSTART;TZID=America/Los_Angeles:20240923T140000
DTEND;TZID=America/Los_Angeles:20240923T150000
DTSTAMP:20260419T234452
CREATED:20240919T164822Z
LAST-MODIFIED:20240919T164822Z
UID:10003836-1727100000-1727103600@news.csun.edu
SUMMARY:Engage Student Learning: Panopto Video Quizzes
DESCRIPTION:Register for this event\n\n\nAttend this simple workshop on Panopto’s Video Quiz function! You will learn the different facetsof how to insert video quiz questions\, the different types of questions you can give to students through them\, as well as how it integrates with your Canvas course as automatically graded video quiz assignments.
URL:https://news.csun.edu/event/engage-student-learning-panopto-video-quizzes/
LOCATION:Zoom
CATEGORIES:Information Technology,Panopto
END:VEVENT
BEGIN:VEVENT
DTSTART;TZID=America/Los_Angeles:20240924T100000
DTEND;TZID=America/Los_Angeles:20240924T110000
DTSTAMP:20260419T234452
CREATED:20240919T164931Z
LAST-MODIFIED:20240919T164931Z
UID:10003837-1727172000-1727175600@news.csun.edu
SUMMARY:Engage Your Students with Poll Everywhere
DESCRIPTION:Register for this event\n\n\nPoll Everywhere is a tool designed to engage your students with various polling activities such as word cloud\, questions\, and Q&A. Students can respond on their computer\, iPad or mobile phone and the instructor can link the activities to Canvas grading to give students credit for their participation. \nThis workshop will cover: \n\nHow to get started with Poll Everywhere\nHow activities such as word cloud work\nHow to create these activities
URL:https://news.csun.edu/event/engage-your-students-with-poll-everywhere/
LOCATION:Zoom
CATEGORIES:Information Technology,Learning Technologies
END:VEVENT
BEGIN:VEVENT
DTSTART;TZID=America/Los_Angeles:20240925T100000
DTEND;TZID=America/Los_Angeles:20240925T110000
DTSTAMP:20260419T234452
CREATED:20240516T212543Z
LAST-MODIFIED:20241001T171947Z
UID:10000205-1727258400-1727262000@news.csun.edu
SUMMARY:Email Accessibility
DESCRIPTION:Description:  This session is the best practices for making email content that is accessible\, usable and readable so that the email can reach the greatest amount of readers. Participants will learn why accessibility needs to be considered when creating emails step-by-step to ensure they are accessible. \nRecommended Attendees: Staff\, Faculty\, Executives\, Financial Personnel\, Marketing Specialist\, Business Analyst\, Admin Support\, Graphic Designers\, and Instructional Support. \nLearning Objectives: Step-by-Step instructions to create accessible email content. \nLocation: Zoom session. UDC will send Zoom link information one week and one day before the training begins. \nNote: The accessibility training is for CSUN faculty\, staff\, student employees\, and alumni. \nRegister for Email Accessibility
URL:https://news.csun.edu/event/email-accessibility/
CATEGORIES:Accessibility & Universal Design,Human Resources,Information Technology,Workshops
ATTACH;FMTTYPE=image/png:https://news.csun.edu/wp-content/uploads/2024/05/udc_email_training.png
ORGANIZER;CN="Universal Design Center":MAILTO:udc@csun.edu
END:VEVENT
BEGIN:VEVENT
DTSTART;TZID=America/Los_Angeles:20240925T100000
DTEND;TZID=America/Los_Angeles:20240925T110000
DTSTAMP:20260419T234452
CREATED:20240919T165032Z
LAST-MODIFIED:20240919T165032Z
UID:10003838-1727258400-1727262000@news.csun.edu
SUMMARY:Email Accessibility
DESCRIPTION:Register for this event\n\n\nDescription:  This session is the best practices for making email content that is accessible\, usable and readable so that the email can reach the greatest amount of readers. Participants will learn why accessibility needs to be considered when creating emails step-by-step to ensure they are accessible. \nRecommended Attendees: Staff\, Faculty\, Executives\, Financial Personnel\, Marketing Specialist\, Business Analyst\, Admin Support\, Graphic Designers\, and Instructional Support. \nLearning Objectives: Step-by-Step instructions to create accessible email content. \nNote: The accessibility training is for CSUN faculty\, staff\, student employees\, and alumni.
URL:https://news.csun.edu/event/email-accessibility-2/
LOCATION:Zoom
CATEGORIES:Information Technology,Learning Technologies
END:VEVENT
END:VCALENDAR