BEGIN:VCALENDAR
VERSION:2.0
PRODID:-//CSUN News &amp; Events - ECPv6.11.2//NONSGML v1.0//EN
CALSCALE:GREGORIAN
METHOD:PUBLISH
X-WR-CALNAME:CSUN News &amp; Events
X-ORIGINAL-URL:https://news.csun.edu
X-WR-CALDESC:Events for CSUN News &amp; Events
REFRESH-INTERVAL;VALUE=DURATION:PT1H
X-Robots-Tag:noindex
X-PUBLISHED-TTL:PT1H
BEGIN:VTIMEZONE
TZID:America/Los_Angeles
BEGIN:DAYLIGHT
TZOFFSETFROM:-0800
TZOFFSETTO:-0700
TZNAME:PDT
DTSTART:20260308T100000
END:DAYLIGHT
BEGIN:STANDARD
TZOFFSETFROM:-0700
TZOFFSETTO:-0800
TZNAME:PST
DTSTART:20261101T090000
END:STANDARD
END:VTIMEZONE
BEGIN:VEVENT
DTSTART;TZID=America/Los_Angeles:20260414T100000
DTEND;TZID=America/Los_Angeles:20260414T110000
DTSTAMP:20260420T101145
CREATED:20260127T191724Z
LAST-MODIFIED:20260127T191809Z
UID:10009492-1776160800-1776164400@news.csun.edu
SUMMARY:Kaiser Permanente 2026 Medicare Workshop
DESCRIPTION:  \n  \nKaiser Permanente 2026 Medicare Workshops\n  \nNearing Retirement? Turning 65? \nJoin us for an informative and easy-to-follow webinar with live Q&A at end. \nLearn More \nHow Medicare works: Parts A\, B\, C\, and D\nHow to know if you are eligible\nWhen to enroll in Medicare or switch plans\nHow your coverage can change when you retire\nWhat to do if you plan to keep working after age 65 \nWorkshop Dates \nJanuary 13\, 2026 – 9:00 a.m.\nFebruary 10\, 2026 – 2:00 p.m.\nMarch 10\, 2026 – 5:00 p.m.\nApril 14\, 2026 – 10:00 a.m.\nMay 12\, 2026 – 12:00 p.m.\nJune 9\, 2026 – 5:00 p.m.\nJuly 14\, 2026 – 9:00 a.m.\nAugust 11\, 2026 – 9:00 a.m.\nSeptember 8\, 2026 – 5:00 p.m.\nSeptember 15\, 2026 – 12:00 p.m.\nOctober 13\, 2026 – 9:00 a.m.\nNovember 10\, 2026 – 12:00 p.m.\nDecember 8\, 2026 – 4:00 p.m. \nOpen to all employees\, regardless of health plan. \nLink to Register: https://webinars.on24.com/Medicare/KPCalPERS2026 \n 
URL:https://news.csun.edu/event/kaiser-permanente-2026-medicare-workshop-2/2026-04-14/
CATEGORIES:Benefits,Human Resources,Personal Development,Workshops
ATTACH;FMTTYPE=image/png:https://news.csun.edu/wp-content/uploads/2026/01/Kaiser.png
END:VEVENT
END:VCALENDAR