BEGIN:VCALENDAR
VERSION:2.0
PRODID:-//CSUN News &amp; Events - ECPv6.11.2//NONSGML v1.0//EN
CALSCALE:GREGORIAN
METHOD:PUBLISH
X-WR-CALNAME:CSUN News &amp; Events
X-ORIGINAL-URL:https://news.csun.edu
X-WR-CALDESC:Events for CSUN News &amp; Events
REFRESH-INTERVAL;VALUE=DURATION:PT1H
X-Robots-Tag:noindex
X-PUBLISHED-TTL:PT1H
BEGIN:VTIMEZONE
TZID:America/Los_Angeles
BEGIN:DAYLIGHT
TZOFFSETFROM:-0800
TZOFFSETTO:-0700
TZNAME:PDT
DTSTART:20260308T100000
END:DAYLIGHT
BEGIN:STANDARD
TZOFFSETFROM:-0700
TZOFFSETTO:-0800
TZNAME:PST
DTSTART:20261101T090000
END:STANDARD
END:VTIMEZONE
BEGIN:VEVENT
DTSTART;TZID=America/Los_Angeles:20261208T160000
DTEND;TZID=America/Los_Angeles:20261208T170000
DTSTAMP:20260425T164242
CREATED:20260127T191724Z
LAST-MODIFIED:20260127T191809Z
UID:10009501-1796745600-1796749200@news.csun.edu
SUMMARY:Kaiser Permanente 2026 Medicare Workshop
DESCRIPTION:  \n  \nKaiser Permanente 2026 Medicare Workshops\n  \nNearing Retirement? Turning 65? \nJoin us for an informative and easy-to-follow webinar with live Q&A at end. \nLearn More \nHow Medicare works: Parts A\, B\, C\, and D\nHow to know if you are eligible\nWhen to enroll in Medicare or switch plans\nHow your coverage can change when you retire\nWhat to do if you plan to keep working after age 65 \nWorkshop Dates \nJanuary 13\, 2026 – 9:00 a.m.\nFebruary 10\, 2026 – 2:00 p.m.\nMarch 10\, 2026 – 5:00 p.m.\nApril 14\, 2026 – 10:00 a.m.\nMay 12\, 2026 – 12:00 p.m.\nJune 9\, 2026 – 5:00 p.m.\nJuly 14\, 2026 – 9:00 a.m.\nAugust 11\, 2026 – 9:00 a.m.\nSeptember 8\, 2026 – 5:00 p.m.\nSeptember 15\, 2026 – 12:00 p.m.\nOctober 13\, 2026 – 9:00 a.m.\nNovember 10\, 2026 – 12:00 p.m.\nDecember 8\, 2026 – 4:00 p.m. \nOpen to all employees\, regardless of health plan. \nLink to Register: https://webinars.on24.com/Medicare/KPCalPERS2026 \n 
URL:https://news.csun.edu/event/kaiser-permanente-2026-medicare-workshop-2/2026-12-08/
CATEGORIES:Benefits,Human Resources,Personal Development,Workshops
ATTACH;FMTTYPE=image/png:https://news.csun.edu/wp-content/uploads/2026/01/Kaiser.png
END:VEVENT
BEGIN:VEVENT
DTSTART;TZID=America/Los_Angeles:20261210T120000
DTEND;TZID=America/Los_Angeles:20261210T130000
DTSTAMP:20260425T164242
CREATED:20260112T211138Z
LAST-MODIFIED:20260112T211138Z
UID:10009699-1796904000-1796907600@news.csun.edu
SUMMARY:Fidelity Financial Webinar | Saving Strategies for Minimizing Taxes
DESCRIPTION:Location:\nOnline \n\nDescription:\n\n\n\n\nComing SOON\n\n\n\n\nFacilitator:\nFidelity Financial Services Representative \n\nReserve Your Space (Coming SOON) \n\n\n\n\n\n\n\n\nCan’t make it to an event? \n\nCall 877-CSU-3699 (877-278-3699) or visit www.fidelity.com/schedule to schedule a one-on-one consultation with a registered Fidelity representative.\nVisit the Fidelity Webcast Hub for practical conversations to help you live well financially\, today and tomorrow.
URL:https://news.csun.edu/event/fidelity-financial-webinar-saving-strategies-for-minimizing-taxes/
CATEGORIES:Benefits,Human Resources,Personal Development,Workshops
END:VEVENT
BEGIN:VEVENT
DTSTART;TZID=America/Los_Angeles:20261217T120000
DTEND;TZID=America/Los_Angeles:20261217T130000
DTSTAMP:20260425T164242
CREATED:20260109T185826Z
LAST-MODIFIED:20260123T001710Z
UID:10009688-1797508800-1797512400@news.csun.edu
SUMMARY:2026 Kaiser Permanente Thrive Thursday Webinar Series | Why Sleep Matters
DESCRIPTION:New research is helping us understand the connection between quality sleep and overall health and well-being.  In today’s webinar\, you will learn simple and effective tools to improve your ability to rest\, relax\, and sleep.  You will be invited to create a realistic action plan\, using your personal strengths to improve overall sleep. \nPresented by Kaiser Permanente in partnership with CSUN Benefits Administration. You do not need to be a Kaiser Permanente member to participate in this program. \n  \nJoin Us\, Register Here: \n2026 Kaiser Permanente Thrive Thursday Webinar Series
URL:https://news.csun.edu/event/2026-kaiser-permanente-thrive-thursday-webinar-series-why-sleep-matters/
CATEGORIES:Benefits,Health and Wellness,Human Resources,Personal Development,Workshops
ATTACH;FMTTYPE=image/png:https://news.csun.edu/wp-content/uploads/2026/01/Kaiser.png
END:VEVENT
END:VCALENDAR