BEGIN:VCALENDAR
VERSION:2.0
PRODID:-//CSUN News &amp; Events - ECPv6.11.2//NONSGML v1.0//EN
CALSCALE:GREGORIAN
METHOD:PUBLISH
X-WR-CALNAME:CSUN News &amp; Events
X-ORIGINAL-URL:https://news.csun.edu
X-WR-CALDESC:Events for CSUN News &amp; Events
REFRESH-INTERVAL;VALUE=DURATION:PT1H
X-Robots-Tag:noindex
X-PUBLISHED-TTL:PT1H
BEGIN:VTIMEZONE
TZID:America/Los_Angeles
BEGIN:DAYLIGHT
TZOFFSETFROM:-0800
TZOFFSETTO:-0700
TZNAME:PDT
DTSTART:20250309T100000
END:DAYLIGHT
BEGIN:STANDARD
TZOFFSETFROM:-0700
TZOFFSETTO:-0800
TZNAME:PST
DTSTART:20251102T090000
END:STANDARD
END:VTIMEZONE
BEGIN:VEVENT
DTSTART;TZID=America/Los_Angeles:20250521T110000
DTEND;TZID=America/Los_Angeles:20250521T120000
DTSTAMP:20260423T084543
CREATED:20250415T211007Z
LAST-MODIFIED:20250415T211312Z
UID:10005343-1747825200-1747828800@news.csun.edu
SUMMARY:Sustainable Living - Summer & Home Edition | CSU CCC
DESCRIPTION:Location: Online via Zoom; Connection details provided upon registration\n\nDescription:\nJoin us for an engaging and informative session on sustainable living\, tailored specifically for the summer season and home environment. This one-hour training will provide practical tips and strategies to help you reduce your environmental footprint\, save money\, and create a healthier living space. \nCourse Objectives:\n\nUnderstand the principles of sustainable living and their importance.\nLearn practical ways to conserve energy and water during the summer.\nDiscover eco-friendly home maintenance and gardening practices.\nExplore sustainable food choices and waste reduction techniques.\nGain insights into creating a comfortable and eco-conscious home environment.\n\nKey Topics:\n\nEnergy Efficiency: Tips for reducing energy consumption\, including cooling strategies and the use of energy-efficient appliances.\nWater Conservation: Techniques for minimizing water usage\, such as rainwater harvesting and efficient irrigation systems.\nEco-Friendly Home Maintenance: Sustainable cleaning products\, DIY home repairs\, and maintenance tips.\nSustainable Gardening: Organic gardening practices\, composting\, and creating a wildlife-friendly garden.\nGreen Living Tips: Simple lifestyle changes to reduce waste\, including recycling\, upcycling\, and mindful consumption.\n\nWho Should Attend:\nThis course is ideal for homeowners\, renters\, and anyone interested in adopting a more sustainable lifestyle. Whether you’re new to the concept of sustainable living or looking to enhance your existing practices\, this session will provide valuable insights and actionable steps. \nMaterials Provided:\n\nDigital handouts with tips and resources\nA checklist for sustainable home practices\n\nInstructor:\nOur experienced instructor is a sustainability expert with a passion for helping individuals and families live more eco-friendly lives. Juliana brings a wealth of knowledge and practical experience to the session\, ensuring you leave with the tools and confidence to make positive changes. \nFacilitated by:\n Juliana B Goodlaw-Morris  \nRegistration:\nCSUN Faculty & Staff – To register for this Workshop/Session: \n\nWhen ready\, select the CSU Learn button below.\nLog into CSU Learn with your CSUN Portal credentials.\nSelect the “Register” button.\nClick on the bullet next to the CSUN HR icon\, and select “Submit” to enroll in this session.\n\nCSU Learn\n \nIf a reasonable accommodation is needed\, please contact L&D@ calstate.edu in advance (minimum of 72 hours is requested) and we will connect you with the workshop facilitator.. \nWithdraw from Session: If you need to cancel your registration\, select the “Self” icon in CSU Learn.  Select “Learning\,” then “Registrations.”  Select the box next to the session you need to cancel\, and select “Cancel Registration.”  In the next window\, select “Confirm Cancellation.” \n\nThis session is offered by California State University\, San Marcos in a Professional & Personal Development Cross Campus Collaboration program.  Colleagues attending this session may hail from the Chancellor’s Office\, Bakersfield\, Channel Islands\, Chico\, East Bay\, Fresno\, Fullerton\, Humboldt\, Long Beach\, Monterey Bay\,  Pomona\, Sacramento\, San Bernardino\, San Diego\, San Francisco\, San Luis Obispo\, San Marcos\, Sonoma\, and Stanislaus. \nReturn to CSUN’s Professional & Personal Development Training Calendar at: http://www.csun.edu/development/training. \nTo view a complete accessible listing of Fall 2024 programming\, select the image below.
URL:https://news.csun.edu/event/sustainable-living-csu-ccc20250521/
LOCATION:Online via Zoom; Connection details provided upon registration
CATEGORIES:Human Resources,Personal Development,Workshops
ATTACH;FMTTYPE=image/png:https://news.csun.edu/wp-content/uploads/2024/10/CCC_2024Spring.png
END:VEVENT
BEGIN:VEVENT
DTSTART;TZID=America/Los_Angeles:20250521T120000
DTEND;TZID=America/Los_Angeles:20250521T130000
DTSTAMP:20260423T084543
CREATED:20250414T210851Z
LAST-MODIFIED:20250414T210851Z
UID:10006206-1747828800-1747832400@news.csun.edu
SUMMARY:CSU Ask Fidelity: Get to Know Your Retirement Plan (Get Started and Save for the Future You)
DESCRIPTION:Location: Online \nJoin us for an upcoming virtual Ask Fidelity Session where your local Fidelity planner will share important updates related to your workplace savings plan and provide you with resources to stay on track to meet your financial goals. \nEveryone needs a path to financial wellness\, and it can start with your workplace savings plan. Learn about the investment options and how to contribute so you start saving for your future. \nRegister Here \n 
URL:https://news.csun.edu/event/ask-fidelity-get-to-know-your-retirement-plan20250521/
CATEGORIES:Benefits,Human Resources,Personal Development,Workshops
END:VEVENT
END:VCALENDAR