BEGIN:VCALENDAR
VERSION:2.0
PRODID:-//CSUN News &amp; Events - ECPv6.11.2//NONSGML v1.0//EN
CALSCALE:GREGORIAN
METHOD:PUBLISH
X-WR-CALNAME:CSUN News &amp; Events
X-ORIGINAL-URL:https://news.csun.edu
X-WR-CALDESC:Events for CSUN News &amp; Events
REFRESH-INTERVAL;VALUE=DURATION:PT1H
X-Robots-Tag:noindex
X-PUBLISHED-TTL:PT1H
BEGIN:VTIMEZONE
TZID:America/Los_Angeles
BEGIN:DAYLIGHT
TZOFFSETFROM:-0800
TZOFFSETTO:-0700
TZNAME:PDT
DTSTART:20260308T100000
END:DAYLIGHT
BEGIN:STANDARD
TZOFFSETFROM:-0700
TZOFFSETTO:-0800
TZNAME:PST
DTSTART:20261101T090000
END:STANDARD
END:VTIMEZONE
BEGIN:VEVENT
DTSTART;TZID=America/Los_Angeles:20260406T150000
DTEND;TZID=America/Los_Angeles:20260406T160000
DTSTAMP:20260421T072705
CREATED:20260203T045005Z
LAST-MODIFIED:20260206T215146Z
UID:10010388-1775487600-1775491200@news.csun.edu
SUMMARY:Workshop 9:  Senior Year Planning: What to Expect & Prepare for
DESCRIPTION:Join us for a series of workshops on research\, career prep\, and grad school guidance\, designed to help STEM transfer students thrive\, and open to all CSUN students! \nBadge workshops will be offered in-person (Monday’s\, Wednesday’s) and via Zoom (Friday)  in Spring 2026\n\n\nMonday’s: 3-4PM –  Bookstein Hall (BB) #1240\nWednesday’s: 12-1PM – Bookstein Hall (BB) #1238\n\n\nMonday\, April 6\, 3:00–4:00 PM [In-person] \nWednesday\, April 8\, 12:00–1:00 PM [In-person] \nThursday\, April 9\, 4:00–5:00 PM [Zoom] \nIf you choose the virtual option\, you will be provided with instructions on how to access the Zoom workshop after you have RSVP-ed for a workshop. \nRSVP: https://tinyurl.com/n8rbr23z
URL:https://news.csun.edu/event/workshop-9-senior-year-planning-what-to-expect-prepare-for/2026-04-06/
LOCATION:Bookstein Hall (BB) #1240\, 18111 Nordhoff St\, Northridge\, 91330\, United States
CATEGORIES:HERE Center
ATTACH;FMTTYPE=image/png:https://news.csun.edu/wp-content/uploads/2026/02/Spring-2026-Badge-Project-Workshop-Flyer-scaled.png
ORGANIZER;CN="START":MAILTO:start.office@csun.edu
END:VEVENT
END:VCALENDAR