BEGIN:VCALENDAR
VERSION:2.0
PRODID:-//CSUN News &amp; Events - ECPv6.11.2//NONSGML v1.0//EN
CALSCALE:GREGORIAN
METHOD:PUBLISH
X-WR-CALNAME:CSUN News &amp; Events
X-ORIGINAL-URL:https://news.csun.edu
X-WR-CALDESC:Events for CSUN News &amp; Events
REFRESH-INTERVAL;VALUE=DURATION:PT1H
X-Robots-Tag:noindex
X-PUBLISHED-TTL:PT1H
BEGIN:VTIMEZONE
TZID:America/Los_Angeles
BEGIN:DAYLIGHT
TZOFFSETFROM:-0800
TZOFFSETTO:-0700
TZNAME:PDT
DTSTART:20260308T100000
END:DAYLIGHT
BEGIN:STANDARD
TZOFFSETFROM:-0700
TZOFFSETTO:-0800
TZNAME:PST
DTSTART:20261101T090000
END:STANDARD
END:VTIMEZONE
BEGIN:VEVENT
DTSTART;TZID=America/Los_Angeles:20260504T143000
DTEND;TZID=America/Los_Angeles:20260504T163000
DTSTAMP:20260419T091838
CREATED:20260314T031932Z
LAST-MODIFIED:20260314T032342Z
UID:10010950-1777905000-1777912200@news.csun.edu
SUMMARY:Lei Making with Dr. Kalani Heinz
DESCRIPTION:Join us learn how to make a Lei with Dr. Kalani Heinz before graduation!
URL:https://news.csun.edu/event/lei-making-with-dr-kalani-heinz/
LOCATION:CSUN G.A.R.D.E.N\, 9601 Zelzah Ave\, Northridge\, Northridge\, 91325\, United States
CATEGORIES:HERE Center
ATTACH;FMTTYPE=image/png:https://news.csun.edu/wp-content/uploads/2026/03/CLK-Save-the-date-Sp2026.png
ORGANIZER;CN="Cultivating Local Knowledge":MAILTO:clk@csun.edu
END:VEVENT
END:VCALENDAR