BEGIN:VCALENDAR
VERSION:2.0
PRODID:-//CSUN News &amp; Events - ECPv6.11.2//NONSGML v1.0//EN
CALSCALE:GREGORIAN
METHOD:PUBLISH
X-WR-CALNAME:CSUN News &amp; Events
X-ORIGINAL-URL:https://news.csun.edu
X-WR-CALDESC:Events for CSUN News &amp; Events
REFRESH-INTERVAL;VALUE=DURATION:PT1H
X-Robots-Tag:noindex
X-PUBLISHED-TTL:PT1H
BEGIN:VTIMEZONE
TZID:America/Los_Angeles
BEGIN:DAYLIGHT
TZOFFSETFROM:-0800
TZOFFSETTO:-0700
TZNAME:PDT
DTSTART:20240310T100000
END:DAYLIGHT
BEGIN:STANDARD
TZOFFSETFROM:-0700
TZOFFSETTO:-0800
TZNAME:PST
DTSTART:20241103T090000
END:STANDARD
END:VTIMEZONE
BEGIN:VEVENT
DTSTART;TZID=America/Los_Angeles:20241009T110000
DTEND;TZID=America/Los_Angeles:20241009T111500
DTSTAMP:20260419T174417
CREATED:20240919T222012Z
LAST-MODIFIED:20240920T235756Z
UID:10003037-1728471600-1728472500@news.csun.edu
SUMMARY:CalPERS Webinar | When You Change Retirement Systems
DESCRIPTION:Location: Online\n\nFacilitated by:\nCalPERS Staff \nDescription:\nDuring your career\, you may move between California public retirement systems and begin to wonder how you might link your various employers to impact your CalPERS pension. In this video\, you’ll discover the advantages of establishing reciprocity; which allows you to move from one retirement system to another without losing your benefits. CalPERS’ reciprocal agreement with other retirement systems can allow you to coordinate your benefits between the two systems when you retire. \nRegister Here \nNote: Registration closes at midnight the evening before the webcast airs.
URL:https://news.csun.edu/event/calpers-webinar-when-you-change-retirement-systems/
CATEGORIES:Benefits,Health and Wellness,Personal Development,Workshops
END:VEVENT
BEGIN:VEVENT
DTSTART;TZID=America/Los_Angeles:20241017T120000
DTEND;TZID=America/Los_Angeles:20241017T130000
DTSTAMP:20260419T174417
CREATED:20240819T001047Z
LAST-MODIFIED:20240920T194106Z
UID:10003022-1729166400-1729170000@news.csun.edu
SUMMARY:2024 Thrive Thursday Webinar Series | Women's Health
DESCRIPTION:Preventative care includes simple but important choices every woman can make for herself and her family to live a longer and healthier life. In today’s webinar\, you will explore preventative steps that women can take to enjoy good health. Risk factors and screening recommendations specific to women will be reviewed. You will be invited to create a realistic action plan that will help you take positive steps towards taking control of your health. \nPresented by Kaiser Permanente in partnership with CSUN Benefits Administration. You do not need to be a Kaiser Permanente member to participate in this program. \n  \nJoin Us\, Register Here: \nYou can view a pdf of the image below here.
URL:https://news.csun.edu/event/thrive-thursday-womens-health20241017/
CATEGORIES:Benefits,Health and Wellness,Human Resources,Personal Development,Workshops
END:VEVENT
END:VCALENDAR