BEGIN:VCALENDAR
VERSION:2.0
PRODID:-//CSUN News &amp; Events - ECPv6.11.2//NONSGML v1.0//EN
CALSCALE:GREGORIAN
METHOD:PUBLISH
X-WR-CALNAME:CSUN News &amp; Events
X-ORIGINAL-URL:https://news.csun.edu
X-WR-CALDESC:Events for CSUN News &amp; Events
REFRESH-INTERVAL;VALUE=DURATION:PT1H
X-Robots-Tag:noindex
X-PUBLISHED-TTL:PT1H
BEGIN:VTIMEZONE
TZID:America/Los_Angeles
BEGIN:DAYLIGHT
TZOFFSETFROM:-0800
TZOFFSETTO:-0700
TZNAME:PDT
DTSTART:20250309T100000
END:DAYLIGHT
BEGIN:STANDARD
TZOFFSETFROM:-0700
TZOFFSETTO:-0800
TZNAME:PST
DTSTART:20251102T090000
END:STANDARD
END:VTIMEZONE
BEGIN:VEVENT
DTSTART;TZID=America/Los_Angeles:20251008T143000
DTEND;TZID=America/Los_Angeles:20251008T153000
DTSTAMP:20260423T102405
CREATED:20251003T235845Z
LAST-MODIFIED:20251005T192011Z
UID:10008754-1759933800-1759937400@news.csun.edu
SUMMARY:Financial Literacy Workshop: What You Should Know About Student Loans
DESCRIPTION:Learn about interest rates\, different types of student loans\, loan limits\, repayment plan options\, how to estimate monthly payments\, how to avoid loan default\, and what to do if you have trouble making payments.  \nThis workshop is approximately 1 hour\, online via Zoom. \nRegister for Workshop \nRequests for accommodation services (e.g.\, sign language interpreters or transcribers) must be made at least five (5) business days in advance. Please contact Kathryn Vanegas at kathryn.vanegas@csun.edu to request accommodations. \nNote: This workshop does not substitute for the federally mandated Loan Entrance/Exit Counseling requirements. 
URL:https://news.csun.edu/event/financial-literacy-student-loans/
LOCATION:Online via Zoom
CATEGORIES:Financial Aid and Scholarships
ORGANIZER;CN="Financial Aid &Scholarships":MAILTO:financial.aid@csun.edu
END:VEVENT
END:VCALENDAR