BEGIN:VCALENDAR
VERSION:2.0
PRODID:-//CSUN News &amp; Events - ECPv6.11.2//NONSGML v1.0//EN
CALSCALE:GREGORIAN
METHOD:PUBLISH
X-ORIGINAL-URL:https://news.csun.edu
X-WR-CALDESC:Events for CSUN News &amp; Events
REFRESH-INTERVAL;VALUE=DURATION:PT1H
X-Robots-Tag:noindex
X-PUBLISHED-TTL:PT1H
BEGIN:VTIMEZONE
TZID:America/Los_Angeles
BEGIN:DAYLIGHT
TZOFFSETFROM:-0800
TZOFFSETTO:-0700
TZNAME:PDT
DTSTART:20260308T100000
END:DAYLIGHT
BEGIN:STANDARD
TZOFFSETFROM:-0700
TZOFFSETTO:-0800
TZNAME:PST
DTSTART:20261101T090000
END:STANDARD
END:VTIMEZONE
BEGIN:VEVENT
DTSTART;TZID=America/Los_Angeles:20261009T093000
DTEND;TZID=America/Los_Angeles:20261009T110000
DTSTAMP:20260425T043706
CREATED:20251126T212309Z
LAST-MODIFIED:20251126T212309Z
UID:10009319-1791538200-1791543600@news.csun.edu
SUMMARY:El Poder del Amor y la Paciencia
DESCRIPTION:Un grupo de apoyo para padres con hijos con necesidades especiales en español. \nLas reuniones son presenciales el segundo viernes de cada mes de 9:30 am a 11:00am.\nDirección: Community Resource Center LA Care 7868 Van Nuys Blvd. Panorama City\, CA 91402 \nPara registrarse llame o envíe un correo electrónico a Rebeca a: (818) 677-6854 o rebeca.diaz@csun.edu \nReuniones en-persona: \n\n\n\n23 de enero\n13 de febrero\n13 de marzo\n10 de abril\n8 de mayo\n12 de junio\njulio – no hay reunión\n14 de agosto\n11 de septiembre\n9 de octubre\n13 de noviembre\n11 de diciembre
URL:https://news.csun.edu/event/el-poder-del-amor-y-la-paciencia/2026-10-09/
LOCATION:Community Resource Center LA Care\, 7868 Van Nuys Blvd.  \, Panorama City\, 91402\, United States
CATEGORIES:Family Focus Resource Center,Family Focus Resource Center Parent Support Groups
ATTACH;FMTTYPE=image/png:https://news.csun.edu/wp-content/uploads/2025/11/2026-El-Poder-del-Amor-y-la-Paciencia-Banner-1.png
END:VEVENT
BEGIN:VEVENT
DTSTART;TZID=America/Los_Angeles:20261016T183000
DTEND;TZID=America/Los_Angeles:20261016T200000
DTSTAMP:20260425T043706
CREATED:20251126T213622Z
LAST-MODIFIED:20251126T213622Z
UID:10009329-1792175400-1792180800@news.csun.edu
SUMMARY:Grupo de Apoyo: Cultivar y Crecer
DESCRIPTION:Bienvenidos a  nuestro grupo de apoyo Cultivar y Crecer!\nNos reunimos a las 6:30 PM por Zoom\, y ocasionalmente nos reunimos en persona. Revise el calendario 2026 para ver fechas exactas. Este grupo es en colaboración con la Asociación de Síndrome de Down por sus siglas en inglés DSALA. \nPara mas información llámenos o mande un correo electrónico\n818-374-9107  o 818-7860001 maria.castaneda@csun.edu  o sandra@dsala.org \nEnlace para reunion- NO NECESITA REGISTRACION\nhttps://csun.zoom.us/j/88331801159?pwd=cnJQUkZJZHQwQVZXWGltM1ZuazhBZz09. \nMeeting ID: 883 3180 1159\nPasscode: 848875 \nCultivar y Crecer 2026 reuniones son por zoom y en persona de 6:30 PM -8:00PM : 23 de Enero\, 13 de Febrero\, 13 de Marzo (En persona)\, 3 de Abril\, 15 de Mayo (En persona)\, 19 de Junio\, Julio – no habrá reunión\, Agosto – no habrá reunión\, 18 de Septiembre (En persona)\, 16 de Octubre\, 20 de Noviembre (En persona)\, Diciembre – será anunciado
URL:https://news.csun.edu/event/grupo-de-apoyo-cultivar-y-crecer-7/2026-10-16/
LOCATION:Online via Zoom
CATEGORIES:Family Focus Resource Center,Family Focus Resource Center Parent Support Groups
ATTACH;FMTTYPE=image/png:https://news.csun.edu/wp-content/uploads/2025/11/1000-x-533-px-2026-Cultivar-y-Crecer.png
END:VEVENT
BEGIN:VEVENT
DTSTART;TZID=America/Los_Angeles:20261021T183000
DTEND;TZID=America/Los_Angeles:20261021T193000
DTSTAMP:20260425T043706
CREATED:20251126T205430Z
LAST-MODIFIED:20251126T205430Z
UID:10009294-1792607400-1792611000@news.csun.edu
SUMMARY:Parents of Adult Consumers
DESCRIPTION:Join us for a monthly support group created specifically for parents and caregivers of adult North Los Angeles County Regional Center consumers. This group offers a space to share experiences\, ask questions\, and connect with others on a similar journey. \n\nMeetings take place on the 3rd Wednesday of each month.\nTo register\, please contact Victoria at victoria.berrey@csun.edu. \nMeeting Time: 6:30PM\nMeeting Dates: \n\n\n\n\nJanuary 21\nFebruary 18\nMarch 18\nApril 15\nMay 20\nJune 17\nJuly – no meeting\nAugust 19\nSeptember 16\nOctober 21\nNovember 18\nDecember- no meeting
URL:https://news.csun.edu/event/parents-of-adult-consumers-3/2026-10-21/
LOCATION:Online via Zoom
CATEGORIES:Family Focus Resource Center,Family Focus Resource Center Parent Support Groups
ATTACH;FMTTYPE=image/png:https://news.csun.edu/wp-content/uploads/2025/11/2026-Parents-of-Adult-Consumers-1000x533-1.png
END:VEVENT
BEGIN:VEVENT
DTSTART;TZID=America/Los_Angeles:20261023T100000
DTEND;TZID=America/Los_Angeles:20261023T110000
DTSTAMP:20260425T043706
CREATED:20251126T211349Z
LAST-MODIFIED:20251126T211349Z
UID:10009310-1792749600-1792753200@news.csun.edu
SUMMARY:Aprendiendo Juntos
DESCRIPTION:Únase a nuestro grupo de apoyo virtual en español para padres de hijos con necesidades especiales. Conéctese con otras familias\, comparta experiencias y reciba información útil en un espacio de apoyo y comprensión.\nPara registrarse\, llame al (818) 677-6854 o envíe un correo a rebeca.diaz@csun.edu \nHora: 10:00 a.m. – 11:00 a.m.Fechas de reunión por Zoom:\n \n\n\n\n9 de enero\n27 de febrero\n27 de marzo\n24 de abril\n22 de mayo\n26 de junio\nNo hay reunión en julio\n28 de agosto\n25 de septiembre\n23 de octubre
URL:https://news.csun.edu/event/aprendiendo-juntos-3/2026-10-23/
LOCATION:Online via Zoom
CATEGORIES:Family Focus Resource Center,Family Focus Resource Center Parent Support Groups
ATTACH;FMTTYPE=image/png:https://news.csun.edu/wp-content/uploads/2025/11/Aprendiendo-Juntos-2026-Banner-1.png
END:VEVENT
BEGIN:VEVENT
DTSTART;TZID=America/Los_Angeles:20261113T093000
DTEND;TZID=America/Los_Angeles:20261113T110000
DTSTAMP:20260425T043706
CREATED:20251126T212309Z
LAST-MODIFIED:20251126T212309Z
UID:10009320-1794562200-1794567600@news.csun.edu
SUMMARY:El Poder del Amor y la Paciencia
DESCRIPTION:Un grupo de apoyo para padres con hijos con necesidades especiales en español. \nLas reuniones son presenciales el segundo viernes de cada mes de 9:30 am a 11:00am.\nDirección: Community Resource Center LA Care 7868 Van Nuys Blvd. Panorama City\, CA 91402 \nPara registrarse llame o envíe un correo electrónico a Rebeca a: (818) 677-6854 o rebeca.diaz@csun.edu \nReuniones en-persona: \n\n\n\n23 de enero\n13 de febrero\n13 de marzo\n10 de abril\n8 de mayo\n12 de junio\njulio – no hay reunión\n14 de agosto\n11 de septiembre\n9 de octubre\n13 de noviembre\n11 de diciembre
URL:https://news.csun.edu/event/el-poder-del-amor-y-la-paciencia/2026-11-13/
LOCATION:Community Resource Center LA Care\, 7868 Van Nuys Blvd.  \, Panorama City\, 91402\, United States
CATEGORIES:Family Focus Resource Center,Family Focus Resource Center Parent Support Groups
ATTACH;FMTTYPE=image/png:https://news.csun.edu/wp-content/uploads/2025/11/2026-El-Poder-del-Amor-y-la-Paciencia-Banner-1.png
END:VEVENT
BEGIN:VEVENT
DTSTART;TZID=America/Los_Angeles:20261118T183000
DTEND;TZID=America/Los_Angeles:20261118T193000
DTSTAMP:20260425T043706
CREATED:20251126T205430Z
LAST-MODIFIED:20251126T205430Z
UID:10009295-1795026600-1795030200@news.csun.edu
SUMMARY:Parents of Adult Consumers
DESCRIPTION:Join us for a monthly support group created specifically for parents and caregivers of adult North Los Angeles County Regional Center consumers. This group offers a space to share experiences\, ask questions\, and connect with others on a similar journey. \n\nMeetings take place on the 3rd Wednesday of each month.\nTo register\, please contact Victoria at victoria.berrey@csun.edu. \nMeeting Time: 6:30PM\nMeeting Dates: \n\n\n\n\nJanuary 21\nFebruary 18\nMarch 18\nApril 15\nMay 20\nJune 17\nJuly – no meeting\nAugust 19\nSeptember 16\nOctober 21\nNovember 18\nDecember- no meeting
URL:https://news.csun.edu/event/parents-of-adult-consumers-3/2026-11-18/
LOCATION:Online via Zoom
CATEGORIES:Family Focus Resource Center,Family Focus Resource Center Parent Support Groups
ATTACH;FMTTYPE=image/png:https://news.csun.edu/wp-content/uploads/2025/11/2026-Parents-of-Adult-Consumers-1000x533-1.png
END:VEVENT
BEGIN:VEVENT
DTSTART;TZID=America/Los_Angeles:20261120T183000
DTEND;TZID=America/Los_Angeles:20261120T200000
DTSTAMP:20260425T043706
CREATED:20251126T213622Z
LAST-MODIFIED:20251126T213622Z
UID:10009330-1795199400-1795204800@news.csun.edu
SUMMARY:Grupo de Apoyo: Cultivar y Crecer
DESCRIPTION:Bienvenidos a  nuestro grupo de apoyo Cultivar y Crecer!\nNos reunimos a las 6:30 PM por Zoom\, y ocasionalmente nos reunimos en persona. Revise el calendario 2026 para ver fechas exactas. Este grupo es en colaboración con la Asociación de Síndrome de Down por sus siglas en inglés DSALA. \nPara mas información llámenos o mande un correo electrónico\n818-374-9107  o 818-7860001 maria.castaneda@csun.edu  o sandra@dsala.org \nEnlace para reunion- NO NECESITA REGISTRACION\nhttps://csun.zoom.us/j/88331801159?pwd=cnJQUkZJZHQwQVZXWGltM1ZuazhBZz09. \nMeeting ID: 883 3180 1159\nPasscode: 848875 \nCultivar y Crecer 2026 reuniones son por zoom y en persona de 6:30 PM -8:00PM : 23 de Enero\, 13 de Febrero\, 13 de Marzo (En persona)\, 3 de Abril\, 15 de Mayo (En persona)\, 19 de Junio\, Julio – no habrá reunión\, Agosto – no habrá reunión\, 18 de Septiembre (En persona)\, 16 de Octubre\, 20 de Noviembre (En persona)\, Diciembre – será anunciado
URL:https://news.csun.edu/event/grupo-de-apoyo-cultivar-y-crecer-7/2026-11-20/
LOCATION:Online via Zoom
CATEGORIES:Family Focus Resource Center,Family Focus Resource Center Parent Support Groups
ATTACH;FMTTYPE=image/png:https://news.csun.edu/wp-content/uploads/2025/11/1000-x-533-px-2026-Cultivar-y-Crecer.png
END:VEVENT
BEGIN:VEVENT
DTSTART;TZID=America/Los_Angeles:20261211T093000
DTEND;TZID=America/Los_Angeles:20261211T110000
DTSTAMP:20260425T043706
CREATED:20251126T212309Z
LAST-MODIFIED:20251126T212309Z
UID:10009321-1796981400-1796986800@news.csun.edu
SUMMARY:El Poder del Amor y la Paciencia
DESCRIPTION:Un grupo de apoyo para padres con hijos con necesidades especiales en español. \nLas reuniones son presenciales el segundo viernes de cada mes de 9:30 am a 11:00am.\nDirección: Community Resource Center LA Care 7868 Van Nuys Blvd. Panorama City\, CA 91402 \nPara registrarse llame o envíe un correo electrónico a Rebeca a: (818) 677-6854 o rebeca.diaz@csun.edu \nReuniones en-persona: \n\n\n\n23 de enero\n13 de febrero\n13 de marzo\n10 de abril\n8 de mayo\n12 de junio\njulio – no hay reunión\n14 de agosto\n11 de septiembre\n9 de octubre\n13 de noviembre\n11 de diciembre
URL:https://news.csun.edu/event/el-poder-del-amor-y-la-paciencia/2026-12-11/
LOCATION:Community Resource Center LA Care\, 7868 Van Nuys Blvd.  \, Panorama City\, 91402\, United States
CATEGORIES:Family Focus Resource Center,Family Focus Resource Center Parent Support Groups
ATTACH;FMTTYPE=image/png:https://news.csun.edu/wp-content/uploads/2025/11/2026-El-Poder-del-Amor-y-la-Paciencia-Banner-1.png
END:VEVENT
END:VCALENDAR