BEGIN:VCALENDAR
VERSION:2.0
PRODID:-//CSUN News &amp; Events - ECPv6.11.2//NONSGML v1.0//EN
CALSCALE:GREGORIAN
METHOD:PUBLISH
X-ORIGINAL-URL:https://news.csun.edu
X-WR-CALDESC:Events for CSUN News &amp; Events
REFRESH-INTERVAL;VALUE=DURATION:PT1H
X-Robots-Tag:noindex
X-PUBLISHED-TTL:PT1H
BEGIN:VTIMEZONE
TZID:America/Los_Angeles
BEGIN:DAYLIGHT
TZOFFSETFROM:-0800
TZOFFSETTO:-0700
TZNAME:PDT
DTSTART:20240310T100000
END:DAYLIGHT
BEGIN:STANDARD
TZOFFSETFROM:-0700
TZOFFSETTO:-0800
TZNAME:PST
DTSTART:20241103T090000
END:STANDARD
BEGIN:DAYLIGHT
TZOFFSETFROM:-0800
TZOFFSETTO:-0700
TZNAME:PDT
DTSTART:20250309T100000
END:DAYLIGHT
BEGIN:STANDARD
TZOFFSETFROM:-0700
TZOFFSETTO:-0800
TZNAME:PST
DTSTART:20251102T090000
END:STANDARD
END:VTIMEZONE
BEGIN:VEVENT
DTSTART;TZID=America/Los_Angeles:20251012T140000
DTEND;TZID=America/Los_Angeles:20251012T170000
DTSTAMP:20260423T133647
CREATED:20250827T175329Z
LAST-MODIFIED:20251002T164704Z
UID:10007810-1760277600-1760288400@news.csun.edu
SUMMARY:Empower Expo: Red Carpet Dance
DESCRIPTION:Date: Sunday\, October 12\, 2025Time: 2:00 p.m. – 5:00 p.m.Location: California State University\, Northridge (CSUN) – University Student Union (USU)Register here: https://forms.gle/cF7dnYBpigzWH7qT8 \nWalk the red carpet at this Hollywood-themed social event\, designed exclusively for NLACRC adult clients ages 18 and up. Guests will enjoy delicious food\, a live DJ\, a fun photo booth\, and time with friends in a lively\, movie-inspired atmosphere. Dress to impress and show off your best red-carpet style! \nFor questions\, contact: (818) 677-5575 or diana.chulak@csun.edu \n\nFecha: Domingo\, 12 de octubre de 2025Hora: 2:00 p.m. – 5:00 p.m.Lugar: Universidad Estatal de California\, Northridge (CSUN) – University Student Union (USU)Regístrese aquí: https://forms.gle/cF7dnYBpigzWH7qT8 \nPasee por la alfombra roja en este evento social con temática de Hollywood\, diseñado exclusivamente para clientes adultos (18 años en adelante) de NLACRC. Los invitados disfrutarán de deliciosa comida\, música con DJ en vivo\, una cabina de fotos divertida y tiempo con amigos en un ambiente animado e inspirado en el cine. ¡Vístase para impresionar y muestre su mejor estilo de alfombra roja! \nPara preguntas\, comuníquese al: (818) 677-5575 o diana.chulak@csun.edu
URL:https://news.csun.edu/event/empower-expo-red-carpet-social/
LOCATION:CSUN USU – Northridge Center\, 9346 E University Dr\,\, Northridge\, CA\, 91325\, United States
CATEGORIES:Family Focus Resource Center,Family Focus Resource Center Resource Fairs
ATTACH;FMTTYPE=image/png:https://news.csun.edu/wp-content/uploads/2025/08/Empower-Expo-Red-Carpet-Social-Banner-1.png
END:VEVENT
BEGIN:VEVENT
DTSTART;TZID=America/Los_Angeles:20251012T110000
DTEND;TZID=America/Los_Angeles:20251012T170000
DTSTAMP:20260423T133647
CREATED:20250827T172639Z
LAST-MODIFIED:20250827T172639Z
UID:10007809-1760266800-1760288400@news.csun.edu
SUMMARY:Empower Expo: Resources for Every Ability
DESCRIPTION:Empower Expo: Resources for Every AbilityDate & Time: Sunday\, October 12\, 2025\, at 11:00 a.m.Location: California State University\, Northridge (CSUN) – University Student Union (USU)\, 18111 Nordhoff Street\, Northridge\, CA 91330 \nJoin us for a free\, inclusive resource fair designed for individuals and families of all abilities. Explore a wide range of community resources\, attend informative workshops\, connect with local organizations\, and discover supports that empower every family. The Expo will also feature a dance for adults with disabilities and a showcase of micro-enterprises. \nAll registered attendees will receive free parking and a free meal at the event.\nRegister Here: https://forms.gle/JEB5xoo9V98SFtvS8 \nFor more information\, please call us at (818) 677-5575 or email diana.chulak@csun.edu. \n\nEmpower Expo: Recursos para Todas las HabilidadesFecha y Hora: Domingo\, 12 de octubre de 2025\, a las 11:00 a.m.Lugar: California State University\, Northridge (CSUN) – University Student Union (USU)\, 18111 Nordhoff Street\, Northridge\, CA 91330 \nAcompáñenos en esta feria de recursos gratuita e inclusiva\, diseñada para individuos y familias de todas las habilidades. Descubra una amplia variedad de recursos comunitarios\, participe en talleres informativos\, conéctese con organizaciones locales y explore apoyos que empoderan a cada familia. La feria también incluirá un baile para adultos con discapacidades y una muestra de microempresas. \nTodos los asistentes registrados recibirán estacionamiento gratuito y una comida gratuita durante el evento.\nRegístrese aquí: https://forms.gle/JEB5xoo9V98SFtvS8 \nPara más información\, llámenos al (818) 677-5575 o escriba a diana.chulak@csun.edu.
URL:https://news.csun.edu/event/empower-expo-resources-for-every-ability/
LOCATION:CSUN USU – Northridge Center\, 9346 E University Dr\,\, Northridge\, CA\, 91325\, United States
CATEGORIES:Family Focus Resource Center,Family Focus Resource Center Resource Fairs
ATTACH;FMTTYPE=image/png:https://news.csun.edu/wp-content/uploads/2025/08/Empower-Expo-Website-Banner.png
END:VEVENT
BEGIN:VEVENT
DTSTART;TZID=America/Los_Angeles:20250816T200000
DTEND;TZID=America/Los_Angeles:20250816T220000
DTSTAMP:20260423T133647
CREATED:20250717T192906Z
LAST-MODIFIED:20250717T192906Z
UID:10007141-1755374400-1755381600@news.csun.edu
SUMMARY:FFRC Community Night: AV ALTA FC
DESCRIPTION:Join us on Saturday\, August 16 for a special community night celebrating the incredible work of CSUN Family Focus Resource Center! As part of this theme night\, we’re offering $12 tickets exclusively for families\, friends\, and supporters of the center. \nCome enjoy an exciting night of professional soccer\, family fun\, and community spirit — all at an unbeatable price! \n\nKickoff: 8:00 PM\nLocation: Lancaster Municipal Stadium\nSpecial Offer: $12 tickets for all guests connected to CSUN FFRC\n\nLet’s pack the stands and show our support together! \nBuy tickets here: https://bit.ly/AVAltaTickets
URL:https://news.csun.edu/event/ffrc-community-night-av-alta-fc/
LOCATION:Lancaster Municipal Stadium\, 45116 Vly Central Wy\, Lancaster\, 93536\, United States
CATEGORIES:Family Focus Resource Center,Family Focus Resource Center Resource Fairs
ATTACH;FMTTYPE=image/png:https://news.csun.edu/wp-content/uploads/2025/07/Family-Focus-Resource-Center-Community-Night-Banner.png
END:VEVENT
BEGIN:VEVENT
DTSTART;TZID=America/Los_Angeles:20250315T110000
DTEND;TZID=America/Los_Angeles:20250315T140000
DTSTAMP:20260423T133647
CREATED:20250210T201511Z
LAST-MODIFIED:20250213T201559Z
UID:10005305-1742036400-1742047200@news.csun.edu
SUMMARY:All Abilities Resource Fair - Antelope Valley
DESCRIPTION:Join us for a day filled with resources\, vendors\, therapy dogs\, activities for the kids\, and fun! Free Admission & Parking \nFFRC’s Antelope Valley All Abilities Resource Fair is dedicated to creating an inclusive and welcoming environment where every family feels valued and supported. We believe in empowering individuals of all abilities and fostering a sense of community through education\, support\, and connection. Join us for a day of discovery\, learning\, and empowerment\, where every family can find the resources and services they need to thrive! \n\n\nFor more information please call us at (661) 945-9598 \n\n¡Únase a nosotros para un día lleno de recursos\, proveedores\, perros de terapia\, actividades para niños y diversión! Entrada y estacionamiento gratuitos.  \nLa Feria de Recursos para Todas las Habilidades del Valle del Antílope de FFRC está dedicada a crear un ambiente inclusivo y acogedor donde cada familia se sienta valorada y apoyada. Creemos en empoderar a personas de todas las habilidades y en fomentar un sentido de comunidad a través de la educación\, el apoyo y la conexión. Únase a nosotros para un día de descubrimiento\, aprendizaje y empoderamiento\, donde cada familia podrá encontrar los recursos y servicios que necesita para prosperar. \nPara más información\, llámenos al (661) 945-9598.
URL:https://news.csun.edu/event/all-abilities-resource-fair-antelope-valley/
LOCATION:FFRC AV AARF\, Steve Owen Memorial Park 43063 10th St W\, Lancaster\, 93534\, United States
CATEGORIES:Family Focus Resource Center,Family Focus Resource Center Resource Fairs
ATTACH;FMTTYPE=image/png:https://news.csun.edu/wp-content/uploads/2025/02/AARF-AV-Banner-1000-x-533.png
END:VEVENT
BEGIN:VEVENT
DTSTART;TZID=America/Los_Angeles:20241019T110000
DTEND;TZID=America/Los_Angeles:20241019T140000
DTSTAMP:20260423T133647
CREATED:20240603T204941Z
LAST-MODIFIED:20240711T192957Z
UID:10000277-1729335600-1729346400@news.csun.edu
SUMMARY:All Abilities Resource Fair
DESCRIPTION:Join us at our All Abilities Resource Fair on October 19th!\nAttendees do not need to register – just come!\nAt CSUN’s All Abilities Resource Fair\, we are dedicated to creating an inclusive and welcoming environment where every family feels valued and supported. Our fair provides a unique opportunity for families to come together\, access a wealth of disability resources\, and secure professional services all in one convenient location. We believe in empowering individuals of all abilities and fostering a sense of community through education\, support\, and connection. Join us for a day of discovery\, learning\, and empowerment\, where every family can find the resources and services they need to thrive. \nSponsorships are available now! Exhibitor registration will open on July 15\, 2024 and a limited number will be available so reserve your table early!
URL:https://news.csun.edu/event/all-abilities-resource-fair/
LOCATION:University Student Union
CATEGORIES:Family Focus Resource Center,Family Focus Resource Center Resource Fairs
ATTACH;FMTTYPE=image/png:https://news.csun.edu/wp-content/uploads/2024/06/1000-x-533-AARF-Banner-2.png
GEO:34.2399035651;-118.526777824
END:VEVENT
END:VCALENDAR