BEGIN:VCALENDAR
VERSION:2.0
PRODID:-//CSUN News &amp; Events - ECPv6.11.2//NONSGML v1.0//EN
CALSCALE:GREGORIAN
METHOD:PUBLISH
X-ORIGINAL-URL:https://news.csun.edu
X-WR-CALDESC:Events for CSUN News &amp; Events
REFRESH-INTERVAL;VALUE=DURATION:PT1H
X-Robots-Tag:noindex
X-PUBLISHED-TTL:PT1H
BEGIN:VTIMEZONE
TZID:America/Los_Angeles
BEGIN:DAYLIGHT
TZOFFSETFROM:-0800
TZOFFSETTO:-0700
TZNAME:PDT
DTSTART:20260308T100000
END:DAYLIGHT
BEGIN:STANDARD
TZOFFSETFROM:-0700
TZOFFSETTO:-0800
TZNAME:PST
DTSTART:20261101T090000
END:STANDARD
END:VTIMEZONE
BEGIN:VEVENT
DTSTART;TZID=America/Los_Angeles:20260521T123000
DTEND;TZID=America/Los_Angeles:20260521T133000
DTSTAMP:20260425T064634
CREATED:20251126T221452Z
LAST-MODIFIED:20251126T221452Z
UID:10009340-1779366600-1779370200@news.csun.edu
SUMMARY:Fundamentos del IEP: Preparando y Empoderando a los Padres para el IEP de sus Hijos
DESCRIPTION:Esta entrenamiento mensual ayudará a aprender información básica acerca del IEP\, al igual que estrategias más avanzadas sobre los pasos que puede tomar cuando está en desacuerdo con su IEP. ¡Los padres participantes recibirán una copia digital GRATUITA para ayudarle a crear su portofolio del IEP en casa! \nFechas:\n \n\n\n22 de enero\n19 de febrero\n19 de marzo\n16 de abril\n21 de mayo\n\nHora: 12:00 pm a 1:30 pm \n\nPara obtener más información\, comuníquese con Rebeca: rebeca.diaz@csun.edu o llame 818-677-6854\nPara registrarse por favor visita: https://csun.zoom.us/meeting/register/HojxF7eIQAKgAxmQ9zNnRw#/registration
URL:https://news.csun.edu/event/fundamentos-del-iep-preparando-y-empoderando-a-los-padres-para-el-iep-de-sus-hijos-6/2026-05-21/
LOCATION:Online via Zoom
CATEGORIES:Family Focus Center-Workshops and Trainings,Family Focus Resource Center
ATTACH;FMTTYPE=image/png:https://news.csun.edu/wp-content/uploads/2025/11/Fundamentos-del-IEP-Fall-1000x533-1.png
END:VEVENT
END:VCALENDAR