BEGIN:VCALENDAR
VERSION:2.0
PRODID:-//CSUN News &amp; Events - ECPv6.11.2//NONSGML v1.0//EN
CALSCALE:GREGORIAN
METHOD:PUBLISH
X-WR-CALNAME:CSUN News &amp; Events
X-ORIGINAL-URL:https://news.csun.edu
X-WR-CALDESC:Events for CSUN News &amp; Events
REFRESH-INTERVAL;VALUE=DURATION:PT1H
X-Robots-Tag:noindex
X-PUBLISHED-TTL:PT1H
BEGIN:VTIMEZONE
TZID:America/Los_Angeles
BEGIN:DAYLIGHT
TZOFFSETFROM:-0800
TZOFFSETTO:-0700
TZNAME:PDT
DTSTART:20260308T100000
END:DAYLIGHT
BEGIN:STANDARD
TZOFFSETFROM:-0700
TZOFFSETTO:-0800
TZNAME:PST
DTSTART:20261101T090000
END:STANDARD
END:VTIMEZONE
BEGIN:VEVENT
DTSTART;TZID=America/Los_Angeles:20260520T120000
DTEND;TZID=America/Los_Angeles:20260520T133000
DTSTAMP:20260421T134246
CREATED:20251118T192706Z
LAST-MODIFIED:20251118T192706Z
UID:10009266-1779278400-1779283800@news.csun.edu
SUMMARY:IEP Essentials: Empowering and Preparing Parents for Their Child’s IEP
DESCRIPTION:This monthly training will help parents learn everything from basic information about the IEP process to more advanced strategies—such as what to do when you don’t agree with your child’s IEP. Participating parents will receive a FREE digital download to help you create your own IEP binder at home! \nDates: \n\n\nJanuary 21\nFebruary 18\nMarch 18\nApril 15\nMay 20\n\n\nTime: 12:00 PM – 1:30 PM \nFor more information\, please contact Diana at diana.chulak@csun.edu or call (818) 677-5575To register\, please visit: https://csun.zoom.us/meeting/register/7Pd7HJn3QdaesvS7e2yL0g
URL:https://news.csun.edu/event/iep-essentials-empowering-and-preparing-parents-for-their-childs-iep/2026-05-20/
LOCATION:Online via Zoom
CATEGORIES:Family Focus Center-Workshops and Trainings,Family Focus Resource Center
ATTACH;FMTTYPE=image/png:https://news.csun.edu/wp-content/uploads/2025/11/IEP-Essentials-Fall-1000x533-1.png
END:VEVENT
END:VCALENDAR